BEGIN:VCALENDAR
VERSION:2.0
PRODID:-//Trust - ECPv6.15.20//NONSGML v1.0//EN
CALSCALE:GREGORIAN
METHOD:PUBLISH
X-WR-CALNAME:Trust
X-ORIGINAL-URL:https://trustdtsa.com
X-WR-CALDESC:Events for Trust
REFRESH-INTERVAL;VALUE=DURATION:PT1H
X-Robots-Tag:noindex
X-PUBLISHED-TTL:PT1H
BEGIN:VTIMEZONE
TZID:America/Los_Angeles
BEGIN:DAYLIGHT
TZOFFSETFROM:-0800
TZOFFSETTO:-0700
TZNAME:PDT
DTSTART:20240310T100000
END:DAYLIGHT
BEGIN:STANDARD
TZOFFSETFROM:-0700
TZOFFSETTO:-0800
TZNAME:PST
DTSTART:20241103T090000
END:STANDARD
BEGIN:DAYLIGHT
TZOFFSETFROM:-0800
TZOFFSETTO:-0700
TZNAME:PDT
DTSTART:20250309T100000
END:DAYLIGHT
BEGIN:STANDARD
TZOFFSETFROM:-0700
TZOFFSETTO:-0800
TZNAME:PST
DTSTART:20251102T090000
END:STANDARD
BEGIN:DAYLIGHT
TZOFFSETFROM:-0800
TZOFFSETTO:-0700
TZNAME:PDT
DTSTART:20260308T100000
END:DAYLIGHT
BEGIN:STANDARD
TZOFFSETFROM:-0700
TZOFFSETTO:-0800
TZNAME:PST
DTSTART:20261101T090000
END:STANDARD
END:VTIMEZONE
BEGIN:VEVENT
DTSTART;TZID=America/Los_Angeles:20250702T190000
DTEND;TZID=America/Los_Angeles:20250702T210000
DTSTAMP:20260425T033134
CREATED:20250605T004304Z
LAST-MODIFIED:20250605T004304Z
UID:10000541-1751482800-1751490000@trustdtsa.com
SUMMARY:4th of July Seafood Boil 7pm
DESCRIPTION:Come join us in the Trust kitchen as we host our first ever seafood boil! Put on your bibs and break open a bag with your corn\, potatoes\, sausage\, and your favorite seafood. Feel free to add on some lobster tails and king crab! Food\, wine pairing\, taxes and gratuity included. \nPurchase your tickets here.
URL:https://trustdtsa.com/event/4th-of-july-seafood-boil-7pm/
LOCATION:Trust Kitchen\, 220 E. Fourth Street\, Santa Ana\, CA\, 92701\, United States
ORGANIZER;CN="Kyle McClelland":MAILTO:Concierge@trustdtsa.com
END:VEVENT
BEGIN:VEVENT
DTSTART;TZID=America/Los_Angeles:20250703T190000
DTEND;TZID=America/Los_Angeles:20250703T213000
DTSTAMP:20260425T033134
CREATED:20250605T004334Z
LAST-MODIFIED:20250605T004334Z
UID:10000542-1751569200-1751578200@trustdtsa.com
SUMMARY:4th of July Seafood Boil 7pm
DESCRIPTION:Come join us in the Trust kitchen as we host our first ever seafood boil! Put on your bibs and break open a bag with your corn\, potatoes\, sausage\, and your favorite seafood. Feel free to add on some lobster tails and king crab! Food\, wine pairing\, taxes and gratuity included. \nPurchase your tickets here.
URL:https://trustdtsa.com/event/4th-of-july-seafood-boil-7pm-2/
LOCATION:Trust Kitchen\, 220 E. Fourth Street\, Santa Ana\, CA\, 92701\, United States
ORGANIZER;CN="Kyle McClelland":MAILTO:Concierge@trustdtsa.com
END:VEVENT
BEGIN:VEVENT
DTSTART;TZID=America/Los_Angeles:20250705T180000
DTEND;TZID=America/Los_Angeles:20250705T230000
DTSTAMP:20260425T033134
CREATED:20250604T174149Z
LAST-MODIFIED:20250604T174149Z
UID:10000538-1751738400-1751756400@trustdtsa.com
SUMMARY:Trust Dinner Party 6pm & 8:30pm
DESCRIPTION:Chef Kyle is selecting the most exciting and inspiring ingredients and putting together a dinner party for 18 of his closest friends. $250 per person\, food and wine pairings\, tax and gratuities included. \nPurchase your tickets here.
URL:https://trustdtsa.com/event/trust-dinner-party-6pm-830pm-34/
LOCATION:Trust Kitchen\, 220 E. Fourth Street\, Santa Ana\, CA\, 92701\, United States
ORGANIZER;CN="Kyle McClelland":MAILTO:Concierge@trustdtsa.com
END:VEVENT
BEGIN:VEVENT
DTSTART;TZID=America/Los_Angeles:20250708T190000
DTEND;TZID=America/Los_Angeles:20250708T210000
DTSTAMP:20260425T033134
CREATED:20250604T173500Z
LAST-MODIFIED:20250604T173500Z
UID:10000532-1752001200-1752008400@trustdtsa.com
SUMMARY:Trust Lite 7pm
DESCRIPTION:Chef Kyle is selecting the most exciting and inspiring ingredients and putting together a dinner party for 18 of his closest friends. This is a lighter version of his normal Trust Dinner Party\, featuring seven courses and two paired wines. $175 per person\, food and wine pairings\, tax and gratuities included. \nPurchase your tickets here.
URL:https://trustdtsa.com/event/trust-lite-7pm-10/
LOCATION:Trust Kitchen\, 220 E. Fourth Street\, Santa Ana\, CA\, 92701\, United States
ORGANIZER;CN="Kyle McClelland":MAILTO:Concierge@trustdtsa.com
END:VEVENT
BEGIN:VEVENT
DTSTART;TZID=America/Los_Angeles:20250709T190000
DTEND;TZID=America/Los_Angeles:20250709T223000
DTSTAMP:20260425T033134
CREATED:20250702T170104Z
LAST-MODIFIED:20250702T170104Z
UID:10000557-1752087600-1752100200@trustdtsa.com
SUMMARY:Smoke and Embers 7pm
DESCRIPTION:Come join us on the Detention patio for an evening under the stars! For the first time\, this will be a joint event hosted by the Trust and Detention 2.0 team. Chef Jason and Chef Kyle will lead the brigade in preparing a meal fully cooked under smoke and embers. $200 per person\, inclusive of food\, taxes and gratuity. Drinks will be available a la carte that evening. \nPurchase your tickets here.
URL:https://trustdtsa.com/event/smoke-and-embers-7pm-2/
LOCATION:Trust Kitchen\, 220 E. Fourth Street\, Santa Ana\, CA\, 92701\, United States
ORGANIZER;CN="Kyle McClelland":MAILTO:Concierge@trustdtsa.com
END:VEVENT
BEGIN:VEVENT
DTSTART;TZID=America/Los_Angeles:20250710T190000
DTEND;TZID=America/Los_Angeles:20250710T223000
DTSTAMP:20260425T033134
CREATED:20250702T170019Z
LAST-MODIFIED:20250702T170019Z
UID:10000556-1752174000-1752186600@trustdtsa.com
SUMMARY:Smoke and Embers 7pm
DESCRIPTION:Come join us on the Detention patio for an evening under the stars! For the first time\, this will be a joint event hosted by the Trust and Detention 2.0 team. Chef Jason and Chef Kyle will lead the brigade in preparing a meal fully cooked under smoke and embers. $200 per person\, inclusive of food\, taxes and gratuity. Drinks will be available a la carte that evening. \nPurchase your tickets here.
URL:https://trustdtsa.com/event/smoke-and-embers-7pm/
LOCATION:Trust Kitchen\, 220 E. Fourth Street\, Santa Ana\, CA\, 92701\, United States
ORGANIZER;CN="Kyle McClelland":MAILTO:Concierge@trustdtsa.com
END:VEVENT
BEGIN:VEVENT
DTSTART;TZID=America/Los_Angeles:20250711T180000
DTEND;TZID=America/Los_Angeles:20250711T230000
DTSTAMP:20260425T033134
CREATED:20250604T171211Z
LAST-MODIFIED:20250604T171211Z
UID:10000523-1752256800-1752274800@trustdtsa.com
SUMMARY:Trust Dinner Party 6pm & 8:30pm
DESCRIPTION:Chef Kyle is selecting the most exciting and inspiring ingredients and putting together a dinner party for 18 of his closest friends. $250 per person\, food and wine pairings\, tax and gratuities included. \nPurchase your tickets here.
URL:https://trustdtsa.com/event/trust-dinner-party-6pm-830pm-27/
LOCATION:Trust Kitchen\, 220 E. Fourth Street\, Santa Ana\, CA\, 92701\, United States
ORGANIZER;CN="Kyle McClelland":MAILTO:Concierge@trustdtsa.com
END:VEVENT
BEGIN:VEVENT
DTSTART;TZID=America/Los_Angeles:20250712T180000
DTEND;TZID=America/Los_Angeles:20250712T230000
DTSTAMP:20260425T033134
CREATED:20250604T171245Z
LAST-MODIFIED:20250604T171245Z
UID:10000524-1752343200-1752361200@trustdtsa.com
SUMMARY:Trust Dinner Party 6pm & 8:30pm
DESCRIPTION:Chef Kyle is selecting the most exciting and inspiring ingredients and putting together a dinner party for 18 of his closest friends. $250 per person\, food and wine pairings\, tax and gratuities included. \nPurchase your tickets here.
URL:https://trustdtsa.com/event/trust-dinner-party-6pm-830pm-28/
LOCATION:Trust Kitchen\, 220 E. Fourth Street\, Santa Ana\, CA\, 92701\, United States
ORGANIZER;CN="Kyle McClelland":MAILTO:Concierge@trustdtsa.com
END:VEVENT
BEGIN:VEVENT
DTSTART;TZID=America/Los_Angeles:20250715T190000
DTEND;TZID=America/Los_Angeles:20250715T210000
DTSTAMP:20260425T033134
CREATED:20250604T172702Z
LAST-MODIFIED:20250604T172702Z
UID:10000530-1752606000-1752613200@trustdtsa.com
SUMMARY:Summer Veggies 7pm
DESCRIPTION:One of the things that excited Chef Kyle the m out about moving to California was the produce and the farmer’s markets! Come join us in the Trust kitchen to enjoy a tasting vegetarian tasting menu with all local and summer ingredients. \nPurchase your tickets here.
URL:https://trustdtsa.com/event/summer-veggies-7pm/
LOCATION:Trust Kitchen\, 220 E. Fourth Street\, Santa Ana\, CA\, 92701\, United States
ORGANIZER;CN="Kyle McClelland":MAILTO:Concierge@trustdtsa.com
END:VEVENT
BEGIN:VEVENT
DTSTART;TZID=America/Los_Angeles:20250716T190000
DTEND;TZID=America/Los_Angeles:20250716T210000
DTSTAMP:20260425T033134
CREATED:20250702T200757Z
LAST-MODIFIED:20250702T200757Z
UID:10000559-1752692400-1752699600@trustdtsa.com
SUMMARY:Trust Lite 7pm
DESCRIPTION:Get to know Chef Kyle with a Trust Lite fare of 9 courses for $175 per person\, including food\, wine pairing\, taxes and gratuity. \nPurchase your tickets here.
URL:https://trustdtsa.com/event/trust-lite-7pm-15/
LOCATION:Trust Kitchen\, 220 E. Fourth Street\, Santa Ana\, CA\, 92701\, United States
ORGANIZER;CN="Kyle McClelland":MAILTO:Concierge@trustdtsa.com
END:VEVENT
BEGIN:VEVENT
DTSTART;TZID=America/Los_Angeles:20250717T190000
DTEND;TZID=America/Los_Angeles:20250717T213000
DTSTAMP:20260425T033134
CREATED:20250702T200521Z
LAST-MODIFIED:20250702T200521Z
UID:10000558-1752778800-1752787800@trustdtsa.com
SUMMARY:Intro to Caviar 7pm
DESCRIPTION:Chef Kyle spent part of his formative years at Caviar Russe in New York.  There he came to understand and appreciate the potential and beauty of caviar and how to incorporate it with food. Please join us in a multi course caviar dinner with a variety of caviar’s added to every course. \nPurchase your tickets here.
URL:https://trustdtsa.com/event/intro-to-caviar-7pm-7/
LOCATION:Trust Kitchen\, 220 E. Fourth Street\, Santa Ana\, CA\, 92701\, United States
ORGANIZER;CN="Kyle McClelland":MAILTO:Concierge@trustdtsa.com
END:VEVENT
BEGIN:VEVENT
DTSTART;TZID=America/Los_Angeles:20250718T180000
DTEND;TZID=America/Los_Angeles:20250718T230000
DTSTAMP:20260425T033134
CREATED:20250604T171325Z
LAST-MODIFIED:20250604T171325Z
UID:10000525-1752861600-1752879600@trustdtsa.com
SUMMARY:Trust Dinner Party 6pm & 8:30pm
DESCRIPTION:Chef Kyle is selecting the most exciting and inspiring ingredients and putting together a dinner party for 18 of his closest friends. $250 per person\, food and wine pairings\, tax and gratuities included. \nPurchase your tickets here.
URL:https://trustdtsa.com/event/trust-dinner-party-6pm-830pm-29/
LOCATION:Trust Kitchen\, 220 E. Fourth Street\, Santa Ana\, CA\, 92701\, United States
ORGANIZER;CN="Kyle McClelland":MAILTO:Concierge@trustdtsa.com
END:VEVENT
BEGIN:VEVENT
DTSTART;TZID=America/Los_Angeles:20250719T180000
DTEND;TZID=America/Los_Angeles:20250719T230000
DTSTAMP:20260425T033134
CREATED:20250604T171052Z
LAST-MODIFIED:20250604T171433Z
UID:10000522-1752948000-1752966000@trustdtsa.com
SUMMARY:Trust Dinner Party 6pm & 8:30pm
DESCRIPTION:Chef Kyle is selecting the most exciting and inspiring ingredients and putting together a dinner party for 18 of his closest friends. $250 per person\, food and wine pairings\, tax and gratuities included. \nPurchase your tickets here.
URL:https://trustdtsa.com/event/trust-dinner-party-6pm-830pm-26/
LOCATION:Trust Kitchen\, 220 E. Fourth Street\, Santa Ana\, CA\, 92701\, United States
ORGANIZER;CN="Kyle McClelland":MAILTO:Concierge@trustdtsa.com
END:VEVENT
BEGIN:VEVENT
DTSTART;TZID=America/Los_Angeles:20250722T190000
DTEND;TZID=America/Los_Angeles:20250722T210000
DTSTAMP:20260425T033134
CREATED:20250604T173522Z
LAST-MODIFIED:20250604T173557Z
UID:10000533-1753210800-1753218000@trustdtsa.com
SUMMARY:Trust Lite 7pm
DESCRIPTION:Chef Kyle is selecting the most exciting and inspiring ingredients and putting together a dinner party for 18 of his closest friends. This is a lighter version of his normal Trust Dinner Party\, featuring seven courses and two paired wines. $175 per person\, food and wine pairings\, tax and gratuities included. \nPurchase your tickets here.
URL:https://trustdtsa.com/event/trust-lite-7pm-11/
LOCATION:Trust Kitchen\, 220 E. Fourth Street\, Santa Ana\, CA\, 92701\, United States
ORGANIZER;CN="Kyle McClelland":MAILTO:Concierge@trustdtsa.com
END:VEVENT
BEGIN:VEVENT
DTSTART;TZID=America/Los_Angeles:20250723T190000
DTEND;TZID=America/Los_Angeles:20250723T213000
DTSTAMP:20260425T033134
CREATED:20250604T174002Z
LAST-MODIFIED:20250604T174002Z
UID:10000536-1753297200-1753306200@trustdtsa.com
SUMMARY:Izakaya Night: Yakitori & more! 7pm
DESCRIPTION:Join us for an intimate culinary journey\, where Chef Kyle reimagines the vibrant spirit of the Japanese Izakaya. This tasting menu is a playful exploration of seasonal ingredients and time-honored techniques\, presented with a modern twist. $200 per person all inclusive of food\, wine pairing\, taxes and gratuity. \nPurchase your tickets here.
URL:https://trustdtsa.com/event/izakaya-night-yakitori-more-7pm/
LOCATION:Trust Kitchen\, 220 E. Fourth Street\, Santa Ana\, CA\, 92701\, United States
ORGANIZER;CN="Kyle McClelland":MAILTO:Concierge@trustdtsa.com
END:VEVENT
BEGIN:VEVENT
DTSTART;TZID=America/Los_Angeles:20250724T190000
DTEND;TZID=America/Los_Angeles:20250724T213000
DTSTAMP:20260425T033134
CREATED:20250604T174025Z
LAST-MODIFIED:20250604T174025Z
UID:10000537-1753383600-1753392600@trustdtsa.com
SUMMARY:Izakaya Night: Yakitori & more! 7pm
DESCRIPTION:Join us for an intimate culinary journey\, where Chef Kyle reimagines the vibrant spirit of the Japanese Izakaya. This tasting menu is a playful exploration of seasonal ingredients and time-honored techniques\, presented with a modern twist. $200 per person all inclusive of food\, wine pairing\, taxes and gratuity. \nPurchase your tickets here.
URL:https://trustdtsa.com/event/izakaya-night-yakitori-more-7pm-2/
LOCATION:Trust Kitchen\, 220 E. Fourth Street\, Santa Ana\, CA\, 92701\, United States
ORGANIZER;CN="Kyle McClelland":MAILTO:Concierge@trustdtsa.com
END:VEVENT
BEGIN:VEVENT
DTSTART;TZID=America/Los_Angeles:20250725T180000
DTEND;TZID=America/Los_Angeles:20250725T230000
DTSTAMP:20260425T033134
CREATED:20250604T171521Z
LAST-MODIFIED:20250604T171521Z
UID:10000526-1753466400-1753484400@trustdtsa.com
SUMMARY:Trust Dinner Party 6pm & 8:30pm
DESCRIPTION:Chef Kyle is selecting the most exciting and inspiring ingredients and putting together a dinner party for 18 of his closest friends. $250 per person\, food and wine pairings\, tax and gratuities included. \nPurchase your tickets here.
URL:https://trustdtsa.com/event/trust-dinner-party-6pm-830pm-30/
LOCATION:Trust Kitchen\, 220 E. Fourth Street\, Santa Ana\, CA\, 92701\, United States
ORGANIZER;CN="Kyle McClelland":MAILTO:Concierge@trustdtsa.com
END:VEVENT
BEGIN:VEVENT
DTSTART;TZID=America/Los_Angeles:20250726T180000
DTEND;TZID=America/Los_Angeles:20250726T230000
DTSTAMP:20260425T033134
CREATED:20250604T171849Z
LAST-MODIFIED:20250604T171849Z
UID:10000527-1753552800-1753570800@trustdtsa.com
SUMMARY:Trust Dinner Party 6pm & 8:30pm
DESCRIPTION:Chef Kyle is selecting the most exciting and inspiring ingredients and putting together a dinner party for 18 of his closest friends. $250 per person\, food and wine pairings\, tax and gratuities included. \nPurchase your tickets here.
URL:https://trustdtsa.com/event/trust-dinner-party-6pm-830pm-31/
LOCATION:Trust Kitchen\, 220 E. Fourth Street\, Santa Ana\, CA\, 92701\, United States
ORGANIZER;CN="Kyle McClelland":MAILTO:Concierge@trustdtsa.com
END:VEVENT
BEGIN:VEVENT
DTSTART;TZID=America/Los_Angeles:20250729T190000
DTEND;TZID=America/Los_Angeles:20250729T210000
DTSTAMP:20260425T033134
CREATED:20250604T173634Z
LAST-MODIFIED:20250604T173634Z
UID:10000534-1753815600-1753822800@trustdtsa.com
SUMMARY:Trust Lite 7pm
DESCRIPTION:Chef Kyle is selecting the most exciting and inspiring ingredients and putting together a dinner party for 18 of his closest friends. This is a lighter version of his normal Trust Dinner Party\, featuring seven courses and two paired wines. $175 per person\, food and wine pairings\, tax and gratuities included. \nPurchase your tickets here.
URL:https://trustdtsa.com/event/trust-lite-7pm-12/
LOCATION:Trust Kitchen\, 220 E. Fourth Street\, Santa Ana\, CA\, 92701\, United States
ORGANIZER;CN="Kyle McClelland":MAILTO:Concierge@trustdtsa.com
END:VEVENT
BEGIN:VEVENT
DTSTART;TZID=America/Los_Angeles:20250730T190000
DTEND;TZID=America/Los_Angeles:20250730T213000
DTSTAMP:20260425T033134
CREATED:20250604T174415Z
LAST-MODIFIED:20250604T174415Z
UID:10000539-1753902000-1753911000@trustdtsa.com
SUMMARY:Intro to Caviar 7pm
DESCRIPTION:Chef Kyle spent part of his formative years at Caviar Russe in New York.  There he came to understand and appreciate the potential and beauty of caviar and how to incorporate it with food. Please join us in a multi course caviar dinner with a variety of caviar’s added to every course. \nPurchase your tickets here.
URL:https://trustdtsa.com/event/intro-to-caviar-7pm-5/
LOCATION:Trust Kitchen\, 220 E. Fourth Street\, Santa Ana\, CA\, 92701\, United States
ORGANIZER;CN="Kyle McClelland":MAILTO:Concierge@trustdtsa.com
END:VEVENT
BEGIN:VEVENT
DTSTART;TZID=America/Los_Angeles:20250731T190000
DTEND;TZID=America/Los_Angeles:20250731T213000
DTSTAMP:20260425T033134
CREATED:20250604T174546Z
LAST-MODIFIED:20250604T174546Z
UID:10000540-1753988400-1753997400@trustdtsa.com
SUMMARY:Ultimate Steak Dinner 7pm
DESCRIPTION:A celebration of beef\, America’s favorite protein\, featuring several of the world’s finest examples and our favorite steakhouse sides. $225 per person\, food and wine pairings\, tax and gratuities included. \nPurchase your tickets here. \n 
URL:https://trustdtsa.com/event/ultimate-steak-dinner-7pm-5/
LOCATION:Trust Kitchen\, 220 E. Fourth Street\, Santa Ana\, CA\, 92701\, United States
ORGANIZER;CN="Kyle McClelland":MAILTO:Concierge@trustdtsa.com
END:VEVENT
BEGIN:VEVENT
DTSTART;TZID=America/Los_Angeles:20250801T180000
DTEND;TZID=America/Los_Angeles:20250801T230000
DTSTAMP:20260425T033134
CREATED:20250604T171914Z
LAST-MODIFIED:20250604T171935Z
UID:10000528-1754071200-1754089200@trustdtsa.com
SUMMARY:Trust Dinner Party 6pm & 8:30pm
DESCRIPTION:Chef Kyle is selecting the most exciting and inspiring ingredients and putting together a dinner party for 18 of his closest friends. $250 per person\, food and wine pairings\, tax and gratuities included. \nPurchase your tickets here.
URL:https://trustdtsa.com/event/trust-dinner-party-6pm-830pm-32/
LOCATION:Trust Kitchen\, 220 E. Fourth Street\, Santa Ana\, CA\, 92701\, United States
END:VEVENT
BEGIN:VEVENT
DTSTART;TZID=America/Los_Angeles:20250802T180000
DTEND;TZID=America/Los_Angeles:20250802T230000
DTSTAMP:20260425T033134
CREATED:20250604T172006Z
LAST-MODIFIED:20250604T172035Z
UID:10000529-1754157600-1754175600@trustdtsa.com
SUMMARY:Trust Dinner Party 6pm & 8:30pm
DESCRIPTION:Chef Kyle is selecting the most exciting and inspiring ingredients and putting together a dinner party for 18 of his closest friends. $250 per person\, food and wine pairings\, tax and gratuities included. \nPurchase your tickets here.
URL:https://trustdtsa.com/event/trust-dinner-party-6pm-830pm-33/
LOCATION:Trust Kitchen\, 220 E. Fourth Street\, Santa Ana\, CA\, 92701\, United States
ORGANIZER;CN="Kyle McClelland":MAILTO:Concierge@trustdtsa.com
END:VEVENT
BEGIN:VEVENT
DTSTART;TZID=America/Los_Angeles:20250805T190000
DTEND;TZID=America/Los_Angeles:20250805T210000
DTSTAMP:20260425T033134
CREATED:20250713T024549Z
LAST-MODIFIED:20250713T024621Z
UID:10000560-1754420400-1754427600@trustdtsa.com
SUMMARY:Bayou Blues:  Red Hot Cajun Summer 7pm
DESCRIPTION:Given the choice to do absolutely anything he wants to do in the Trust Kitchen for a week\, Chef Kyle Romanowski chose to start the week with a Cajun feast.  if you missed our recent Seafood Boil this is your second chance\, as this event will culminate with a true Crawfish Boil.  Chef Kyle’s promised to bring the heat in New Orleans fashion.  $225 per person inclusive of food\, wine pairing\, taxes and gratuity. \nPurchase your tickets here.
URL:https://trustdtsa.com/event/bayou-blues-red-hot-cajun-summer-7pm/
LOCATION:Trust Kitchen\, 220 E. Fourth Street\, Santa Ana\, CA\, 92701\, United States
ORGANIZER;CN="Kyle McClelland":MAILTO:Concierge@trustdtsa.com
END:VEVENT
BEGIN:VEVENT
DTSTART;TZID=America/Los_Angeles:20250806T190000
DTEND;TZID=America/Los_Angeles:20250806T213000
DTSTAMP:20260425T033134
CREATED:20250713T024708Z
LAST-MODIFIED:20250713T024708Z
UID:10000561-1754506800-1754515800@trustdtsa.com
SUMMARY:Chef Romanowski's Summer Produce
DESCRIPTION:Join us in the Trust Kitchen with Chef Kyle Romanowski as he showcases his vegetarian dinner with local summer produce! $200 per person includes food\, wine pairing\, taxes and gratuity. \nPurchase your tickets here.
URL:https://trustdtsa.com/event/chef-romanowskis-summer-produce/
LOCATION:Trust Kitchen\, 220 E. Fourth Street\, Santa Ana\, CA\, 92701\, United States
ORGANIZER;CN="Kyle McClelland":MAILTO:Concierge@trustdtsa.com
END:VEVENT
BEGIN:VEVENT
DTSTART;TZID=America/Los_Angeles:20250807T190000
DTEND;TZID=America/Los_Angeles:20250807T213000
DTSTAMP:20260425T033134
CREATED:20250713T024814Z
LAST-MODIFIED:20250801T161225Z
UID:10000562-1754593200-1754602200@trustdtsa.com
SUMMARY:Kyle's Ramen Pop up 7pm
DESCRIPTION:We’ve long been committed to the art of ramen and Chef Kyle Romanowski is currently our most avid practitioner of that art.  He’s built an entire evening around this staple of Japanese comfort food.  $150 per person inclusive of food\, beverage pairing\, taxes and gratuity. \nPurchase your tickets here.
URL:https://trustdtsa.com/event/tercero-wine-dinner-7pm/
LOCATION:Trust Kitchen\, 220 E. Fourth Street\, Santa Ana\, CA\, 92701\, United States
ORGANIZER;CN="Kyle McClelland":MAILTO:Concierge@trustdtsa.com
END:VEVENT
BEGIN:VEVENT
DTSTART;TZID=America/Los_Angeles:20250808T180000
DTEND;TZID=America/Los_Angeles:20250808T223000
DTSTAMP:20260425T033134
CREATED:20250713T025025Z
LAST-MODIFIED:20250713T025025Z
UID:10000564-1754676000-1754692200@trustdtsa.com
SUMMARY:Chef Romanowsi Dinner Party 6pm & 8:30pm
DESCRIPTION:Join us in the Trust Kitchen as Chef Kyle Romanowski showcases his favorite dishes while he’s in charge for the week! $250 per person all inclusive food\, wine pairing\, taxes and gratuity. \nPurchase your tickets here.
URL:https://trustdtsa.com/event/chef-romanowsi-dinner-party-6pm-830pm-2/
LOCATION:Trust Kitchen\, 220 E. Fourth Street\, Santa Ana\, CA\, 92701\, United States
ORGANIZER;CN="Kyle McClelland":MAILTO:Concierge@trustdtsa.com
END:VEVENT
BEGIN:VEVENT
DTSTART;TZID=America/Los_Angeles:20250809T180000
DTEND;TZID=America/Los_Angeles:20250809T223000
DTSTAMP:20260425T033134
CREATED:20250713T025004Z
LAST-MODIFIED:20250713T025004Z
UID:10000563-1754762400-1754778600@trustdtsa.com
SUMMARY:Chef Romanowsi Dinner Party 6pm & 8:30pm
DESCRIPTION:Join us in the Trust Kitchen as Chef Kyle Romanowski showcases his favorite dishes while he’s in charge for the week! $250 per person all inclusive food\, wine pairing\, taxes and gratuity. \nPurchase your tickets here.
URL:https://trustdtsa.com/event/chef-romanowsi-dinner-party-6pm-830pm/
LOCATION:Trust Kitchen\, 220 E. Fourth Street\, Santa Ana\, CA\, 92701\, United States
ORGANIZER;CN="Kyle McClelland":MAILTO:Concierge@trustdtsa.com
END:VEVENT
BEGIN:VEVENT
DTSTART;TZID=America/Los_Angeles:20250813T190000
DTEND;TZID=America/Los_Angeles:20250813T213000
DTSTAMP:20260425T033134
CREATED:20250702T164810Z
LAST-MODIFIED:20250702T164810Z
UID:10000550-1755111600-1755120600@trustdtsa.com
SUMMARY:Trust Lite 7pm
DESCRIPTION:Get to know Chef Kyle with a Trust Lite fare of 9 courses for $175 per person\, including food\, wine pairing\, taxes and gratuity. \nPurchase your tickets here.
URL:https://trustdtsa.com/event/trust-lite-7pm-13/
LOCATION:Trust Kitchen\, 220 E. Fourth Street\, Santa Ana\, CA\, 92701\, United States
ORGANIZER;CN="Kyle McClelland":MAILTO:Concierge@trustdtsa.com
END:VEVENT
BEGIN:VEVENT
DTSTART;TZID=America/Los_Angeles:20250814T190000
DTEND;TZID=America/Los_Angeles:20250814T213000
DTSTAMP:20260425T033134
CREATED:20250702T164704Z
LAST-MODIFIED:20250702T164704Z
UID:10000549-1755198000-1755207000@trustdtsa.com
SUMMARY:Trust Dinner Party 7pm
DESCRIPTION:Chef Kyle is selecting the most exciting and inspiring ingredients and putting together a dinner party for 18 of his closest friends. $250 per person\, food and wine pairings\, tax and gratuities included. \nPurchase your tickets here.
URL:https://trustdtsa.com/event/trust-dinner-party-7pm-4/
LOCATION:Trust Kitchen\, 220 E. Fourth Street\, Santa Ana\, CA\, 92701\, United States
ORGANIZER;CN="Kyle McClelland":MAILTO:Concierge@trustdtsa.com
END:VEVENT
END:VCALENDAR