BEGIN:VCALENDAR
VERSION:2.0
PRODID:-//Trust - ECPv6.15.20//NONSGML v1.0//EN
CALSCALE:GREGORIAN
METHOD:PUBLISH
X-ORIGINAL-URL:https://trustdtsa.com
X-WR-CALDESC:Events for Trust
REFRESH-INTERVAL;VALUE=DURATION:PT1H
X-Robots-Tag:noindex
X-PUBLISHED-TTL:PT1H
BEGIN:VTIMEZONE
TZID:America/Los_Angeles
BEGIN:DAYLIGHT
TZOFFSETFROM:-0800
TZOFFSETTO:-0700
TZNAME:PDT
DTSTART:20240310T100000
END:DAYLIGHT
BEGIN:STANDARD
TZOFFSETFROM:-0700
TZOFFSETTO:-0800
TZNAME:PST
DTSTART:20241103T090000
END:STANDARD
BEGIN:DAYLIGHT
TZOFFSETFROM:-0800
TZOFFSETTO:-0700
TZNAME:PDT
DTSTART:20250309T100000
END:DAYLIGHT
BEGIN:STANDARD
TZOFFSETFROM:-0700
TZOFFSETTO:-0800
TZNAME:PST
DTSTART:20251102T090000
END:STANDARD
BEGIN:DAYLIGHT
TZOFFSETFROM:-0800
TZOFFSETTO:-0700
TZNAME:PDT
DTSTART:20260308T100000
END:DAYLIGHT
BEGIN:STANDARD
TZOFFSETFROM:-0700
TZOFFSETTO:-0800
TZNAME:PST
DTSTART:20261101T090000
END:STANDARD
END:VTIMEZONE
BEGIN:VEVENT
DTSTART;TZID=America/Los_Angeles:20250104T180000
DTEND;TZID=America/Los_Angeles:20250104T223000
DTSTAMP:20260425T051212
CREATED:20241120T232441Z
LAST-MODIFIED:20241120T232441Z
UID:10000397-1736013600-1736029800@trustdtsa.com
SUMMARY:Trust Dinner Party 6pm & 8:30pm Seatings
DESCRIPTION:Chef Kyle will choose from among the freshest seasonal ingredients and he and the team will put on a 12-course dinner party at which you are the guest of honor.  $250 per person\, food and wine pairings\, tax and gratuities included.  \nPurchase your tickets here.
URL:https://trustdtsa.com/event/trust-dinner-party-6pm-830pm-seatings-2/
LOCATION:Trust Kitchen\, 220 E. Fourth Street\, Santa Ana\, CA\, 92701\, United States
ORGANIZER;CN="Kyle McClelland":MAILTO:Concierge@trustdtsa.com
END:VEVENT
BEGIN:VEVENT
DTSTART;TZID=America/Los_Angeles:20250107T080000
DTEND;TZID=America/Los_Angeles:20250107T170000
DTSTAMP:20260425T051212
CREATED:20250108T011922Z
LAST-MODIFIED:20250108T011922Z
UID:10000436-1736236800-1736269200@trustdtsa.com
SUMMARY:Get to Know Chef Kyle 7pm
DESCRIPTION:Get to know Chef Kyle with a Trust Lite fare of 9 courses for $175 per person\, including food\, wine pairing\, taxes and gratuity. \nPurchase your tickets here.
URL:https://trustdtsa.com/event/get-to-know-chef-kyle-7pm-3/
LOCATION:CA
END:VEVENT
BEGIN:VEVENT
DTSTART;TZID=America/Los_Angeles:20250107T190000
DTEND;TZID=America/Los_Angeles:20250107T210000
DTSTAMP:20260425T051212
CREATED:20241120T233126Z
LAST-MODIFIED:20241120T233126Z
UID:10000400-1736276400-1736283600@trustdtsa.com
SUMMARY:Get to know Chef Kyle 7pm Seating
DESCRIPTION:Get to know Chef Kyle with a Trust Lite fare of 9 courses for $175 per person\, including food\, wine pairing\, taxes and gratuity. \nPurchase your tickets here.
URL:https://trustdtsa.com/event/get-to-know-chef-kyle-7pm-seating/
LOCATION:Trust Kitchen\, 220 E. Fourth Street\, Santa Ana\, CA\, 92701\, United States
ORGANIZER;CN="Kyle McClelland":MAILTO:Concierge@trustdtsa.com
END:VEVENT
BEGIN:VEVENT
DTSTART;TZID=America/Los_Angeles:20250108T190000
DTEND;TZID=America/Los_Angeles:20250108T210000
DTSTAMP:20260425T051212
CREATED:20241120T233251Z
LAST-MODIFIED:20241120T233251Z
UID:10000401-1736362800-1736370000@trustdtsa.com
SUMMARY:Adventures in Seafood 7pm Seating
DESCRIPTION:Chef Kyle grew up on Cape Cod.  He’s staying close to his roots at this dinner where he brings you the bounty of the sea with a Northeast slant\, served alongside the agricultural bounty of Southern California.  $225 per person\, food and wine pairings\, tax and gratuities included. \nPurchase your tickets here.
URL:https://trustdtsa.com/event/adventures-in-seafood-7pm-seating/
LOCATION:Trust Kitchen\, 220 E. Fourth Street\, Santa Ana\, CA\, 92701\, United States
ORGANIZER;CN="Kyle McClelland":MAILTO:Concierge@trustdtsa.com
END:VEVENT
BEGIN:VEVENT
DTSTART;TZID=America/Los_Angeles:20250109T180000
DTEND;TZID=America/Los_Angeles:20250109T223000
DTSTAMP:20260425T051212
CREATED:20241120T233424Z
LAST-MODIFIED:20241120T233424Z
UID:10000402-1736445600-1736461800@trustdtsa.com
SUMMARY:Adventures in Seafood 6pm & 8:30pm Seatings
DESCRIPTION:Chef Kyle grew up on Cape Cod.  He’s staying close to his roots at this dinner where he brings you the bounty of the sea with a Northeast slant\, served alongside the agricultural bounty of Southern California.  $225 per person\, food and wine pairings\, tax and gratuities included. \nPurchase your tickets here.
URL:https://trustdtsa.com/event/adventures-in-seafood-6pm-830pm-seatings/
LOCATION:Trust Kitchen\, 220 E. Fourth Street\, Santa Ana\, CA\, 92701\, United States
ORGANIZER;CN="Kyle McClelland":MAILTO:Concierge@trustdtsa.com
END:VEVENT
BEGIN:VEVENT
DTSTART;TZID=America/Los_Angeles:20250110T180000
DTEND;TZID=America/Los_Angeles:20250110T223000
DTSTAMP:20260425T051212
CREATED:20241120T233603Z
LAST-MODIFIED:20241120T233603Z
UID:10000403-1736532000-1736548200@trustdtsa.com
SUMMARY:Trust Dinner Party 6pm & 8:30pm Seatings
DESCRIPTION:Chef Kyle will choose from among the freshest seasonal ingredients and he and the team will put on a 12-course dinner party at which you are the guest of honor.  $250 per person\, food and wine pairings\, tax and gratuities included. \nPurchase your tickets here.
URL:https://trustdtsa.com/event/trust-dinner-party-6pm-830pm-seatings-4/
LOCATION:Trust Kitchen\, 220 E. Fourth Street\, Santa Ana\, CA\, 92701\, United States
ORGANIZER;CN="Kyle McClelland":MAILTO:Concierge@trustdtsa.com
END:VEVENT
BEGIN:VEVENT
DTSTART;TZID=America/Los_Angeles:20250111T180000
DTEND;TZID=America/Los_Angeles:20250111T223000
DTSTAMP:20260425T051212
CREATED:20241120T233740Z
LAST-MODIFIED:20241120T233740Z
UID:10000404-1736618400-1736634600@trustdtsa.com
SUMMARY:Trust Dinner Party 6pm & 8:30pm Seatings
DESCRIPTION:https://www.exploretock.com/trustdtsa/search?date=2025-01-10&size=2&time=19%3A30 \nhttps://www.exploretock.com/trustdtsa/search?date=2025-01-10&size=2&time=19%3A30
URL:https://trustdtsa.com/event/trust-dinner-party-6pm-830pm-seatings-5/
LOCATION:Trust Kitchen\, 220 E. Fourth Street\, Santa Ana\, CA\, 92701\, United States
ORGANIZER;CN="Kyle McClelland":MAILTO:Concierge@trustdtsa.com
END:VEVENT
BEGIN:VEVENT
DTSTART;TZID=America/Los_Angeles:20250114T190000
DTEND;TZID=America/Los_Angeles:20250114T213000
DTSTAMP:20260425T051212
CREATED:20241120T234018Z
LAST-MODIFIED:20241120T234018Z
UID:10000405-1736881200-1736890200@trustdtsa.com
SUMMARY:Intro to Caviar 7pm Seating
DESCRIPTION:Chef Kyle spent part of his formative years at Caviar Russe in New York.  There he came to understand and appreciate the potential and beauty of caviar.  He has chosen to use his first night as the executive chef of the Trust Kitchen to share with you the many facets of this delicacy.  $275 per person\, food and wine pairings\, tax and gratuities included. \nPurchase your tickets here.
URL:https://trustdtsa.com/event/intro-to-caviar-7pm-seating/
LOCATION:Trust Kitchen\, 220 E. Fourth Street\, Santa Ana\, CA\, 92701\, United States
ORGANIZER;CN="Kyle McClelland":MAILTO:Concierge@trustdtsa.com
END:VEVENT
BEGIN:VEVENT
DTSTART;TZID=America/Los_Angeles:20250115T190000
DTEND;TZID=America/Los_Angeles:20250115T213000
DTSTAMP:20260425T051212
CREATED:20241120T234053Z
LAST-MODIFIED:20241120T234053Z
UID:10000406-1736967600-1736976600@trustdtsa.com
SUMMARY:Intro to Caviar 7pm Seating
DESCRIPTION:Chef Kyle spent part of his formative years at Caviar Russe in New York.  There he came to understand and appreciate the potential and beauty of caviar.  He has chosen to use his first night as the executive chef of the Trust Kitchen to share with you the many facets of this delicacy.  $275 per person\, food and wine pairings\, tax and gratuities included. \nPurchase your tickets here.
URL:https://trustdtsa.com/event/intro-to-caviar-7pm-seating-2/
LOCATION:Trust Kitchen\, 220 E. Fourth Street\, Santa Ana\, CA\, 92701\, United States
ORGANIZER;CN="Kyle McClelland":MAILTO:Concierge@trustdtsa.com
END:VEVENT
BEGIN:VEVENT
DTSTART;TZID=America/Los_Angeles:20250116T180000
DTEND;TZID=America/Los_Angeles:20250116T223000
DTSTAMP:20260425T051212
CREATED:20241120T234214Z
LAST-MODIFIED:20250110T233558Z
UID:10000407-1737050400-1737066600@trustdtsa.com
SUMMARY:Explore the World of Tins 7pm Seating
DESCRIPTION:Have you ever been lucky enough to enjoy tinned octopus\, or mussel or sea bass conserva in a tapas bar in Spain\, perhaps with a glass of Cava or Albariño or one of those wicked Spanish Gin & Tonics to wash it down?  If so\, you know that seafood conserva is no joke.  Although seafood conserva is admittedly more popular in Europe and Asia\, the United States is slowly catching on to the notion that tuna isn’t the only worthwhile fish in a can\, and here\, restaurants are leading the way.  At Saltie Girl\, which Chef Kyle opened in Boston in 2016\, he curated a list of over 160 tins\, i.e.\, the “largest tinned seafood collection in New England.”  We’ve asked him to create for us a 13-course offering incorporating some of the best tins from around the world.  $225 per person including food\, wine pairing\, taxes and gratuity. \nPurchase your tickets here.
URL:https://trustdtsa.com/event/explore-the-world-of-tins-6pm-830pm-seatings/
LOCATION:Trust Kitchen\, 220 E. Fourth Street\, Santa Ana\, CA\, 92701\, United States
ORGANIZER;CN="Kyle McClelland":MAILTO:Concierge@trustdtsa.com
END:VEVENT
BEGIN:VEVENT
DTSTART;TZID=America/Los_Angeles:20250117T180000
DTEND;TZID=America/Los_Angeles:20250117T223000
DTSTAMP:20260425T051212
CREATED:20241120T234450Z
LAST-MODIFIED:20241120T234518Z
UID:10000408-1737136800-1737153000@trustdtsa.com
SUMMARY:Trust Dinner Party 6pm & 8:30pm Seatings
DESCRIPTION:Chef Kyle will choose from among the freshest seasonal ingredients and he and the team will put on a 12-course dinner party at which you are the guest of honor.  $250 per person\, food and wine pairings\, tax and gratuities included. \nPurchase your tickets here. \n 
URL:https://trustdtsa.com/event/trust-dinner-party-6pm-830pm-seatings-6/
LOCATION:Trust Kitchen\, 220 E. Fourth Street\, Santa Ana\, CA\, 92701\, United States
ORGANIZER;CN="Kyle McClelland":MAILTO:Concierge@trustdtsa.com
END:VEVENT
BEGIN:VEVENT
DTSTART;TZID=America/Los_Angeles:20250118T180000
DTEND;TZID=America/Los_Angeles:20250118T223000
DTSTAMP:20260425T051212
CREATED:20241120T234514Z
LAST-MODIFIED:20241120T234558Z
UID:10000409-1737223200-1737239400@trustdtsa.com
SUMMARY:Trust Dinner Party 6pm & 8:30pm Seatings
DESCRIPTION:Chef Kyle will choose from among the freshest seasonal ingredients and he and the team will put on a 12-course dinner party at which you are the guest of honor.  $250 per person\, food and wine pairings\, tax and gratuities included. \nPurchase your tickets here. \n  \n 
URL:https://trustdtsa.com/event/trust-dinner-party-6pm-830pm-seatings-7/
LOCATION:Trust Kitchen\, 220 E. Fourth Street\, Santa Ana\, CA\, 92701\, United States
ORGANIZER;CN="Kyle McClelland":MAILTO:Concierge@trustdtsa.com
END:VEVENT
BEGIN:VEVENT
DTSTART;TZID=America/Los_Angeles:20250121T190000
DTEND;TZID=America/Los_Angeles:20250121T210000
DTSTAMP:20260425T051212
CREATED:20241120T234710Z
LAST-MODIFIED:20241120T234710Z
UID:10000410-1737486000-1737493200@trustdtsa.com
SUMMARY:Battledish: Farmer's Market 7pm Seating
DESCRIPTION:Three chefs\, each chef picks four ingredients\, and each ingredient gets its own dish. We never let the guests know who made which dish but at the end we always ask each person what their favorite dish of the evening is. We tabulate the results and a Battledish winner is declared. This is a vegetarian dinner! $200 per person\, all food\, wine\, tax\, and gratuity included. \nPurchase your tickets here.
URL:https://trustdtsa.com/event/battledish-farmers-market-7pm-seating/
LOCATION:Trust Kitchen\, 220 E. Fourth Street\, Santa Ana\, CA\, 92701\, United States
ORGANIZER;CN="Kyle McClelland":MAILTO:Concierge@trustdtsa.com
END:VEVENT
BEGIN:VEVENT
DTSTART;TZID=America/Los_Angeles:20250122T190000
DTEND;TZID=America/Los_Angeles:20250122T213000
DTSTAMP:20260425T051212
CREATED:20241120T234906Z
LAST-MODIFIED:20241120T234906Z
UID:10000411-1737572400-1737581400@trustdtsa.com
SUMMARY:Ultimate Surf and Turf 7pm Seating
DESCRIPTION:Chef Kyle will curate 13 courses from the land and the sea for the ultimate surf and turf experience. $250 per person all inclusive of food\, wine pairing\, taxes and gratuity.  \nPurchase your tickets here.
URL:https://trustdtsa.com/event/ultimate-surf-and-turf-7pm-seating/
LOCATION:Trust Kitchen\, 220 E. Fourth Street\, Santa Ana\, CA\, 92701\, United States
ORGANIZER;CN="Kyle McClelland":MAILTO:Concierge@trustdtsa.com
END:VEVENT
BEGIN:VEVENT
DTSTART;TZID=America/Los_Angeles:20250123T180000
DTEND;TZID=America/Los_Angeles:20250123T223000
DTSTAMP:20260425T051212
CREATED:20241120T234942Z
LAST-MODIFIED:20250110T233527Z
UID:10000412-1737655200-1737671400@trustdtsa.com
SUMMARY:Ultimate Surf and Turf 7pm Seating
DESCRIPTION:Chef Kyle will curate 13 courses from the land and the sea for the ultimate surf and turf experience. $250 per person all inclusive of food\, wine pairing\, taxes and gratuity.  \nPurchase your tickets here.
URL:https://trustdtsa.com/event/ultimate-surf-and-turf-6pm-830pm-seatings/
LOCATION:Trust Kitchen\, 220 E. Fourth Street\, Santa Ana\, CA\, 92701\, United States
ORGANIZER;CN="Kyle McClelland":MAILTO:Concierge@trustdtsa.com
END:VEVENT
BEGIN:VEVENT
DTSTART;TZID=America/Los_Angeles:20250124T180000
DTEND;TZID=America/Los_Angeles:20250124T223000
DTSTAMP:20260425T051212
CREATED:20241120T235131Z
LAST-MODIFIED:20241120T235131Z
UID:10000413-1737741600-1737757800@trustdtsa.com
SUMMARY:Trust Dinner Party 6pm & 8:30pm Seatings
DESCRIPTION:Chef Kyle will choose from among the freshest seasonal ingredients and he and the team will put on a 12-course dinner party at which you are the guest of honor.  $250 per person\, food and wine pairings\, tax and gratuities included. \nPurchase your tickets here.
URL:https://trustdtsa.com/event/trust-dinner-party-6pm-830pm-seatings-8/
LOCATION:Trust Kitchen\, 220 E. Fourth Street\, Santa Ana\, CA\, 92701\, United States
ORGANIZER;CN="Kyle McClelland":MAILTO:Concierge@trustdtsa.com
END:VEVENT
BEGIN:VEVENT
DTSTART;TZID=America/Los_Angeles:20250125T180000
DTEND;TZID=America/Los_Angeles:20250125T223000
DTSTAMP:20260425T051212
CREATED:20241120T235218Z
LAST-MODIFIED:20241120T235218Z
UID:10000414-1737828000-1737844200@trustdtsa.com
SUMMARY:Trust Dinner Party 6pm & 8:30pm
DESCRIPTION:Chef Kyle will choose from among the freshest seasonal ingredients and he and the team will put on a 12-course dinner party at which you are the guest of honor.  $250 per person\, food and wine pairings\, tax and gratuities included. \nPurchase your tickets here. \n 
URL:https://trustdtsa.com/event/trust-dinner-party-6pm-830pm-2/
LOCATION:Trust Kitchen\, 220 E. Fourth Street\, Santa Ana\, CA\, 92701\, United States
ORGANIZER;CN="Kyle McClelland":MAILTO:Concierge@trustdtsa.com
END:VEVENT
BEGIN:VEVENT
DTSTART;TZID=America/Los_Angeles:20250128T190000
DTEND;TZID=America/Los_Angeles:20250128T210000
DTSTAMP:20260425T051213
CREATED:20241120T235633Z
LAST-MODIFIED:20241120T235633Z
UID:10000417-1738090800-1738098000@trustdtsa.com
SUMMARY:Get to know Chef Kyle 7pm Seating
DESCRIPTION:Get to know Chef Kyle with a Trust Lite fare of 9 courses for $175 per person\, including food\, wine pairing\, taxes and gratuity. \nPurchase your tickets here.
URL:https://trustdtsa.com/event/get-to-know-chef-kyle-7pm-seating-2/
LOCATION:Trust Kitchen\, 220 E. Fourth Street\, Santa Ana\, CA\, 92701\, United States
ORGANIZER;CN="Kyle McClelland":MAILTO:Concierge@trustdtsa.com
END:VEVENT
BEGIN:VEVENT
DTSTART;TZID=America/Los_Angeles:20250129T190000
DTEND;TZID=America/Los_Angeles:20250129T213000
DTSTAMP:20260425T051213
CREATED:20241120T235438Z
LAST-MODIFIED:20241120T235438Z
UID:10000415-1738177200-1738186200@trustdtsa.com
SUMMARY:Adventures in Seafood 7pm Seating
DESCRIPTION:Chef Kyle grew up on Cape Cod.  He’s staying close to his roots at this dinner where he brings you the bounty of the sea with a Northeast slant\, served alongside the agricultural bounty of Southern California.  $225 per person\, food and wine pairings\, tax and gratuities included. \nPurchase your tickets here.
URL:https://trustdtsa.com/event/adventures-in-seafood-7pm-seating-2/
LOCATION:Trust Kitchen\, 220 E. Fourth Street\, Santa Ana\, CA\, 92701\, United States
ORGANIZER;CN="Kyle McClelland":MAILTO:Concierge@trustdtsa.com
END:VEVENT
BEGIN:VEVENT
DTSTART;TZID=America/Los_Angeles:20250130T180000
DTEND;TZID=America/Los_Angeles:20250130T223000
DTSTAMP:20260425T051213
CREATED:20241120T235518Z
LAST-MODIFIED:20250110T233452Z
UID:10000416-1738260000-1738276200@trustdtsa.com
SUMMARY:Adventures in Seafood 7pm Seating
DESCRIPTION:Chef Kyle grew up on Cape Cod.  He’s staying close to his roots at this dinner where he brings you the bounty of the sea with a Northeast slant\, served alongside the agricultural bounty of Southern California.  $225 per person\, food and wine pairings\, tax and gratuities included. \nPurchase your tickets here.
URL:https://trustdtsa.com/event/adventures-in-seafood-6pm-830pm-seatings-2/
LOCATION:Trust Kitchen\, 220 E. Fourth Street\, Santa Ana\, CA\, 92701\, United States
ORGANIZER;CN="Kyle McClelland":MAILTO:Concierge@trustdtsa.com
END:VEVENT
BEGIN:VEVENT
DTSTART;TZID=America/Los_Angeles:20250131T180000
DTEND;TZID=America/Los_Angeles:20250131T223000
DTSTAMP:20260425T051213
CREATED:20241120T235825Z
LAST-MODIFIED:20241120T235825Z
UID:10000418-1738346400-1738362600@trustdtsa.com
SUMMARY:Trust Dinner Party 6pm & 8:30pm Seatings
DESCRIPTION:Chef Kyle will choose from among the freshest seasonal ingredients and he and the team will put on a 12-course dinner party at which you are the guest of honor.  $250 per person\, food and wine pairings\, tax and gratuities included. \nPurchase your tickets here.
URL:https://trustdtsa.com/event/trust-dinner-party-6pm-830pm-seatings-9/
LOCATION:Trust Kitchen\, 220 E. Fourth Street\, Santa Ana\, CA\, 92701\, United States
ORGANIZER;CN="Kyle McClelland":MAILTO:Concierge@trustdtsa.com
END:VEVENT
BEGIN:VEVENT
DTSTART;TZID=America/Los_Angeles:20250201T080000
DTEND;TZID=America/Los_Angeles:20250201T170000
DTSTAMP:20260425T051213
CREATED:20250201T204214Z
LAST-MODIFIED:20250201T204214Z
UID:10000442-1738396800-1738429200@trustdtsa.com
SUMMARY:Kyle's Dinner Party 6pm & 8:30pm
DESCRIPTION:Chef Kyle will choose from among the freshest seasonal ingredients and he and the team will put on dinner party at which you are the guest of honor.  $250 per person\, food and wine pairings\, tax and gratuities included.  \nPurchase your tickets here.
URL:https://trustdtsa.com/event/kyles-dinner-party-6pm-830pm-2/
LOCATION:Trust Kitchen\, 220 E. Fourth Street\, Santa Ana\, CA\, 92701\, United States
ORGANIZER;CN="Kyle McClelland":MAILTO:Concierge@trustdtsa.com
END:VEVENT
BEGIN:VEVENT
DTSTART;TZID=America/Los_Angeles:20250201T080000
DTEND;TZID=America/Los_Angeles:20250201T170000
DTSTAMP:20260425T051213
CREATED:20250201T204643Z
LAST-MODIFIED:20250201T204643Z
UID:10000445-1738396800-1738429200@trustdtsa.com
SUMMARY:Kyle's Dinner Party 6pm & 8:30pm
DESCRIPTION:Chef Kyle will choose from among the freshest seasonal ingredients and he and the team will put on dinner party at which you are the guest of honor.  $250 per person\, food and wine pairings\, tax and gratuities included. \nPurchase your tickets here.
URL:https://trustdtsa.com/event/kyles-dinner-party-6pm-830pm-4/
LOCATION:CA
END:VEVENT
BEGIN:VEVENT
DTSTART;TZID=America/Los_Angeles:20250201T180000
DTEND;TZID=America/Los_Angeles:20250201T230000
DTSTAMP:20260425T051213
CREATED:20250108T004852Z
LAST-MODIFIED:20250108T004852Z
UID:10000419-1738432800-1738450800@trustdtsa.com
SUMMARY:Trust Dinner Party 6pm & 8:30pm
DESCRIPTION:Chef Kyle will choose from among the freshest seasonal ingredients and he and the team will put on a 12-course dinner party at which you are the guest of honor.  $250 per person\, food and wine pairings\, tax and gratuities included. \nPurchase your tickets here.
URL:https://trustdtsa.com/event/trust-dinner-party-6pm-830pm-3/
LOCATION:Trust Kitchen\, 220 E. Fourth Street\, Santa Ana\, CA\, 92701\, United States
ORGANIZER;CN="Kyle McClelland":MAILTO:Concierge@trustdtsa.com
END:VEVENT
BEGIN:VEVENT
DTSTART;TZID=America/Los_Angeles:20250204T190000
DTEND;TZID=America/Los_Angeles:20250204T213000
DTSTAMP:20260425T051213
CREATED:20250108T005108Z
LAST-MODIFIED:20250108T005108Z
UID:10000420-1738695600-1738704600@trustdtsa.com
SUMMARY:Get to Know Chef Kyle 7pm
DESCRIPTION:Get to know Chef Kyle with a Trust Lite fare of 9 courses for $175 per person\, including food\, wine pairing\, taxes and gratuity. \nPurchase your tickets here.
URL:https://trustdtsa.com/event/get-to-know-chef-kyle-7pm/
LOCATION:Trust Kitchen\, 220 E. Fourth Street\, Santa Ana\, CA\, 92701\, United States
ORGANIZER;CN="Kyle McClelland":MAILTO:Concierge@trustdtsa.com
END:VEVENT
BEGIN:VEVENT
DTSTART;TZID=America/Los_Angeles:20250205T190000
DTEND;TZID=America/Los_Angeles:20250205T213000
DTSTAMP:20260425T051213
CREATED:20250108T005214Z
LAST-MODIFIED:20250108T005214Z
UID:10000421-1738782000-1738791000@trustdtsa.com
SUMMARY:Road Trip: New England 7pm
DESCRIPTION:Come join us in the Trust Kitchen while Chef Kyle brings us back to his New England roots delivering all the classics and staples you wouldn’t want to miss. $225 per person\, taxes\, gratuity and wine pairing included. \nPurchase your tickets here.
URL:https://trustdtsa.com/event/road-trip-new-england-7pm/
LOCATION:Trust Kitchen\, 220 E. Fourth Street\, Santa Ana\, CA\, 92701\, United States
ORGANIZER;CN="Kyle McClelland":MAILTO:Concierge@trustdtsa.com
END:VEVENT
BEGIN:VEVENT
DTSTART;TZID=America/Los_Angeles:20250206T190000
DTEND;TZID=America/Los_Angeles:20250206T213000
DTSTAMP:20260425T051213
CREATED:20250108T005319Z
LAST-MODIFIED:20250108T005319Z
UID:10000422-1738868400-1738877400@trustdtsa.com
SUMMARY:Road Trip: New England 7pm
DESCRIPTION:Come join us in the Trust Kitchen while Chef Kyle brings us back to his New England roots delivering all the classics and staples you wouldn’t want to miss. $225 per person\, taxes\, gratuity and wine pairing included. \nPurchase your tickets here.
URL:https://trustdtsa.com/event/road-trip-new-england-7pm-2/
LOCATION:Trust Kitchen\, 220 E. Fourth Street\, Santa Ana\, CA\, 92701\, United States
ORGANIZER;CN="Kyle McClelland":MAILTO:Concierge@trustdtsa.com
END:VEVENT
BEGIN:VEVENT
DTSTART;TZID=America/Los_Angeles:20250207T180000
DTEND;TZID=America/Los_Angeles:20250207T223000
DTSTAMP:20260425T051213
CREATED:20250108T010204Z
LAST-MODIFIED:20250108T010204Z
UID:10000423-1738951200-1738967400@trustdtsa.com
SUMMARY:Trust Dinner Party 6pm & 8:30pm
DESCRIPTION:Chef Kyle will choose from among the freshest seasonal ingredients and he and the team will put on dinner party at which you are the guest of honor.  $250 per person\, food and wine pairings\, tax and gratuities included. \nPurchase your tickets here.
URL:https://trustdtsa.com/event/trust-dinner-party-6pm-830pm-4/
LOCATION:Trust Kitchen\, 220 E. Fourth Street\, Santa Ana\, CA\, 92701\, United States
ORGANIZER;CN="Kyle McClelland":MAILTO:Concierge@trustdtsa.com
END:VEVENT
BEGIN:VEVENT
DTSTART;TZID=America/Los_Angeles:20250208T180000
DTEND;TZID=America/Los_Angeles:20250208T230000
DTSTAMP:20260425T051213
CREATED:20250108T010300Z
LAST-MODIFIED:20250108T010300Z
UID:10000424-1739037600-1739055600@trustdtsa.com
SUMMARY:Trust Dinner Party 6pm & 8:30pm
DESCRIPTION:Chef Kyle will choose from among the freshest seasonal ingredients and he and the team will put on dinner party at which you are the guest of honor.  $250 per person\, food and wine pairings\, tax and gratuities included. \nPurchase your tickets here.
URL:https://trustdtsa.com/event/trust-dinner-party-6pm-830pm-5/
LOCATION:Trust Kitchen\, 220 E. Fourth Street\, Santa Ana\, CA\, 92701\, United States
ORGANIZER;CN="Kyle McClelland":MAILTO:Concierge@trustdtsa.com
END:VEVENT
BEGIN:VEVENT
DTSTART;TZID=America/Los_Angeles:20250211T190000
DTEND;TZID=America/Los_Angeles:20250211T213000
DTSTAMP:20260425T051213
CREATED:20250108T010434Z
LAST-MODIFIED:20250108T010434Z
UID:10000425-1739300400-1739309400@trustdtsa.com
SUMMARY:Pasta is for Lovers 7pm
DESCRIPTION:A feast of lovingly prepared pastas\, and more\, alternated with veggies and lighter dishes. $200 per person\, food and beverage pairings\, tax and gratuities included.  \nPurchase your tickets here.
URL:https://trustdtsa.com/event/pasta-is-for-lovers-7pm/
LOCATION:Trust Kitchen\, 220 E. Fourth Street\, Santa Ana\, CA\, 92701\, United States
ORGANIZER;CN="Kyle McClelland":MAILTO:Concierge@trustdtsa.com
END:VEVENT
END:VCALENDAR