BEGIN:VCALENDAR
VERSION:2.0
PRODID:-//Trust - ECPv6.15.20//NONSGML v1.0//EN
CALSCALE:GREGORIAN
METHOD:PUBLISH
X-WR-CALNAME:Trust
X-ORIGINAL-URL:https://trustdtsa.com
X-WR-CALDESC:Events for Trust
REFRESH-INTERVAL;VALUE=DURATION:PT1H
X-Robots-Tag:noindex
X-PUBLISHED-TTL:PT1H
BEGIN:VTIMEZONE
TZID:America/Los_Angeles
BEGIN:DAYLIGHT
TZOFFSETFROM:-0800
TZOFFSETTO:-0700
TZNAME:PDT
DTSTART:20230312T100000
END:DAYLIGHT
BEGIN:STANDARD
TZOFFSETFROM:-0700
TZOFFSETTO:-0800
TZNAME:PST
DTSTART:20231105T090000
END:STANDARD
BEGIN:DAYLIGHT
TZOFFSETFROM:-0800
TZOFFSETTO:-0700
TZNAME:PDT
DTSTART:20240310T100000
END:DAYLIGHT
BEGIN:STANDARD
TZOFFSETFROM:-0700
TZOFFSETTO:-0800
TZNAME:PST
DTSTART:20241103T090000
END:STANDARD
BEGIN:DAYLIGHT
TZOFFSETFROM:-0800
TZOFFSETTO:-0700
TZNAME:PDT
DTSTART:20250309T100000
END:DAYLIGHT
BEGIN:STANDARD
TZOFFSETFROM:-0700
TZOFFSETTO:-0800
TZNAME:PST
DTSTART:20251102T090000
END:STANDARD
END:VTIMEZONE
BEGIN:VEVENT
DTSTART;TZID=America/Los_Angeles:20240727T180000
DTEND;TZID=America/Los_Angeles:20240727T223000
DTSTAMP:20260425T035715
CREATED:20240604T044551Z
LAST-MODIFIED:20240604T044551Z
UID:10000283-1722103200-1722119400@trustdtsa.com
SUMMARY:Trust Dinner Party 6:00 pm and 8:30 pm Seatings
DESCRIPTION:Chef Justin is selecting the most exciting and inspiring ingredients and putting together a dinner party for 18 of his closest friends. $250 per person\, food and wine pairings\, tax and gratuities included. \nPurchase your tickets here.
URL:https://trustdtsa.com/event/trust-dinner-party-600-pm-and-830-pm-seatings-36/
LOCATION:Trust Kitchen\, 220 E. Fourth Street\, Santa Ana\, CA\, 92701\, United States
ORGANIZER;CN="Kyle McClelland":MAILTO:Concierge@trustdtsa.com
END:VEVENT
BEGIN:VEVENT
DTSTART;TZID=America/Los_Angeles:20240726T180000
DTEND;TZID=America/Los_Angeles:20240726T223000
DTSTAMP:20260425T035715
CREATED:20240604T044602Z
LAST-MODIFIED:20240604T044602Z
UID:10000282-1722016800-1722033000@trustdtsa.com
SUMMARY:Trust Dinner Party 6:00 pm and 8:30 pm Seatings
DESCRIPTION:Chef Justin is selecting the most exciting and inspiring ingredients and putting together a dinner party for 18 of his closest friends. $250 per person\, food and wine pairings\, tax and gratuities included. \nPurchase your tickets here.
URL:https://trustdtsa.com/event/trust-dinner-party-600-pm-and-830-pm-seatings-37/
LOCATION:Trust Kitchen\, 220 E. Fourth Street\, Santa Ana\, CA\, 92701\, United States
ORGANIZER;CN="Kyle McClelland":MAILTO:Concierge@trustdtsa.com
END:VEVENT
BEGIN:VEVENT
DTSTART;TZID=America/Los_Angeles:20240725T183000
DTEND;TZID=America/Los_Angeles:20240725T203000
DTSTAMP:20260425T035715
CREATED:20240604T044631Z
LAST-MODIFIED:20240604T044631Z
UID:10000290-1721932200-1721939400@trustdtsa.com
SUMMARY:Spanish Tapas 6:30 pm Seating
DESCRIPTION:Chef Justin takes inspiration from the Pintxos in San Sebastián and the Tapas in Barcelona in this laid back evening of high end snacks.The hands-on eating tradition of Spanish cuisine done with the usual standard of luxury items accustomed to Trust. Big flavors\, relaxed setting and great Spanish wines. $185 per ticket inclusive of all food\, wine pairings\, tax\, and gratuity. \nPurchase your tickets here.
URL:https://trustdtsa.com/event/spanish-tapas-630-pm-seating-2/
LOCATION:Trust Kitchen\, 220 E. Fourth Street\, Santa Ana\, CA\, 92701\, United States
ORGANIZER;CN="Kyle McClelland":MAILTO:Concierge@trustdtsa.com
END:VEVENT
BEGIN:VEVENT
DTSTART;TZID=America/Los_Angeles:20240724T180000
DTEND;TZID=America/Los_Angeles:20240724T223000
DTSTAMP:20260425T035715
CREATED:20240627T215717Z
LAST-MODIFIED:20240627T215755Z
UID:10000294-1721844000-1721860200@trustdtsa.com
SUMMARY:Adventures in Seafood 6:00 pm and 8:30 pm Seatings
DESCRIPTION:An evening for all things seafood from our friends at International Marine Products located in downtown L.A.  They distribute the best seafood we have been able to find.  Each day they receive fish from some of the world’s top sustainable farmed fisheries\, as well as Tokyo’s world famous Tsukiji fish market.  The menu will be created based on what the seas yield.  $225 per person including food\, wine pairings\, tax and gratuity. \nPurchase your tickets here.
URL:https://trustdtsa.com/event/adventures-in-seafood-600-pm-and-830-pm-seatings/
LOCATION:Trust Kitchen\, 220 E. Fourth Street\, Santa Ana\, CA\, 92701\, United States
ORGANIZER;CN="Kyle McClelland":MAILTO:Concierge@trustdtsa.com
END:VEVENT
BEGIN:VEVENT
DTSTART;TZID=America/Los_Angeles:20240723T183000
DTEND;TZID=America/Los_Angeles:20240723T203000
DTSTAMP:20260425T035715
CREATED:20240604T044643Z
LAST-MODIFIED:20240604T044643Z
UID:10000289-1721759400-1721766600@trustdtsa.com
SUMMARY:Adventures in Seafood 6:30 pm Seating
DESCRIPTION:An evening for all things seafood from our friends at International Marine Products located in downtown L.A.  They distribute the best seafood we have been able to find.  Each day they receive fish from some of the world’s top sustainable farmed fisheries\, as well as Tokyo’s world famous Tsukiji fish market.  The menu will be created based on what the seas yield.  $225 per person including food\, wine pairings\, tax and gratuity. \nPurchase your tickets here.
URL:https://trustdtsa.com/event/adventures-in-seafood-630-pm-seating-3/
LOCATION:Trust Kitchen\, 220 E. Fourth Street\, Santa Ana\, CA\, 92701\, United States
ORGANIZER;CN="Kyle McClelland":MAILTO:Concierge@trustdtsa.com
END:VEVENT
BEGIN:VEVENT
DTSTART;TZID=America/Los_Angeles:20240720T180000
DTEND;TZID=America/Los_Angeles:20240720T223000
DTSTAMP:20260425T035715
CREATED:20240604T044650Z
LAST-MODIFIED:20240604T044650Z
UID:10000281-1721498400-1721514600@trustdtsa.com
SUMMARY:Trust Dinner Party 6:00 pm and 8:30 pm Seatings
DESCRIPTION:Chef Justin is selecting the most exciting and inspiring ingredients and putting together a dinner party for 18 of his closest friends. $250 per person\, food and wine pairings\, tax and gratuities included. \nPurchase your tickets here.
URL:https://trustdtsa.com/event/trust-dinner-party-600-pm-and-830-pm-seatings-39/
LOCATION:Trust Kitchen\, 220 E. Fourth Street\, Santa Ana\, CA\, 92701\, United States
ORGANIZER;CN="Kyle McClelland":MAILTO:Concierge@trustdtsa.com
END:VEVENT
BEGIN:VEVENT
DTSTART;TZID=America/Los_Angeles:20240719T180000
DTEND;TZID=America/Los_Angeles:20240719T223000
DTSTAMP:20260425T035715
CREATED:20240604T044659Z
LAST-MODIFIED:20240604T044659Z
UID:10000284-1721412000-1721428200@trustdtsa.com
SUMMARY:Trust Dinner Party 6:00 pm and 8:30 pm Seatings
DESCRIPTION:Chef Justin is selecting the most exciting and inspiring ingredients and putting together a dinner party for 18 of his closest friends. $250 per person\, food and wine pairings\, tax and gratuities included. \nPurchase your tickets here.
URL:https://trustdtsa.com/event/trust-dinner-party-600-pm-and-830-pm-seatings-40/
LOCATION:Trust Kitchen\, 220 E. Fourth Street\, Santa Ana\, CA\, 92701\, United States
ORGANIZER;CN="Kyle McClelland":MAILTO:Concierge@trustdtsa.com
END:VEVENT
BEGIN:VEVENT
DTSTART;TZID=America/Los_Angeles:20240718T183000
DTEND;TZID=America/Los_Angeles:20240718T203000
DTSTAMP:20260425T035715
CREATED:20240713T201037Z
LAST-MODIFIED:20240713T201037Z
UID:10000278-1721327400-1721334600@trustdtsa.com
SUMMARY:Trust Dinner Party 6:30 pm Seating
DESCRIPTION:Chef Justin is selecting the most exciting and inspiring ingredients and putting together a dinner party for 18 of his closest friends. $250 per person\, food and wine pairings\, tax and gratuities included. \nPurchase your tickets here.
URL:https://trustdtsa.com/event/trust-dinner-party-630-pm-seating/
LOCATION:Trust Kitchen\, 220 E. Fourth Street\, Santa Ana\, CA\, 92701\, United States
ORGANIZER;CN="Kyle McClelland":MAILTO:Concierge@trustdtsa.com
END:VEVENT
BEGIN:VEVENT
DTSTART;TZID=America/Los_Angeles:20240717T183000
DTEND;TZID=America/Los_Angeles:20240717T203000
DTSTAMP:20260425T035715
CREATED:20240604T044707Z
LAST-MODIFIED:20240604T044707Z
UID:10000288-1721241000-1721248200@trustdtsa.com
SUMMARY:Battledish: The Ecology Center 6:30 pm Seating
DESCRIPTION:Chef Justin won Chopped once against three total strangers. I wonder if he can beat his colleagues here in the Trust Kitchen?  You be the judge.  We are excited to work with our local friends at the Ecology Center in San Juan Capistrano. We love being at the mercy of the soil; we love not knowing what we’ll be working with the night before we go down there; we love the drive home figuring out how we’re going to treat these gifts from the earth. The way we cook the meal is really fun: Three chefs\, each chef picks four ingredients\, and each ingredient gets its own dish. We never let the guests know who made which dish but at the end we always ask each person what their favorite dish of the evening is. We tabulate the results and a Battledish winner is named.  $200 per person including food\, wine pairings\, tax and gratuity. This is a vegetarian dinner! \nPurchase your tickets here.
URL:https://trustdtsa.com/event/battledish-the-ecology-center-630-pm-seating-2/
LOCATION:Trust Kitchen\, 220 E. Fourth Street\, Santa Ana\, CA\, 92701\, United States
ORGANIZER;CN="Kyle McClelland":MAILTO:Concierge@trustdtsa.com
END:VEVENT
BEGIN:VEVENT
DTSTART;TZID=America/Los_Angeles:20240713T180000
DTEND;TZID=America/Los_Angeles:20240713T223000
DTSTAMP:20260425T035715
CREATED:20240604T044715Z
LAST-MODIFIED:20240604T044715Z
UID:10000279-1720893600-1720909800@trustdtsa.com
SUMMARY:Trust Dinner Party 6:00 pm and 8:30 pm Seatings
DESCRIPTION:Chef Justin is selecting the most exciting and inspiring ingredients and putting together a dinner party for 18 of his closest friends. $250 per person\, food and wine pairings\, tax and gratuities included. \nPurchase your tickets here.
URL:https://trustdtsa.com/event/trust-dinner-party-600-pm-and-830-pm-seatings-41/
LOCATION:Trust Kitchen\, 220 E. Fourth Street\, Santa Ana\, CA\, 92701\, United States
END:VEVENT
BEGIN:VEVENT
DTSTART;TZID=America/Los_Angeles:20240712T180000
DTEND;TZID=America/Los_Angeles:20240712T223000
DTSTAMP:20260425T035715
CREATED:20240604T044723Z
LAST-MODIFIED:20240604T044723Z
UID:10000277-1720807200-1720823400@trustdtsa.com
SUMMARY:Trust Dinner Party 6:00 pm and 8:30 pm Seatings
DESCRIPTION:Chef Justin is selecting the most exciting and inspiring ingredients and putting together a dinner party for 18 of his closest friends. $250 per person\, food and wine pairings\, tax and gratuities included. \nPurchase your seats here.
URL:https://trustdtsa.com/event/trust-dinner-party-600-pm-and-830-pm-seatings-42/
LOCATION:Trust Kitchen\, 220 E. Fourth Street\, Santa Ana\, CA\, 92701\, United States
ORGANIZER;CN="Kyle McClelland":MAILTO:Concierge@trustdtsa.com
END:VEVENT
BEGIN:VEVENT
DTSTART;TZID=America/Los_Angeles:20240711T183000
DTEND;TZID=America/Los_Angeles:20240711T203000
DTSTAMP:20260425T035715
CREATED:20240604T044733Z
LAST-MODIFIED:20240604T044733Z
UID:10000276-1720722600-1720729800@trustdtsa.com
SUMMARY:Trust Dinner Party 6:30 pm Seating
DESCRIPTION:Chef Justin is selecting the most exciting and inspiring ingredients and putting together a dinner party for 18 of his closest friends. $250 per person\, food and wine pairings\, tax and gratuities included. \nPurchase your seats here.
URL:https://trustdtsa.com/event/trust-dinner-party-630-pm-seating-7/
LOCATION:Trust Kitchen\, 220 E. Fourth Street\, Santa Ana\, CA\, 92701\, United States
ORGANIZER;CN="Kyle McClelland":MAILTO:Concierge@trustdtsa.com
END:VEVENT
BEGIN:VEVENT
DTSTART;TZID=America/Los_Angeles:20240710T180000
DTEND;TZID=America/Los_Angeles:20240710T223000
DTSTAMP:20260425T035715
CREATED:20240604T044741Z
LAST-MODIFIED:20240604T044741Z
UID:10000286-1720634400-1720650600@trustdtsa.com
SUMMARY:Ultimate Steak Dinner 6:00 pm and 8:30 pm Seating
DESCRIPTION:A celebration of beef\, America’s favorite protein\, featuring several of the world’s finest examples and our favorite steakhouse sides.  $225 per person\, food and wine pairings\, tax and gratuities included. \nPurchase your tickets here.
URL:https://trustdtsa.com/event/ultimate-steak-dinner-600-pm-and-830-pm-seating/
LOCATION:Trust Kitchen\, 220 E. Fourth Street\, Santa Ana\, CA\, 92701\, United States
ORGANIZER;CN="Kyle McClelland":MAILTO:Concierge@trustdtsa.com
END:VEVENT
BEGIN:VEVENT
DTSTART;TZID=America/Los_Angeles:20240709T183000
DTEND;TZID=America/Los_Angeles:20240709T203000
DTSTAMP:20260425T035715
CREATED:20240604T044750Z
LAST-MODIFIED:20240604T044750Z
UID:10000285-1720549800-1720557000@trustdtsa.com
SUMMARY:Ultimate Steak Dinner 6:30 pm Seating
DESCRIPTION:A celebration of beef\, America’s favorite protein\, featuring several of the world’s finest examples and our favorite steakhouse sides.  $225 per person\, food and wine pairings\, tax and gratuities included. \nPurchase your tickets here.
URL:https://trustdtsa.com/event/ultimate-steak-dinner-630-pm-seating-2/
LOCATION:Trust Kitchen\, 220 E. Fourth Street\, Santa Ana\, CA\, 92701\, United States
ORGANIZER;CN="Kyle McClelland":MAILTO:Concierge@trustdtsa.com
END:VEVENT
BEGIN:VEVENT
DTSTART;TZID=America/Los_Angeles:20240706T180000
DTEND;TZID=America/Los_Angeles:20240706T223000
DTSTAMP:20260425T035715
CREATED:20240604T044800Z
LAST-MODIFIED:20240604T044800Z
UID:10000275-1720288800-1720305000@trustdtsa.com
SUMMARY:Trust Dinner Party 6:00 pm and 8:30 pm Seatings
DESCRIPTION:Chef Justin is selecting the most exciting and inspiring ingredients and putting together a dinner party for 18 of his closest friends. $250 per person\, food and wine pairings\, tax and gratuities included. \nPurchase your seats here.
URL:https://trustdtsa.com/event/trust-dinner-party-600-pm-and-830-pm-seatings-43/
LOCATION:Trust Kitchen\, 220 E. Fourth Street\, Santa Ana\, CA\, 92701\, United States
ORGANIZER;CN="Kyle McClelland":MAILTO:Concierge@trustdtsa.com
END:VEVENT
BEGIN:VEVENT
DTSTART;TZID=America/Los_Angeles:20240705T180000
DTEND;TZID=America/Los_Angeles:20240705T223000
DTSTAMP:20260425T035715
CREATED:20240604T044810Z
LAST-MODIFIED:20240604T044810Z
UID:10000273-1720202400-1720218600@trustdtsa.com
SUMMARY:Trust Dinner Party 6:00 pm and 8:30 pm Seatings
DESCRIPTION:Chef Justin is selecting the most exciting and inspiring ingredients and putting together a dinner party for 18 of his closest friends. $250 per person\, food and wine pairings\, tax and gratuities included. \nPurchase your tickets here.
URL:https://trustdtsa.com/event/trust-dinner-party-600-pm-and-830-pm-seatings-44/
LOCATION:Trust Kitchen\, 220 E. Fourth Street\, Santa Ana\, CA\, 92701\, United States
ORGANIZER;CN="Kyle McClelland":MAILTO:Concierge@trustdtsa.com
END:VEVENT
BEGIN:VEVENT
DTSTART;VALUE=DATE:20240704
DTEND;VALUE=DATE:20240705
DTSTAMP:20260425T035715
CREATED:20240603T215612Z
LAST-MODIFIED:20240603T215612Z
UID:10000272-1720051200-1720137599@trustdtsa.com
SUMMARY:Closed
DESCRIPTION:
URL:https://trustdtsa.com/event/closed-4/
LOCATION:CA
END:VEVENT
BEGIN:VEVENT
DTSTART;TZID=America/Los_Angeles:20240703T183000
DTEND;TZID=America/Los_Angeles:20240703T203000
DTSTAMP:20260425T035715
CREATED:20240604T044517Z
LAST-MODIFIED:20240604T044517Z
UID:10000271-1720031400-1720038600@trustdtsa.com
SUMMARY:Trust Lite 6:30 Seating
DESCRIPTION:Chef Justin is selecting the most exciting and inspiring ingredients and putting together a dinner party for 18 of his closest friends.  This is a lighter version of his normal Trust Dinner Party\, featuring seven courses and two paired wines.  $160 per person\, food and wine pairings\, tax and gratuities included. \nPurchase your tickets here.
URL:https://trustdtsa.com/event/trust-lite-630-seating/
LOCATION:Trust Kitchen\, 220 E. Fourth Street\, Santa Ana\, CA\, 92701\, United States
ORGANIZER;CN="Kyle McClelland":MAILTO:Concierge@trustdtsa.com
END:VEVENT
BEGIN:VEVENT
DTSTART;TZID=America/Los_Angeles:20240702T183000
DTEND;TZID=America/Los_Angeles:20240702T203000
DTSTAMP:20260425T035715
CREATED:20240604T044503Z
LAST-MODIFIED:20240604T044503Z
UID:10000270-1719945000-1719952200@trustdtsa.com
SUMMARY:Taco Tuesday 6:30 Seating
DESCRIPTION:It’s Tuesday so there must be tacos. The best way to enjoy tacos is in the Trust Kitchen\, where Chef Justin will make sure every element of this iconic street food is elevated by ingredient quality\, technique\, inspiration and love. $175 per person\, food and wine pairings\, tax and gratuities included. \nPurchase your tickets here.
URL:https://trustdtsa.com/event/taco-tuesday-630-seating/
LOCATION:Trust Kitchen\, 220 E. Fourth Street\, Santa Ana\, CA\, 92701\, United States
ORGANIZER;CN="Kyle McClelland":MAILTO:Concierge@trustdtsa.com
END:VEVENT
BEGIN:VEVENT
DTSTART;TZID=America/Los_Angeles:20240629T180000
DTEND;TZID=America/Los_Angeles:20240629T223000
DTSTAMP:20260425T035715
CREATED:20240507T225657Z
LAST-MODIFIED:20240507T225657Z
UID:10000260-1719684000-1719700200@trustdtsa.com
SUMMARY:Trust Dinner Party 6:00 pm and 8:30 pm Seatings
DESCRIPTION:Chef Justin is selecting the most exciting and inspiring ingredients and putting together a dinner party for 18 of his closest friends. $250 per person\, food and wine pairings\, tax and gratuities included. \nPurchase your tickets here.
URL:https://trustdtsa.com/event/trust-dinner-party-600-pm-and-830-pm-seatings-35/
LOCATION:Trust Kitchen\, 220 E. Fourth Street\, Santa Ana\, CA\, 92701\, United States
ORGANIZER;CN="Kyle McClelland":MAILTO:Concierge@trustdtsa.com
END:VEVENT
BEGIN:VEVENT
DTSTART;TZID=America/Los_Angeles:20240628T180000
DTEND;TZID=America/Los_Angeles:20240628T223000
DTSTAMP:20260425T035715
CREATED:20240507T224450Z
LAST-MODIFIED:20240507T224450Z
UID:10000259-1719597600-1719613800@trustdtsa.com
SUMMARY:Trust Dinner Party 6:00 pm and 8:30 pm Seatings
DESCRIPTION:Chef Justin is selecting the most exciting and inspiring ingredients and putting together a dinner party for 18 of his closest friends. $250 per person\, food and wine pairings\, tax and gratuities included. \nPurchase your tickets here.
URL:https://trustdtsa.com/event/trust-dinner-party-600-pm-and-830-pm-seatings-34/
LOCATION:Trust Kitchen\, 220 E. Fourth Street\, Santa Ana\, CA\, 92701\, United States
ORGANIZER;CN="Kyle McClelland":MAILTO:Concierge@trustdtsa.com
END:VEVENT
BEGIN:VEVENT
DTSTART;TZID=America/Los_Angeles:20240627T183000
DTEND;TZID=America/Los_Angeles:20240627T203000
DTSTAMP:20260425T035715
CREATED:20240508T161840Z
LAST-MODIFIED:20240508T161840Z
UID:10000269-1719513000-1719520200@trustdtsa.com
SUMMARY:Battledish: Ecology Center 6:30 pm Seating
DESCRIPTION:We are excited to work with our friends at the Ecology Center in San Juan Capistrano. We love being at the mercy of the soil; we love not knowing what we’ll be working with the night before we go down there; we love the drive home figuring out how we’re going to treat these gifts from the earth. The way we cook the meal is really fun: Three chefs\, each chef picks four ingredients\, and each ingredient gets its own dish. We never let the guests know who made which dish but at the end we always ask each person what their favorite dish of the evening is. We tabulate the results and a Battledish winner is declared. This is a vegetarian dinner! $200 per person\, all food\, wine\, tax\, and gratuity included. \nPurchase your tickets here.
URL:https://trustdtsa.com/event/battledish-ecology-center-630-pm-seating-3/
LOCATION:Trust Kitchen\, 220 E. Fourth Street\, Santa Ana\, CA\, 92701\, United States
ORGANIZER;CN="Kyle McClelland":MAILTO:Concierge@trustdtsa.com
END:VEVENT
BEGIN:VEVENT
DTSTART;TZID=America/Los_Angeles:20240626T183000
DTEND;TZID=America/Los_Angeles:20240626T203000
DTSTAMP:20260425T035715
CREATED:20240508T161421Z
LAST-MODIFIED:20240508T161421Z
UID:10000268-1719426600-1719433800@trustdtsa.com
SUMMARY:Battledish: Ecology Center 6:30 pm Seating
DESCRIPTION:We are excited to work with our friends at the Ecology Center in San Juan Capistrano. We love being at the mercy of the soil; we love not knowing what we’ll be working with the night before we go down there; we love the drive home figuring out how we’re going to treat these gifts from the earth. The way we cook the meal is really fun: Three chefs\, each chef picks four ingredients\, and each ingredient gets its own dish. We never let the guests know who made which dish but at the end we always ask each person what their favorite dish of the evening is. We tabulate the results and a Battledish winner is declared. This is a vegetarian dinner! $200 per person\, all food\, wine\, tax\, and gratuity included. \nPurchase your tickets here.
URL:https://trustdtsa.com/event/battledish-ecology-center-630-pm-seating-2/
LOCATION:Trust Kitchen\, 220 E. Fourth Street\, Santa Ana\, CA\, 92701\, United States
ORGANIZER;CN="Kyle McClelland":MAILTO:Concierge@trustdtsa.com
END:VEVENT
BEGIN:VEVENT
DTSTART;TZID=America/Los_Angeles:20240622T180000
DTEND;TZID=America/Los_Angeles:20240622T223000
DTSTAMP:20260425T035715
CREATED:20240507T224041Z
LAST-MODIFIED:20240507T224041Z
UID:10000258-1719079200-1719095400@trustdtsa.com
SUMMARY:Trust Dinner Party 6:00 pm and 8:30 pm Seatings
DESCRIPTION:Chef Justin is selecting the most exciting and inspiring ingredients and putting together a dinner party for 18 of his closest friends. $250 per person\, food and wine pairings\, tax and gratuities included. \nPurchase your tickets here.
URL:https://trustdtsa.com/event/trust-dinner-party-600-pm-and-830-pm-seatings-33/
LOCATION:Trust Kitchen\, 220 E. Fourth Street\, Santa Ana\, CA\, 92701\, United States
ORGANIZER;CN="Kyle McClelland":MAILTO:Concierge@trustdtsa.com
END:VEVENT
BEGIN:VEVENT
DTSTART;TZID=America/Los_Angeles:20240621T180000
DTEND;TZID=America/Los_Angeles:20240621T223000
DTSTAMP:20260425T035715
CREATED:20240507T223834Z
LAST-MODIFIED:20240507T223834Z
UID:10000257-1718992800-1719009000@trustdtsa.com
SUMMARY:Trust Dinner Party 6:00 pm and 8:30 pm Seatings
DESCRIPTION:Chef Justin is selecting the most exciting and inspiring ingredients and putting together a dinner party for 18 of his closest friends. $250 per person\, food and wine pairings\, tax and gratuities included. \nPurchase your tickets here.
URL:https://trustdtsa.com/event/trust-dinner-party-600-pm-and-830-pm-seatings-32/
LOCATION:Trust Kitchen\, 220 E. Fourth Street\, Santa Ana\, CA\, 92701\, United States
ORGANIZER;CN="Kyle McClelland":MAILTO:Concierge@trustdtsa.com
END:VEVENT
BEGIN:VEVENT
DTSTART;TZID=America/Los_Angeles:20240620T183000
DTEND;TZID=America/Los_Angeles:20240620T203000
DTSTAMP:20260425T035715
CREATED:20240507T225849Z
LAST-MODIFIED:20240507T225849Z
UID:10000261-1718908200-1718915400@trustdtsa.com
SUMMARY:Trust Dinner Party 6:30 pm Seating
DESCRIPTION:Chef Justin is selecting the most exciting and inspiring ingredients and putting together a dinner party for 18 of his closest friends. $250 per person\, food and wine pairings\, tax and gratuities included. \nPurchase your tickets here.
URL:https://trustdtsa.com/event/trust-dinner-party-630-pm-seating-6/
LOCATION:Trust Kitchen\, 220 E. Fourth Street\, Santa Ana\, CA\, 92701\, United States
ORGANIZER;CN="Kyle McClelland":MAILTO:Concierge@trustdtsa.com
END:VEVENT
BEGIN:VEVENT
DTSTART;TZID=America/Los_Angeles:20240619T180000
DTEND;TZID=America/Los_Angeles:20240619T223000
DTSTAMP:20260425T035715
CREATED:20240508T160949Z
LAST-MODIFIED:20240508T160949Z
UID:10000266-1718820000-1718836200@trustdtsa.com
SUMMARY:Adventures in Seafood 6:00 pm and 8:30 pm Seatings
DESCRIPTION:An evening for all things seafood from our friends at International Marine Products located in downtown L.A.  They distribute the best seafood we have been able to find.  Each day they receive fish from some of the world’s top sustainable farmed fisheries\, as well as Tokyo’s world famous Tsukiji fish market.  The menu will be created based on what the seas yield.  $225 per person including food\, wine pairings\, tax and gratuity. \nPurchase your tickets here.
URL:https://trustdtsa.com/event/adventures-in-seafood-600-pm-and-830-pm-seatings-4/
LOCATION:Trust Kitchen\, 220 E. Fourth Street\, Santa Ana\, CA\, 92701\, United States
ORGANIZER;CN="Kyle McClelland":MAILTO:Concierge@trustdtsa.com
END:VEVENT
BEGIN:VEVENT
DTSTART;TZID=America/Los_Angeles:20240618T183000
DTEND;TZID=America/Los_Angeles:20240618T203000
DTSTAMP:20260425T035715
CREATED:20240508T160744Z
LAST-MODIFIED:20240508T160744Z
UID:10000265-1718735400-1718742600@trustdtsa.com
SUMMARY:Adventures in Seafood 6:30 pm Seating
DESCRIPTION:An evening for all things seafood from our friends at International Marine Products located in downtown L.A.  They distribute the best seafood we have been able to find.  Each day they receive fish from some of the world’s top sustainable farmed fisheries\, as well as Tokyo’s world famous Tsukiji fish market.  The menu will be created based on what the seas yield.  $225 per person including food\, wine pairings\, tax and gratuity. \nPurchase your tickets here.
URL:https://trustdtsa.com/event/adventures-in-seafood-630-pm-seating-2/
LOCATION:Trust Kitchen\, 220 E. Fourth Street\, Santa Ana\, CA\, 92701\, United States
ORGANIZER;CN="Kyle McClelland":MAILTO:Concierge@trustdtsa.com
END:VEVENT
BEGIN:VEVENT
DTSTART;TZID=America/Los_Angeles:20240615T180000
DTEND;TZID=America/Los_Angeles:20240615T223000
DTSTAMP:20260425T035715
CREATED:20240507T222321Z
LAST-MODIFIED:20240507T222321Z
UID:10000256-1718474400-1718490600@trustdtsa.com
SUMMARY:Trust Dinner Party 6:00 pm and 8:30 pm seatings
DESCRIPTION:Chef Justin is selecting the most exciting and inspiring ingredients and putting together a dinner party for 18 of his closest friends. $250 per person\, food and wine pairings\, tax and gratuities included. \nPurchase your tickets here.
URL:https://trustdtsa.com/event/trust-dinner-party-600-pm-and-830-pm-seatings-31/
LOCATION:Trust Kitchen\, 220 E. Fourth Street\, Santa Ana\, CA\, 92701\, United States
ORGANIZER;CN="Kyle McClelland":MAILTO:Concierge@trustdtsa.com
END:VEVENT
BEGIN:VEVENT
DTSTART;TZID=America/Los_Angeles:20240614T180000
DTEND;TZID=America/Los_Angeles:20240614T223000
DTSTAMP:20260425T035715
CREATED:20240507T222147Z
LAST-MODIFIED:20240507T222147Z
UID:10000255-1718388000-1718404200@trustdtsa.com
SUMMARY:Trust Dinner Party 6:00 pm and 8:30 pm Seatings
DESCRIPTION:Chef Justin is selecting the most exciting and inspiring ingredients and putting together a dinner party for 18 of his closest friends. $250 per person\, food and wine pairings\, tax and gratuities included. \nPurchase your tickets here.
URL:https://trustdtsa.com/event/trust-dinner-party-600-pm-and-830-pm-seatings-30/
LOCATION:Trust Kitchen\, 220 E. Fourth Street\, Santa Ana\, CA\, 92701\, United States
ORGANIZER;CN="Kyle McClelland":MAILTO:Concierge@trustdtsa.com
END:VEVENT
END:VCALENDAR