BEGIN:VCALENDAR
VERSION:2.0
PRODID:-//Trust - ECPv6.15.20//NONSGML v1.0//EN
CALSCALE:GREGORIAN
METHOD:PUBLISH
X-WR-CALNAME:Trust
X-ORIGINAL-URL:https://trustdtsa.com
X-WR-CALDESC:Events for Trust
REFRESH-INTERVAL;VALUE=DURATION:PT1H
X-Robots-Tag:noindex
X-PUBLISHED-TTL:PT1H
BEGIN:VTIMEZONE
TZID:America/Los_Angeles
BEGIN:DAYLIGHT
TZOFFSETFROM:-0800
TZOFFSETTO:-0700
TZNAME:PDT
DTSTART:20230312T100000
END:DAYLIGHT
BEGIN:STANDARD
TZOFFSETFROM:-0700
TZOFFSETTO:-0800
TZNAME:PST
DTSTART:20231105T090000
END:STANDARD
BEGIN:DAYLIGHT
TZOFFSETFROM:-0800
TZOFFSETTO:-0700
TZNAME:PDT
DTSTART:20240310T100000
END:DAYLIGHT
BEGIN:STANDARD
TZOFFSETFROM:-0700
TZOFFSETTO:-0800
TZNAME:PST
DTSTART:20241103T090000
END:STANDARD
BEGIN:DAYLIGHT
TZOFFSETFROM:-0800
TZOFFSETTO:-0700
TZNAME:PDT
DTSTART:20250309T100000
END:DAYLIGHT
BEGIN:STANDARD
TZOFFSETFROM:-0700
TZOFFSETTO:-0800
TZNAME:PST
DTSTART:20251102T090000
END:STANDARD
END:VTIMEZONE
BEGIN:VEVENT
DTSTART;TZID=America/Los_Angeles:20241016T183000
DTEND;TZID=America/Los_Angeles:20241016T203000
DTSTAMP:20260425T064422
CREATED:20240807T204959Z
LAST-MODIFIED:20240807T204959Z
UID:10000344-1729103400-1729110600@trustdtsa.com
SUMMARY:Justin and Tricia's Farewell Tour 6:30 pm Seating
DESCRIPTION:Come join Justin and Tricia as they say goodbye to Trust and California. Both have been part of our family for nearly a decade\, and they would love to celebrate with you before their move to New York. Don’t miss this special event and let’s send them off in style! $250 per person\, food and beverage pairings\, tax and gratuities included. \nPurchase your tickets here.
URL:https://trustdtsa.com/event/justin-and-tricias-farewell-tour-630-pm-seating-5/
LOCATION:Trust Kitchen\, 220 E. Fourth Street\, Santa Ana\, CA\, 92701\, United States
ORGANIZER;CN="Kyle McClelland":MAILTO:Concierge@trustdtsa.com
END:VEVENT
BEGIN:VEVENT
DTSTART;TZID=America/Los_Angeles:20241017T180000
DTEND;TZID=America/Los_Angeles:20241017T223000
DTSTAMP:20260425T064422
CREATED:20240807T205132Z
LAST-MODIFIED:20240807T205132Z
UID:10000345-1729188000-1729204200@trustdtsa.com
SUMMARY:Justin and Tricia's Farewell Tour 6:00 pm and 8:30 pm Seatings
DESCRIPTION:Come join Justin and Tricia as they say goodbye to Trust and California. Both have been part of our family for nearly a decade\, and they would love to celebrate with you before their move to New York. Don’t miss this special event and let’s send them off in style! $250 per person\, food and beverage pairings\, tax and gratuities included. \nPurchase your tickets here.
URL:https://trustdtsa.com/event/justin-and-tricias-farewell-tour-600-pm-and-830-pm-seatings-7/
LOCATION:CA
ORGANIZER;CN="Kyle McClelland":MAILTO:Concierge@trustdtsa.com
END:VEVENT
BEGIN:VEVENT
DTSTART;TZID=America/Los_Angeles:20241018T180000
DTEND;TZID=America/Los_Angeles:20241018T223000
DTSTAMP:20260425T064422
CREATED:20240807T205210Z
LAST-MODIFIED:20240807T205210Z
UID:10000346-1729274400-1729290600@trustdtsa.com
SUMMARY:Justin and Tricia's Farewell Tour 6:00 pm and 8:30 pm Seatings
DESCRIPTION:Come join Justin and Tricia as they say goodbye to Trust and California. Both have been part of our family for nearly a decade\, and they would love to celebrate with you before their move to New York. Don’t miss this special event and let’s send them off in style! $250 per person\, food and beverage pairings\, tax and gratuities included. \nPurchase your tickets here.
URL:https://trustdtsa.com/event/justin-and-tricias-farewell-tour-600-pm-and-830-pm-seatings-8/
LOCATION:CA
ORGANIZER;CN="Kyle McClelland":MAILTO:Concierge@trustdtsa.com
END:VEVENT
BEGIN:VEVENT
DTSTART;TZID=America/Los_Angeles:20241019T180000
DTEND;TZID=America/Los_Angeles:20241019T223000
DTSTAMP:20260425T064422
CREATED:20240807T205249Z
LAST-MODIFIED:20240807T205249Z
UID:10000347-1729360800-1729377000@trustdtsa.com
SUMMARY:Justin and Tricia's Farewell Tour 6:00 pm and 8:30 pm Seatings
DESCRIPTION:Come join Justin and Tricia as they say goodbye to Trust and California. Both have been part of our family for nearly a decade\, and they would love to celebrate with you before their move to New York. Don’t miss this special event and let’s send them off in style! $250 per person\, food and beverage pairings\, tax and gratuities included. \nPurchase your tickets here.
URL:https://trustdtsa.com/event/justin-and-tricias-farewell-tour-600-pm-and-830-pm-seatings-9/
LOCATION:CA
ORGANIZER;CN="Kyle McClelland":MAILTO:Concierge@trustdtsa.com
END:VEVENT
BEGIN:VEVENT
DTSTART;TZID=America/Los_Angeles:20241022T183000
DTEND;TZID=America/Los_Angeles:20241022T203000
DTSTAMP:20260425T064422
CREATED:20240807T205330Z
LAST-MODIFIED:20240807T205330Z
UID:10000348-1729621800-1729629000@trustdtsa.com
SUMMARY:Justin and Tricia's Farewell Tour 6:30 pm Seating
DESCRIPTION:Come join Justin and Tricia as they say goodbye to Trust and California. Both have been part of our family for nearly a decade\, and they would love to celebrate with you before their move to New York. Don’t miss this special event and let’s send them off in style! $250 per person\, food and beverage pairings\, tax and gratuities included. \nPurchase your tickets here.
URL:https://trustdtsa.com/event/justin-and-tricias-farewell-tour-630-pm-seating-6/
LOCATION:Trust Kitchen\, 220 E. Fourth Street\, Santa Ana\, CA\, 92701\, United States
ORGANIZER;CN="Kyle McClelland":MAILTO:Concierge@trustdtsa.com
END:VEVENT
BEGIN:VEVENT
DTSTART;TZID=America/Los_Angeles:20241023T183000
DTEND;TZID=America/Los_Angeles:20241023T203000
DTSTAMP:20260425T064422
CREATED:20240807T205611Z
LAST-MODIFIED:20240807T205611Z
UID:10000349-1729708200-1729715400@trustdtsa.com
SUMMARY:Justin and Tricia's Farewell Tour 6:30 pm Seating
DESCRIPTION:Come join Justin and Tricia as they say goodbye to Trust and California. Both have been part of our family for nearly a decade\, and they would love to celebrate with you before their move to New York. Don’t miss this special event and let’s send them off in style! $250 per person\, food and beverage pairings\, tax and gratuities included. \nPurchase your tickets here.
URL:https://trustdtsa.com/event/justin-and-tricias-farewell-tour-630-pm-seating-7/
LOCATION:Trust Kitchen\, 220 E. Fourth Street\, Santa Ana\, CA\, 92701\, United States
ORGANIZER;CN="Kyle McClelland":MAILTO:Concierge@trustdtsa.com
END:VEVENT
BEGIN:VEVENT
DTSTART;TZID=America/Los_Angeles:20241024T180000
DTEND;TZID=America/Los_Angeles:20241024T223000
DTSTAMP:20260425T064422
CREATED:20240807T210150Z
LAST-MODIFIED:20240807T210150Z
UID:10000350-1729792800-1729809000@trustdtsa.com
SUMMARY:Justin and Tricia's Farewell Tour 6:00 pm and 8:30 pm Seatings
DESCRIPTION:Come join Justin and Tricia as they say goodbye to Trust and California. Both have been part of our family for nearly a decade\, and they would love to celebrate with you before their move to New York. Don’t miss this special event and let’s send them off in style! $250 per person\, food and beverage pairings\, tax and gratuities included. \nPurchase your tickets here.
URL:https://trustdtsa.com/event/justin-and-tricias-farewell-tour-600-pm-and-830-pm-seatings-10/
LOCATION:CA
ORGANIZER;CN="Kyle McClelland":MAILTO:Concierge@trustdtsa.com
END:VEVENT
BEGIN:VEVENT
DTSTART;TZID=America/Los_Angeles:20241025T180000
DTEND;TZID=America/Los_Angeles:20241025T223000
DTSTAMP:20260425T064422
CREATED:20240807T210612Z
LAST-MODIFIED:20240807T210612Z
UID:10000351-1729879200-1729895400@trustdtsa.com
SUMMARY:Justin and Tricia's Farewell Tour 6:00 pm and 8:30 pm Seatings
DESCRIPTION:Come join Justin and Tricia as they say goodbye to Trust and California. Both have been part of our family for nearly a decade\, and they would love to celebrate with you before their move to New York. Don’t miss this special event and let’s send them off in style! $250 per person\, food and beverage pairings\, tax and gratuities included. \nPurchase your tickets here.
URL:https://trustdtsa.com/event/justin-and-tricias-farewell-tour-600-pm-and-830-pm-seatings-11/
LOCATION:CA
ORGANIZER;CN="Kyle McClelland":MAILTO:Concierge@trustdtsa.com
END:VEVENT
BEGIN:VEVENT
DTSTART;TZID=America/Los_Angeles:20241026T180000
DTEND;TZID=America/Los_Angeles:20241026T223000
DTSTAMP:20260425T064422
CREATED:20240807T210828Z
LAST-MODIFIED:20240807T210828Z
UID:10000352-1729965600-1729981800@trustdtsa.com
SUMMARY:Justin and Tricia's Farewell Tour 6:00 pm and 8:30 pm Seatings
DESCRIPTION:Come join Justin and Tricia as they say goodbye to Trust and California. Both have been part of our family for nearly a decade\, and they would love to celebrate with you before their move to New York. Don’t miss this special event and let’s send them off in style! $250 per person\, food and beverage pairings\, tax and gratuities included. \nPurchase your tickets here.
URL:https://trustdtsa.com/event/justin-and-tricias-farewell-tour-600-pm-and-830-pm-seatings-12/
LOCATION:CA
ORGANIZER;CN="Kyle McClelland":MAILTO:Concierge@trustdtsa.com
END:VEVENT
BEGIN:VEVENT
DTSTART;TZID=America/Los_Angeles:20241029T183000
DTEND;TZID=America/Los_Angeles:20241029T203000
DTSTAMP:20260425T064422
CREATED:20240807T210902Z
LAST-MODIFIED:20240807T210902Z
UID:10000353-1730226600-1730233800@trustdtsa.com
SUMMARY:Justin and Tricia's Farewell Tour 6:30 pm Seating
DESCRIPTION:Come join Justin and Tricia as they say goodbye to Trust and California. Both have been part of our family for nearly a decade\, and they would love to celebrate with you before their move to New York. Don’t miss this special event and let’s send them off in style! $250 per person\, food and beverage pairings\, tax and gratuities included. \nPurchase your tickets here.
URL:https://trustdtsa.com/event/justin-and-tricias-farewell-tour-630-pm-seating-8/
LOCATION:Trust Kitchen\, 220 E. Fourth Street\, Santa Ana\, CA\, 92701\, United States
ORGANIZER;CN="Kyle McClelland":MAILTO:Concierge@trustdtsa.com
END:VEVENT
BEGIN:VEVENT
DTSTART;TZID=America/Los_Angeles:20241030T183000
DTEND;TZID=America/Los_Angeles:20241030T203000
DTSTAMP:20260425T064422
CREATED:20240807T210942Z
LAST-MODIFIED:20240807T210942Z
UID:10000354-1730313000-1730320200@trustdtsa.com
SUMMARY:Justin and Tricia's Farewell Tour 6:30 pm Seating
DESCRIPTION:Come join Justin and Tricia as they say goodbye to Trust and California. Both have been part of our family for nearly a decade\, and they would love to celebrate with you before their move to New York. Don’t miss this special event and let’s send them off in style! $250 per person\, food and beverage pairings\, tax and gratuities included. \nPurchase your tickets here.
URL:https://trustdtsa.com/event/justin-and-tricias-farewell-tour-630-pm-seating-9/
LOCATION:Trust Kitchen\, 220 E. Fourth Street\, Santa Ana\, CA\, 92701\, United States
ORGANIZER;CN="Kyle McClelland":MAILTO:Concierge@trustdtsa.com
END:VEVENT
BEGIN:VEVENT
DTSTART;TZID=America/Los_Angeles:20241031T180000
DTEND;TZID=America/Los_Angeles:20241031T223000
DTSTAMP:20260425T064422
CREATED:20240807T211020Z
LAST-MODIFIED:20240807T211020Z
UID:10000355-1730397600-1730413800@trustdtsa.com
SUMMARY:Justin and Tricia's Farewell Tour 6:00 pm and 8:30 pm Seatings
DESCRIPTION:Come join Justin and Tricia as they say goodbye to Trust and California. Both have been part of our family for nearly a decade\, and they would love to celebrate with you before their move to New York. Don’t miss this special event and let’s send them off in style! $250 per person\, food and beverage pairings\, tax and gratuities included. \nPurchase your tickets here.
URL:https://trustdtsa.com/event/justin-and-tricias-farewell-tour-600-pm-and-830-pm-seatings-13/
LOCATION:CA
ORGANIZER;CN="Kyle McClelland":MAILTO:Concierge@trustdtsa.com
END:VEVENT
BEGIN:VEVENT
DTSTART;TZID=America/Los_Angeles:20241101T180000
DTEND;TZID=America/Los_Angeles:20241101T223000
DTSTAMP:20260425T064422
CREATED:20240807T211055Z
LAST-MODIFIED:20240807T211055Z
UID:10000356-1730484000-1730500200@trustdtsa.com
SUMMARY:Justin and Tricia's Farewell Tour 6:00 pm and 8:30 pm Seatings
DESCRIPTION:Come join Justin and Tricia as they say goodbye to Trust and California. Both have been part of our family for nearly a decade\, and they would love to celebrate with you before their move to New York. Don’t miss this special event and let’s send them off in style! $250 per person\, food and beverage pairings\, tax and gratuities included. \nPurchase your tickets here.
URL:https://trustdtsa.com/event/justin-and-tricias-farewell-tour-600-pm-and-830-pm-seatings-14/
LOCATION:CA
ORGANIZER;CN="Kyle McClelland":MAILTO:Concierge@trustdtsa.com
END:VEVENT
BEGIN:VEVENT
DTSTART;TZID=America/Los_Angeles:20241102T180000
DTEND;TZID=America/Los_Angeles:20241102T223000
DTSTAMP:20260425T064422
CREATED:20240807T211136Z
LAST-MODIFIED:20240807T211136Z
UID:10000357-1730570400-1730586600@trustdtsa.com
SUMMARY:Justin and Tricia's Farewell Tour 6:00 pm and 8:30 pm Seatings
DESCRIPTION:Come join Justin and Tricia as they say goodbye to Trust and California. Both have been part of our family for nearly a decade\, and they would love to celebrate with you before their move to New York. Don’t miss this special event and let’s send them off in style! $250 per person\, food and beverage pairings\, tax and gratuities included. \nPurchase your tickets here.
URL:https://trustdtsa.com/event/justin-and-tricias-farewell-tour-600-pm-and-830-pm-seatings-15/
LOCATION:CA
ORGANIZER;CN="Kyle McClelland":MAILTO:Concierge@trustdtsa.com
END:VEVENT
BEGIN:VEVENT
DTSTART;TZID=America/Los_Angeles:20241106T180000
DTEND;TZID=America/Los_Angeles:20241106T223000
DTSTAMP:20260425T064422
CREATED:20241018T225010Z
LAST-MODIFIED:20241018T225010Z
UID:10000389-1730916000-1730932200@trustdtsa.com
SUMMARY:Chef Jason Introduces you to Kyle McClelland 6pm & 8:30pm Seatings
DESCRIPTION:Chef Jason welcomes new Trust chef\, Kyle McClelland to the Trust Kitchen as they collaborate for a week of special events. This will be your first chance to get a glimpse of what’s in store for Trust guests for the coming years. It’s also a chance to meet Lehena\, your hostess\, sommelier and concierge. \nPurchase your tickets here. \n 
URL:https://trustdtsa.com/event/chef-jason-introduces-you-to-kyle-mcclelland-6pm-830pm-seatings/
LOCATION:Trust Kitchen\, 220 E. Fourth Street\, Santa Ana\, CA\, 92701\, United States
ORGANIZER;CN="Kyle McClelland":MAILTO:Concierge@trustdtsa.com
END:VEVENT
BEGIN:VEVENT
DTSTART;TZID=America/Los_Angeles:20241107T180000
DTEND;TZID=America/Los_Angeles:20241107T223000
DTSTAMP:20260425T064422
CREATED:20241018T225150Z
LAST-MODIFIED:20241018T225150Z
UID:10000390-1731002400-1731018600@trustdtsa.com
SUMMARY:Chef Jason Introduces you to Kyle McClelland 6pm & 8:30pm Seatings
DESCRIPTION:Chef Jason welcomes new Trust chef\, Kyle McClelland to the Trust Kitchen as they collaborate for a week of special events. This will be your first chance to get a glimpse of what’s in store for Trust guests for the coming years. It’s also a chance to meet Lehena\, your hostess\, sommelier and concierge. \nPurchase your tickets here.
URL:https://trustdtsa.com/event/chef-jason-introduces-you-to-kyle-mcclelland-6pm-830pm-seatings-2/
LOCATION:Trust Kitchen\, 220 E. Fourth Street\, Santa Ana\, CA\, 92701\, United States
ORGANIZER;CN="Kyle McClelland":MAILTO:Concierge@trustdtsa.com
END:VEVENT
BEGIN:VEVENT
DTSTART;TZID=America/Los_Angeles:20241108T180000
DTEND;TZID=America/Los_Angeles:20241108T223000
DTSTAMP:20260425T064422
CREATED:20241018T225320Z
LAST-MODIFIED:20241018T225320Z
UID:10000391-1731088800-1731105000@trustdtsa.com
SUMMARY:Chef Jason Introduces you to Kyle McClelland 6pm & 8:30pm Seatings
DESCRIPTION:Chef Jason welcomes new Trust chef\, Kyle McClelland to the Trust Kitchen as they collaborate for a week of special events. This will be your first chance to get a glimpse of what’s in store for Trust guests for the coming years. It’s also a chance to meet Lehena\, your hostess\, sommelier and concierge. \nPurchase your tickets here.
URL:https://trustdtsa.com/event/chef-jason-introduces-you-to-kyle-mcclelland-6pm-830pm-seatings-3/
LOCATION:Trust Kitchen\, 220 E. Fourth Street\, Santa Ana\, CA\, 92701\, United States
ORGANIZER;CN="Kyle McClelland":MAILTO:Concierge@trustdtsa.com
END:VEVENT
BEGIN:VEVENT
DTSTART;TZID=America/Los_Angeles:20241109T180000
DTEND;TZID=America/Los_Angeles:20241109T223000
DTSTAMP:20260425T064422
CREATED:20241018T225423Z
LAST-MODIFIED:20241018T225423Z
UID:10000392-1731175200-1731191400@trustdtsa.com
SUMMARY:Chef Jason Introduces you to Kyle McClelland 6pm & 8:30pm Seatings
DESCRIPTION:hef Jason welcomes new Trust chef\, Kyle McClelland to the Trust Kitchen as they collaborate for a week of special events. This will be your first chance to get a glimpse of what’s in store for Trust guests for the coming years. It’s also a chance to meet Lehena\, your hostess\, sommelier and concierge. \nPurchase your tickets here.
URL:https://trustdtsa.com/event/chef-jason-introduces-you-to-kyle-mcclelland-6pm-830pm-seatings-4/
LOCATION:Trust Kitchen\, 220 E. Fourth Street\, Santa Ana\, CA\, 92701\, United States
ORGANIZER;CN="Kyle McClelland":MAILTO:Concierge@trustdtsa.com
END:VEVENT
BEGIN:VEVENT
DTSTART;TZID=America/Los_Angeles:20241112T180000
DTEND;TZID=America/Los_Angeles:20241112T223000
DTSTAMP:20260425T064422
CREATED:20241018T213155Z
LAST-MODIFIED:20241018T213155Z
UID:10000359-1731434400-1731450600@trustdtsa.com
SUMMARY:Introduction to Caviar 6pm & 8:30pm Seatings
DESCRIPTION:Chef Kyle spent part of his formative years at Caviar Russe in New York.  There he came to understand and appreciate the potential and beauty of caviar.  He has chosen to use his first night as the executive chef of the Trust Kitchen to share with you the many facets of this delicacy.  $225 per person\, food and wine pairings\, tax and gratuities included. \nPurchase your tickets here. \n  \n 
URL:https://trustdtsa.com/event/introduction-to-caviar-6pm-830pm-seatings/
LOCATION:Trust Kitchen\, 220 E. Fourth Street\, Santa Ana\, CA\, 92701\, United States
END:VEVENT
BEGIN:VEVENT
DTSTART;TZID=America/Los_Angeles:20241113T180000
DTEND;TZID=America/Los_Angeles:20241113T223000
DTSTAMP:20260425T064422
CREATED:20241018T213733Z
LAST-MODIFIED:20241018T214525Z
UID:10000360-1731520800-1731537000@trustdtsa.com
SUMMARY:Seafood Coastal Cuisine 6pm & 8:30pm Seatings
DESCRIPTION:Chef Kyle grew up on Cape Cod.  He’s staying close to his roots at this dinner where he brings you the bounty of the sea with a Northeast slant\, served alongside the agricultural bounty of Southern California.  $225 per person\, food and wine pairings\, tax and gratuities included. \nPurchase your tickets here \n 
URL:https://trustdtsa.com/event/seafood-coastal-cuisine-6pm-830pm-seatings/
LOCATION:Trust Kitchen\, 220 E. Fourth Street\, Santa Ana\, CA\, 92701\, United States
ORGANIZER;CN="Kyle McClelland":MAILTO:Concierge@trustdtsa.com
END:VEVENT
BEGIN:VEVENT
DTSTART;TZID=America/Los_Angeles:20241114T180000
DTEND;TZID=America/Los_Angeles:20241114T223000
DTSTAMP:20260425T064422
CREATED:20241018T213951Z
LAST-MODIFIED:20241018T232651Z
UID:10000361-1731607200-1731623400@trustdtsa.com
SUMMARY:Seafood Coastal Cuisine 6pm & 8:30pm Seatings
DESCRIPTION:Chef Kyle grew up on Cape Cod.  He’s staying close to his roots at this dinner where he brings you the bounty of the sea with a Northeast slant\, served alongside the agricultural bounty of Southern California.  $225 per person\, food and wine pairings\, tax and gratuities included. \nPurchase your tickets here.
URL:https://trustdtsa.com/event/seafood-coastal-cuisine-6pm-830pm-seatings-2/
LOCATION:Trust Kitchen\, 220 E. Fourth Street\, Santa Ana\, CA\, 92701\, United States
ORGANIZER;CN="Kyle McClelland":MAILTO:Concierge@trustdtsa.com
END:VEVENT
BEGIN:VEVENT
DTSTART;TZID=America/Los_Angeles:20241115T180000
DTEND;TZID=America/Los_Angeles:20241115T203000
DTSTAMP:20260425T064422
CREATED:20241018T214703Z
LAST-MODIFIED:20241018T214718Z
UID:10000362-1731693600-1731702600@trustdtsa.com
SUMMARY:Kyle's Dinner Party 6pm & 8:30pm Seatings
DESCRIPTION:Chef Kyle will choose from among the freshest seasonal ingredients and he and the team will put on a 12-course dinner party at which you are the guest of honor.  $250 per person\, food and wine pairings\, tax and gratuities included. \nPurchase your tickets here.
URL:https://trustdtsa.com/event/kyles-dinner-party-6-830pm-seatings/
LOCATION:Trust Kitchen\, 220 E. Fourth Street\, Santa Ana\, CA\, 92701\, United States
ORGANIZER;CN="Kyle McClelland":MAILTO:Concierge@trustdtsa.com
END:VEVENT
BEGIN:VEVENT
DTSTART;TZID=America/Los_Angeles:20241116T180000
DTEND;TZID=America/Los_Angeles:20241116T223000
DTSTAMP:20260425T064422
CREATED:20241018T214854Z
LAST-MODIFIED:20241018T214854Z
UID:10000363-1731780000-1731796200@trustdtsa.com
SUMMARY:Kyle's Dinner Party 6pm & 8:30pm Seatings
DESCRIPTION:Chef Kyle will choose from among the freshest seasonal ingredients and he and the team will put on a 12-course dinner party at which you are the guest of honor.  $250 per person\, food and wine pairings\, tax and gratuities included. \nPurchase your tickets here.
URL:https://trustdtsa.com/event/kyles-dinner-party-6pm-830pm-seatings/
LOCATION:Trust Kitchen\, 220 E. Fourth Street\, Santa Ana\, CA\, 92701\, United States
ORGANIZER;CN="Kyle McClelland":MAILTO:Concierge@trustdtsa.com
END:VEVENT
BEGIN:VEVENT
DTSTART;TZID=America/Los_Angeles:20241119T183000
DTEND;TZID=America/Los_Angeles:20241119T203000
DTSTAMP:20260425T064422
CREATED:20241018T220017Z
LAST-MODIFIED:20241018T220017Z
UID:10000369-1732041000-1732048200@trustdtsa.com
SUMMARY:Fall Veggies 6:30pm Seating
DESCRIPTION:A vegetarian feast featuring the seasonal bounty of the soil. $200 per person\, food and wine pairings\, tax and gratuity included. \nPurchase your tickets here.
URL:https://trustdtsa.com/event/fall-veggies-630pm-seating-2/
LOCATION:Trust Kitchen\, 220 E. Fourth Street\, Santa Ana\, CA\, 92701\, United States
ORGANIZER;CN="Kyle McClelland":MAILTO:Concierge@trustdtsa.com
END:VEVENT
BEGIN:VEVENT
DTSTART;TZID=America/Los_Angeles:20241120T180000
DTEND;TZID=America/Los_Angeles:20241120T223000
DTSTAMP:20260425T064422
CREATED:20241018T215228Z
LAST-MODIFIED:20241119T213507Z
UID:10000365-1732125600-1732141800@trustdtsa.com
SUMMARY:Carnivore's Feast 6pm & 8:30pm Seatings
DESCRIPTION:A meat-lover’s delight. $225 per person\, food and wine pairings\, tax and gratuity included. \nPurchase your tickets here.
URL:https://trustdtsa.com/event/carnivores-feast-6pm-830pm-seatings/
LOCATION:Trust Kitchen\, 220 E. Fourth Street\, Santa Ana\, CA\, 92701\, United States
ORGANIZER;CN="Kyle McClelland":MAILTO:Concierge@trustdtsa.com
END:VEVENT
BEGIN:VEVENT
DTSTART;TZID=America/Los_Angeles:20241121T180000
DTEND;TZID=America/Los_Angeles:20241121T223000
DTSTAMP:20260425T064422
CREATED:20241018T215419Z
LAST-MODIFIED:20241018T215419Z
UID:10000366-1732212000-1732228200@trustdtsa.com
SUMMARY:Carnivore's Feast 6pm & 8:30pm Seatings
DESCRIPTION:A meat-lover’s delight. $225 per person\, food and wine pairings\, tax and gratuity included. \nPurchase your tickets here.
URL:https://trustdtsa.com/event/carnivores-feast-6pm-830pm-seatings-2/
LOCATION:Trust Kitchen\, 220 E. Fourth Street\, Santa Ana\, CA\, 92701\, United States
ORGANIZER;CN="Kyle McClelland":MAILTO:Concierge@trustdtsa.com
END:VEVENT
BEGIN:VEVENT
DTSTART;TZID=America/Los_Angeles:20241122T180000
DTEND;TZID=America/Los_Angeles:20241122T223000
DTSTAMP:20260425T064422
CREATED:20241018T215605Z
LAST-MODIFIED:20241018T215605Z
UID:10000367-1732298400-1732314600@trustdtsa.com
SUMMARY:Kyle's Dinner Party 6pm & 8:30pm Seatings
DESCRIPTION:Chef Kyle will choose from among the freshest seasonal ingredients and he and the team will put on a 12-course dinner party at which you are the guest of honor.  $250 per person\, food and wine pairings\, tax and gratuities included. \nPurchase your tickets here.
URL:https://trustdtsa.com/event/kyles-dinner-party-6pm-830pm-seatings-2/
LOCATION:Trust Kitchen\, 220 E. Fourth Street\, Santa Ana\, CA\, 92701\, United States
ORGANIZER;CN="Kyle McClelland":MAILTO:Concierge@trustdtsa.com
END:VEVENT
BEGIN:VEVENT
DTSTART;TZID=America/Los_Angeles:20241123T180000
DTEND;TZID=America/Los_Angeles:20241123T223000
DTSTAMP:20260425T064422
CREATED:20241018T215729Z
LAST-MODIFIED:20241018T215729Z
UID:10000368-1732384800-1732401000@trustdtsa.com
SUMMARY:Kyle's Dinner Party 6pm & 8:30pm Seatings
DESCRIPTION:Chef Kyle will choose from among the freshest seasonal ingredients and he and the team will put on a 12-course dinner party at which you are the guest of honor.  $250 per person\, food and wine pairings\, tax and gratuities included. \nPurchase your tickets here.
URL:https://trustdtsa.com/event/kyles-dinner-party-6pm-830pm-seatings-3/
LOCATION:Trust Kitchen\, 220 E. Fourth Street\, Santa Ana\, CA\, 92701\, United States
ORGANIZER;CN="Kyle McClelland":MAILTO:Concierge@trustdtsa.com
END:VEVENT
BEGIN:VEVENT
DTSTART;TZID=America/Los_Angeles:20241126T183000
DTEND;TZID=America/Los_Angeles:20241126T203000
DTSTAMP:20260425T064422
CREATED:20241018T222456Z
LAST-MODIFIED:20241018T222456Z
UID:10000381-1732645800-1732653000@trustdtsa.com
SUMMARY:Fall Veggies 6:30pm Seating
DESCRIPTION:A vegetarian feast featuring the seasonal bounty of the soil. $200 per person\, food and wine pairings\, tax and gratuity included. \nPurchase your tickets here.
URL:https://trustdtsa.com/event/fall-veggies-630pm-seating/
LOCATION:Trust Kitchen\, 220 E. Fourth Street\, Santa Ana\, CA\, 92701\, United States
ORGANIZER;CN="Kyle McClelland":MAILTO:Concierge@trustdtsa.com
END:VEVENT
BEGIN:VEVENT
DTSTART;TZID=America/Los_Angeles:20241127T180000
DTEND;TZID=America/Los_Angeles:20241127T223000
DTSTAMP:20260425T064422
CREATED:20241018T220211Z
LAST-MODIFIED:20241018T220211Z
UID:10000370-1732730400-1732746600@trustdtsa.com
SUMMARY:Lobster Lover's Feast 6pm & 8:30pm Seatings
DESCRIPTION:As a man from Cape Cod\, Chef Kyle knows lobster.  Let him prepare for you a lobster feast you won’t soon forget.  $225 per person\, food and wine pairings\, tax and gratuities included. \nPurchase your tickets here. \n  \n  \n  \n 
URL:https://trustdtsa.com/event/lobster-lovers-feast-6pm-830pm-seatings/
LOCATION:Trust Kitchen\, 220 E. Fourth Street\, Santa Ana\, CA\, 92701\, United States
ORGANIZER;CN="Kyle McClelland":MAILTO:Concierge@trustdtsa.com
END:VEVENT
END:VCALENDAR