BEGIN:VCALENDAR
VERSION:2.0
PRODID:-//Trust - ECPv6.15.20//NONSGML v1.0//EN
CALSCALE:GREGORIAN
METHOD:PUBLISH
X-WR-CALNAME:Trust
X-ORIGINAL-URL:https://trustdtsa.com
X-WR-CALDESC:Events for Trust
REFRESH-INTERVAL;VALUE=DURATION:PT1H
X-Robots-Tag:noindex
X-PUBLISHED-TTL:PT1H
BEGIN:VTIMEZONE
TZID:America/Los_Angeles
BEGIN:DAYLIGHT
TZOFFSETFROM:-0800
TZOFFSETTO:-0700
TZNAME:PDT
DTSTART:20240310T100000
END:DAYLIGHT
BEGIN:STANDARD
TZOFFSETFROM:-0700
TZOFFSETTO:-0800
TZNAME:PST
DTSTART:20241103T090000
END:STANDARD
BEGIN:DAYLIGHT
TZOFFSETFROM:-0800
TZOFFSETTO:-0700
TZNAME:PDT
DTSTART:20250309T100000
END:DAYLIGHT
BEGIN:STANDARD
TZOFFSETFROM:-0700
TZOFFSETTO:-0800
TZNAME:PST
DTSTART:20251102T090000
END:STANDARD
BEGIN:DAYLIGHT
TZOFFSETFROM:-0800
TZOFFSETTO:-0700
TZNAME:PDT
DTSTART:20260308T100000
END:DAYLIGHT
BEGIN:STANDARD
TZOFFSETFROM:-0700
TZOFFSETTO:-0800
TZNAME:PST
DTSTART:20261101T090000
END:STANDARD
END:VTIMEZONE
BEGIN:VEVENT
DTSTART;TZID=America/Los_Angeles:20250304T190000
DTEND;TZID=America/Los_Angeles:20250304T213000
DTSTAMP:20260425T040044
CREATED:20250201T203832Z
LAST-MODIFIED:20250201T203832Z
UID:10000439-1741114800-1741123800@trustdtsa.com
SUMMARY:Carnivore's Feast 7pm
DESCRIPTION:A meat-lover’s delight. $225 per person\, food and wine pairings\, tax and gratuity included. \nPurchase your tickets here.
URL:https://trustdtsa.com/event/carnivores-feast-7pm/
LOCATION:Trust Kitchen\, 220 E. Fourth Street\, Santa Ana\, CA\, 92701\, United States
ORGANIZER;CN="Kyle McClelland":MAILTO:Concierge@trustdtsa.com
END:VEVENT
BEGIN:VEVENT
DTSTART;TZID=America/Los_Angeles:20250306T190000
DTEND;TZID=America/Los_Angeles:20250306T213000
DTSTAMP:20260425T040044
CREATED:20250201T203922Z
LAST-MODIFIED:20250201T203922Z
UID:10000440-1741287600-1741296600@trustdtsa.com
SUMMARY:Carnivore's Feast 7pm
DESCRIPTION:A meat-lover’s delight. $225 per person\, food and wine pairings\, tax and gratuity included. \nPurchase your tickets here.
URL:https://trustdtsa.com/event/carnivores-feast-7pm-2/
LOCATION:Trust Kitchen\, 220 E. Fourth Street\, Santa Ana\, CA\, 92701\, United States
ORGANIZER;CN="Kyle McClelland":MAILTO:Concierge@trustdtsa.com
END:VEVENT
BEGIN:VEVENT
DTSTART;TZID=America/Los_Angeles:20250307T180000
DTEND;TZID=America/Los_Angeles:20250307T230000
DTSTAMP:20260425T040044
CREATED:20250201T204118Z
LAST-MODIFIED:20250201T204118Z
UID:10000441-1741370400-1741388400@trustdtsa.com
SUMMARY:Kyle's Dinner Party 6pm & 8:30pm
DESCRIPTION:Chef Kyle will choose from among the freshest seasonal ingredients and he and the team will put on dinner party at which you are the guest of honor.  $250 per person\, food and wine pairings\, tax and gratuities included.  \nPurchase your tickets here.
URL:https://trustdtsa.com/event/kyles-dinner-party-6pm-830pm/
LOCATION:Trust Kitchen\, 220 E. Fourth Street\, Santa Ana\, CA\, 92701\, United States
ORGANIZER;CN="Kyle McClelland":MAILTO:Concierge@trustdtsa.com
END:VEVENT
BEGIN:VEVENT
DTSTART;TZID=America/Los_Angeles:20250308T180000
DTEND;TZID=America/Los_Angeles:20250308T230000
DTSTAMP:20260425T040044
CREATED:20250201T205001Z
LAST-MODIFIED:20250201T205001Z
UID:10000446-1741456800-1741474800@trustdtsa.com
SUMMARY:Kyle's Dinner Party 6pm & 8:30pm
DESCRIPTION:Chef Kyle will choose from among the freshest seasonal ingredients and he and the team will put on dinner party at which you are the guest of honor.  $250 per person\, food and wine pairings\, tax and gratuities included. \nPurchase your tickets here.
URL:https://trustdtsa.com/event/kyles-dinner-party-6pm-830pm-5/
LOCATION:Trust Kitchen\, 220 E. Fourth Street\, Santa Ana\, CA\, 92701\, United States
ORGANIZER;CN="Kyle McClelland":MAILTO:Concierge@trustdtsa.com
END:VEVENT
BEGIN:VEVENT
DTSTART;TZID=America/Los_Angeles:20250311T190000
DTEND;TZID=America/Los_Angeles:20250311T213000
DTSTAMP:20260425T040044
CREATED:20250201T205136Z
LAST-MODIFIED:20250201T205211Z
UID:10000447-1741719600-1741728600@trustdtsa.com
SUMMARY:Explore World of Tins 7pm
DESCRIPTION:Have you ever been lucky enough to enjoy tinned octopus\, or mussel or sea bass conserva in a tapas bar in Spain\, perhaps with a glass of Cava or Albariño or one of those wicked Spanish Gin & Tonics to wash it down?  If so\, you know that seafood conserva is no joke.  Although seafood conserva is admittedly more popular in Europe and Asia\, the United States is slowly catching on to the notion that tuna isn’t the only worthwhile fish in a can\, and here\, restaurants are leading the way.  At Saltie Girl\, which Chef Kyle opened in Boston in 2016\, he curated a list of over 160 tins\, i.e.\, the “largest tinned seafood collection in New England.”  We’ve asked him to create for us menu offering incorporating some of the best tins from around the world.  $225 per person including food\, wine pairing\, taxes and gratuity. \nPurchase your tickets here.
URL:https://trustdtsa.com/event/explore-world-of-tins-7pm/
LOCATION:Trust Kitchen\, 220 E. Fourth Street\, Santa Ana\, CA\, 92701\, United States
ORGANIZER;CN="Kyle McClelland":MAILTO:Concierge@trustdtsa.com
END:VEVENT
BEGIN:VEVENT
DTSTART;TZID=America/Los_Angeles:20250312T190000
DTEND;TZID=America/Los_Angeles:20250312T213000
DTSTAMP:20260425T040044
CREATED:20250201T205333Z
LAST-MODIFIED:20250201T205333Z
UID:10000448-1741806000-1741815000@trustdtsa.com
SUMMARY:French Classics 7pm
DESCRIPTION:Chef Kyle channels his early years studying under the greatest French chefs in culinary school. After going to Paris and reminiscing he’s bringing the classics to you. Bon Appetit. $200 per person inclusive of food\, wine pairings\, tax\, and gratuity. \nPurchase your tickets here.
URL:https://trustdtsa.com/event/french-classics-7pm/
LOCATION:Trust Kitchen\, 220 E. Fourth Street\, Santa Ana\, CA\, 92701\, United States
ORGANIZER;CN="Kyle McClelland":MAILTO:Concierge@trustdtsa.com
END:VEVENT
BEGIN:VEVENT
DTSTART;TZID=America/Los_Angeles:20250313T190000
DTEND;TZID=America/Los_Angeles:20250313T213000
DTSTAMP:20260425T040044
CREATED:20250201T205422Z
LAST-MODIFIED:20250201T205422Z
UID:10000449-1741892400-1741901400@trustdtsa.com
SUMMARY:French Classics 7pm
DESCRIPTION:Chef Kyle channels his early years studying under the greatest French chefs in culinary school. After going to Paris and reminiscing he’s bringing the classics to you. Bon Appetit. $200 per person inclusive of food\, wine pairings\, tax\, and gratuity. \nPurchase your tickets here.
URL:https://trustdtsa.com/event/french-classics-7pm-2/
LOCATION:Trust Kitchen\, 220 E. Fourth Street\, Santa Ana\, CA\, 92701\, United States
ORGANIZER;CN="Kyle McClelland":MAILTO:Concierge@trustdtsa.com
END:VEVENT
BEGIN:VEVENT
DTSTART;TZID=America/Los_Angeles:20250314T180000
DTEND;TZID=America/Los_Angeles:20250314T230000
DTSTAMP:20260425T040044
CREATED:20250201T204325Z
LAST-MODIFIED:20250201T204325Z
UID:10000443-1741975200-1741993200@trustdtsa.com
SUMMARY:Kyle's Dinner Party 6pm & 8:30pm
DESCRIPTION:Chef Kyle will choose from among the freshest seasonal ingredients and he and the team will put on dinner party at which you are the guest of honor.  $250 per person\, food and wine pairings\, tax and gratuities included.  \nPurchase your tickets here.
URL:https://trustdtsa.com/event/kyles-dinner-party-6pm-830pm-3/
LOCATION:Trust Kitchen\, 220 E. Fourth Street\, Santa Ana\, CA\, 92701\, United States
ORGANIZER;CN="Kyle McClelland":MAILTO:Concierge@trustdtsa.com
END:VEVENT
BEGIN:VEVENT
DTSTART;TZID=America/Los_Angeles:20250315T180000
DTEND;TZID=America/Los_Angeles:20250315T230000
DTSTAMP:20260425T040044
CREATED:20250201T204423Z
LAST-MODIFIED:20250201T204500Z
UID:10000444-1742061600-1742079600@trustdtsa.com
SUMMARY:Kyle Dinner Party 6pm & 8:30pm
DESCRIPTION:Chef Kyle will choose from among the freshest seasonal ingredients and he and the team will put on dinner party at which you are the guest of honor.  $250 per person\, food and wine pairings\, tax and gratuities included.  \nPurchase your tickets here.
URL:https://trustdtsa.com/event/kyle-dinner-party-6pm-830pm/
LOCATION:Trust Kitchen\, 220 E. Fourth Street\, Santa Ana\, CA\, 92701\, United States
ORGANIZER;CN="Kyle McClelland":MAILTO:Concierge@trustdtsa.com
END:VEVENT
BEGIN:VEVENT
DTSTART;TZID=America/Los_Angeles:20250319T190000
DTEND;TZID=America/Los_Angeles:20250319T213000
DTSTAMP:20260425T040044
CREATED:20250201T205551Z
LAST-MODIFIED:20250201T205551Z
UID:10000450-1742410800-1742419800@trustdtsa.com
SUMMARY:Battledish: Farmer's Market 7pm
DESCRIPTION:Three chefs\, each chef picks four ingredients\, and each ingredient gets its own dish. We never let the guests know who made which dish but at the end we always ask each person what their favorite dish of the evening is. We tabulate the results and a Battledish winner is declared. This is a vegetarian dinner! \nPurchase your tickets here.
URL:https://trustdtsa.com/event/battledish-farmers-market-7pm/
LOCATION:Trust Kitchen\, 220 E. Fourth Street\, Santa Ana\, CA\, 92701\, United States
ORGANIZER;CN="Kyle McClelland":MAILTO:Concierge@trustdtsa.com
END:VEVENT
BEGIN:VEVENT
DTSTART;TZID=America/Los_Angeles:20250320T190000
DTEND;TZID=America/Los_Angeles:20250320T213000
DTSTAMP:20260425T040044
CREATED:20250201T205710Z
LAST-MODIFIED:20250201T205710Z
UID:10000451-1742497200-1742506200@trustdtsa.com
SUMMARY:Kyle's Dinner Party 7pm
DESCRIPTION:Chef Kyle will choose from among the freshest seasonal ingredients and he and the team will put on dinner party at which you are the guest of honor.  $250 per person\, food and wine pairings\, tax and gratuities included. \nPurchase your tickets here.
URL:https://trustdtsa.com/event/kyles-dinner-party-7pm/
LOCATION:Trust Kitchen\, 220 E. Fourth Street\, Santa Ana\, CA\, 92701\, United States
ORGANIZER;CN="Kyle McClelland":MAILTO:Concierge@trustdtsa.com
END:VEVENT
BEGIN:VEVENT
DTSTART;TZID=America/Los_Angeles:20250322T180000
DTEND;TZID=America/Los_Angeles:20250322T230000
DTSTAMP:20260425T040044
CREATED:20250201T205904Z
LAST-MODIFIED:20250201T205904Z
UID:10000453-1742666400-1742684400@trustdtsa.com
SUMMARY:Kyle's Dinner Party 6pm & 8:30pm
DESCRIPTION:Chef Kyle will choose from among the freshest seasonal ingredients and he and the team will put on dinner party at which you are the guest of honor.  $250 per person\, food and wine pairings\, tax and gratuities included. \nPurchase your tickets here.
URL:https://trustdtsa.com/event/kyles-dinner-party-6pm-830pm-7/
LOCATION:Trust Kitchen\, 220 E. Fourth Street\, Santa Ana\, CA\, 92701\, United States
ORGANIZER;CN="Kyle McClelland":MAILTO:Concierge@trustdtsa.com
END:VEVENT
BEGIN:VEVENT
DTSTART;TZID=America/Los_Angeles:20250326T190000
DTEND;TZID=America/Los_Angeles:20250326T213000
DTSTAMP:20260425T040044
CREATED:20250201T210258Z
LAST-MODIFIED:20250201T210258Z
UID:10000456-1743015600-1743024600@trustdtsa.com
SUMMARY:Ultimate Surf and Turf 6pm & 8:30pm
DESCRIPTION:Chef Kyle will curate 13 courses from the land and the sea for the ultimate surf and turf experience. $250 per person all inclusive of food\, wine pairing\, taxes and gratuity. \nPurchase your tickets here.
URL:https://trustdtsa.com/event/ultimate-surf-and-turf-6pm-830pm/
LOCATION:Trust Kitchen\, 220 E. Fourth Street\, Santa Ana\, CA\, 92701\, United States
ORGANIZER;CN="Kyle McClelland":MAILTO:Concierge@trustdtsa.com
END:VEVENT
BEGIN:VEVENT
DTSTART;TZID=America/Los_Angeles:20250327T190000
DTEND;TZID=America/Los_Angeles:20250327T213000
DTSTAMP:20260425T040044
CREATED:20250201T210349Z
LAST-MODIFIED:20250201T210349Z
UID:10000457-1743102000-1743111000@trustdtsa.com
SUMMARY:Ultimate Surf and Turf 6pm & 8:30pm
DESCRIPTION:Chef Kyle will curate 13 courses from the land and the sea for the ultimate surf and turf experience. $250 per person all inclusive of food\, wine pairing\, taxes and gratuity. \nPurchase your tickets here.
URL:https://trustdtsa.com/event/ultimate-surf-and-turf-6pm-830pm-2/
LOCATION:Trust Kitchen\, 220 E. Fourth Street\, Santa Ana\, CA\, 92701\, United States
ORGANIZER;CN="Kyle McClelland":MAILTO:Concierge@trustdtsa.com
END:VEVENT
BEGIN:VEVENT
DTSTART;TZID=America/Los_Angeles:20250328T180000
DTEND;TZID=America/Los_Angeles:20250328T230000
DTSTAMP:20260425T040044
CREATED:20250201T210541Z
LAST-MODIFIED:20250201T210541Z
UID:10000458-1743184800-1743202800@trustdtsa.com
SUMMARY:Kyle's Dinner Party 6pm & 8:30pm
DESCRIPTION:Chef Kyle will choose from among the freshest seasonal ingredients and he and the team will put on dinner party at which you are the guest of honor.  $250 per person\, food and wine pairings\, tax and gratuities included. \nPurchase your tickets here.
URL:https://trustdtsa.com/event/kyles-dinner-party-6pm-830pm-8/
LOCATION:Trust Kitchen\, 220 E. Fourth Street\, Santa Ana\, CA\, 92701\, United States
ORGANIZER;CN="Kyle McClelland":MAILTO:Concierge@trustdtsa.com
END:VEVENT
BEGIN:VEVENT
DTSTART;TZID=America/Los_Angeles:20250329T180000
DTEND;TZID=America/Los_Angeles:20250330T230000
DTSTAMP:20260425T040044
CREATED:20250201T210607Z
LAST-MODIFIED:20250201T210635Z
UID:10000459-1743271200-1743375600@trustdtsa.com
SUMMARY:Kyle's Dinner Party 6pm & 8:30pm
DESCRIPTION:Chef Kyle will choose from among the freshest seasonal ingredients and he and the team will put on dinner party at which you are the guest of honor.  $250 per person\, food and wine pairings\, tax and gratuities included. \nPurchase your tickets here.
URL:https://trustdtsa.com/event/kyles-dinner-party-6pm-830pm-9/
LOCATION:Trust Kitchen\, 220 E. Fourth Street\, Santa Ana\, CA\, 92701\, United States
ORGANIZER;CN="Kyle McClelland":MAILTO:Concierge@trustdtsa.com
END:VEVENT
BEGIN:VEVENT
DTSTART;TZID=America/Los_Angeles:20250330T130000
DTEND;TZID=America/Los_Angeles:20250330T153000
DTSTAMP:20260425T040044
CREATED:20250201T210116Z
LAST-MODIFIED:20250201T210116Z
UID:10000455-1743339600-1743348600@trustdtsa.com
SUMMARY:Bougie Brunch 1pm
DESCRIPTION:Come join us for Bougie Brunch and enjoy some of the brunch classics and some of our chefs favorites. Food\, wine pairing\, taxes and gratuity included. $225 per person.  \nPurchase your tickets here.
URL:https://trustdtsa.com/event/bougie-brunch-1pm-2/
LOCATION:Trust Kitchen\, 220 E. Fourth Street\, Santa Ana\, CA\, 92701\, United States
ORGANIZER;CN="Kyle McClelland":MAILTO:Concierge@trustdtsa.com
END:VEVENT
BEGIN:VEVENT
DTSTART;TZID=America/Los_Angeles:20250401T190000
DTEND;TZID=America/Los_Angeles:20250401T210000
DTSTAMP:20260425T040044
CREATED:20250311T165624Z
LAST-MODIFIED:20250311T165624Z
UID:10000461-1743534000-1743541200@trustdtsa.com
SUMMARY:Trust Lite - 7pm
DESCRIPTION:Get to know Chef Kyle with a Trust Lite fare of 9 courses for $175 per person\, including food\, wine pairing\, taxes and gratuity. \nPurchase your tickets here.
URL:https://trustdtsa.com/event/trust-lite-7pm/
LOCATION:Trust Kitchen\, 220 E. Fourth Street\, Santa Ana\, CA\, 92701\, United States
ORGANIZER;CN="Kyle McClelland":MAILTO:Concierge@trustdtsa.com
END:VEVENT
BEGIN:VEVENT
DTSTART;TZID=America/Los_Angeles:20250402T190000
DTEND;TZID=America/Los_Angeles:20250402T213000
DTSTAMP:20260425T040044
CREATED:20250311T172930Z
LAST-MODIFIED:20250311T172930Z
UID:10000481-1743620400-1743629400@trustdtsa.com
SUMMARY:Roadtrip: New England - 7pm
DESCRIPTION:Come join us in the Trust Kitchen while Chef Kyle brings us back to his New England roots delivering all the classics and staples you wouldn’t want to miss. $225 per person\, taxes\, gratuity and wine pairing included. \nPurchase your tickets here.
URL:https://trustdtsa.com/event/roadtrip-new-england-7pm-3/
LOCATION:Trust Kitchen\, 220 E. Fourth Street\, Santa Ana\, CA\, 92701\, United States
ORGANIZER;CN="Kyle McClelland":MAILTO:Concierge@trustdtsa.com
END:VEVENT
BEGIN:VEVENT
DTSTART;TZID=America/Los_Angeles:20250403T190000
DTEND;TZID=America/Los_Angeles:20250403T213000
DTSTAMP:20260425T040044
CREATED:20250311T165758Z
LAST-MODIFIED:20250311T165758Z
UID:10000462-1743706800-1743715800@trustdtsa.com
SUMMARY:Roadtrip: New England 7pm
DESCRIPTION:Come join us in the Trust Kitchen while Chef Kyle brings us back to his New England roots delivering all the classics and staples you wouldn’t want to miss. $225 per person\, taxes\, gratuity and wine pairing included. \nPurchase your tickets here.
URL:https://trustdtsa.com/event/roadtrip-new-england-7pm/
LOCATION:Trust Kitchen\, 220 E. Fourth Street\, Santa Ana\, CA\, 92701\, United States
ORGANIZER;CN="Kyle McClelland":MAILTO:Concierge@trustdtsa.com
END:VEVENT
BEGIN:VEVENT
DTSTART;TZID=America/Los_Angeles:20250403T190000
DTEND;TZID=America/Los_Angeles:20250403T213000
DTSTAMP:20260425T040044
CREATED:20250311T165900Z
LAST-MODIFIED:20250311T165900Z
UID:10000463-1743706800-1743715800@trustdtsa.com
SUMMARY:Roadtrip: New England 7pm
DESCRIPTION:Come join us in the Trust Kitchen while Chef Kyle brings us back to his New England roots delivering all the classics and staples you wouldn’t want to miss. $225 per person\, taxes\, gratuity and wine pairing included. \nPurchase your tickets here.
URL:https://trustdtsa.com/event/roadtrip-new-england-7pm-2/
LOCATION:Trust Kitchen\, 220 E. Fourth Street\, Santa Ana\, CA\, 92701\, United States
ORGANIZER;CN="Kyle McClelland":MAILTO:Concierge@trustdtsa.com
END:VEVENT
BEGIN:VEVENT
DTSTART;TZID=America/Los_Angeles:20250404T180000
DTEND;TZID=America/Los_Angeles:20250404T233000
DTSTAMP:20260425T040044
CREATED:20250311T170105Z
LAST-MODIFIED:20250311T170105Z
UID:10000464-1743789600-1743809400@trustdtsa.com
SUMMARY:Trust Dinner Party 6pm & 8:30pm
DESCRIPTION:Chef Kyle is selecting the most exciting and inspiring ingredients and putting together a dinner party for 18 of his closest friends. $250 per person\, food and wine pairings\, tax and gratuities included. \nPurchase your tickets here.
URL:https://trustdtsa.com/event/trust-dinner-party-6pm-830pm-8/
LOCATION:Trust Kitchen\, 220 E. Fourth Street\, Santa Ana\, CA\, 92701\, United States
ORGANIZER;CN="Kyle McClelland":MAILTO:Concierge@trustdtsa.com
END:VEVENT
BEGIN:VEVENT
DTSTART;TZID=America/Los_Angeles:20250404T180000
DTEND;TZID=America/Los_Angeles:20250404T233000
DTSTAMP:20260425T040044
CREATED:20250311T170304Z
LAST-MODIFIED:20250311T170304Z
UID:10000465-1743789600-1743809400@trustdtsa.com
SUMMARY:Trust Dinner Party 6 & 8:30pm
DESCRIPTION:Chef Kyle is selecting the most exciting and inspiring ingredients and putting together a dinner party for 18 of his closest friends. $250 per person\, food and wine pairings\, tax and gratuities included. \nPurchase your tickets here.
URL:https://trustdtsa.com/event/trust-dinner-party-6-830pm/
LOCATION:Trust Kitchen\, 220 E. Fourth Street\, Santa Ana\, CA\, 92701\, United States
ORGANIZER;CN="Kyle McClelland":MAILTO:Concierge@trustdtsa.com
END:VEVENT
BEGIN:VEVENT
DTSTART;TZID=America/Los_Angeles:20250405T180000
DTEND;TZID=America/Los_Angeles:20250405T233000
DTSTAMP:20260425T040045
CREATED:20250311T170416Z
LAST-MODIFIED:20250311T170416Z
UID:10000466-1743876000-1743895800@trustdtsa.com
SUMMARY:Trust Dinner Party 6pm & 8:30pm
DESCRIPTION:Chef Kyle is selecting the most exciting and inspiring ingredients and putting together a dinner party for 18 of his closest friends. $250 per person\, food and wine pairings\, tax and gratuities included. \nPurchase your tickets here.
URL:https://trustdtsa.com/event/trust-dinner-party-6pm-830pm-9/
LOCATION:Trust Kitchen\, 220 E. Fourth Street\, Santa Ana\, CA\, 92701\, United States
ORGANIZER;CN="Kyle McClelland":MAILTO:Concierge@trustdtsa.com
END:VEVENT
BEGIN:VEVENT
DTSTART;TZID=America/Los_Angeles:20250408T190000
DTEND;TZID=America/Los_Angeles:20250408T213000
DTSTAMP:20260425T040045
CREATED:20250311T170712Z
LAST-MODIFIED:20250311T170748Z
UID:10000467-1744138800-1744147800@trustdtsa.com
SUMMARY:Battledish: Farmer's Market 7pm
DESCRIPTION:Three chefs\, each chef picks four ingredients\, and each ingredient gets its own dish. We never let the guests know who made which dish but at the end we always ask each person what their favorite dish of the evening is. We tabulate the results and a Battledish winner is declared. This is a vegetarian dinner! \nPurchase your tickets here.
URL:https://trustdtsa.com/event/battledish-farmers-market-7pm-2/
LOCATION:Trust Kitchen\, 220 E. Fourth Street\, Santa Ana\, CA\, 92701\, United States
ORGANIZER;CN="Kyle McClelland":MAILTO:Concierge@trustdtsa.com
END:VEVENT
BEGIN:VEVENT
DTSTART;TZID=America/Los_Angeles:20250409T190000
DTEND;TZID=America/Los_Angeles:20250409T213000
DTSTAMP:20260425T040045
CREATED:20250311T170904Z
LAST-MODIFIED:20250311T170904Z
UID:10000468-1744225200-1744234200@trustdtsa.com
SUMMARY:Ultimate Steak Dinner - 7pm
DESCRIPTION:A celebration of beef\, America’s favorite protein\, featuring several of the world’s finest examples and our favorite steakhouse sides. $225 per person\, food and wine pairings\, tax and gratuities included. \nPurchase your tickets here.
URL:https://trustdtsa.com/event/ultimate-steak-dinner-7pm/
LOCATION:Trust Kitchen\, 220 E. Fourth Street\, Santa Ana\, CA\, 92701\, United States
ORGANIZER;CN="Kyle McClelland":MAILTO:Concierge@trustdtsa.com
END:VEVENT
BEGIN:VEVENT
DTSTART;TZID=America/Los_Angeles:20250410T190000
DTEND;TZID=America/Los_Angeles:20250410T213000
DTSTAMP:20260425T040045
CREATED:20250311T171029Z
LAST-MODIFIED:20250311T171124Z
UID:10000469-1744311600-1744320600@trustdtsa.com
SUMMARY:Ultimate Steak Dinner - 7pm
DESCRIPTION:A celebration of beef\, America’s favorite protein\, featuring several of the world’s finest examples and our favorite steakhouse sides. $225 per person\, food and wine pairings\, tax and gratuities included.  \nPurchase your tickets here.
URL:https://trustdtsa.com/event/ultimate-steak-dinner-7pm-2/
LOCATION:Trust Kitchen\, 220 E. Fourth Street\, Santa Ana\, CA\, 92701\, United States
ORGANIZER;CN="Kyle McClelland":MAILTO:Concierge@trustdtsa.com
END:VEVENT
BEGIN:VEVENT
DTSTART;TZID=America/Los_Angeles:20250412T180000
DTEND;TZID=America/Los_Angeles:20250412T233000
DTSTAMP:20260425T040045
CREATED:20250311T171253Z
LAST-MODIFIED:20250311T171253Z
UID:10000470-1744480800-1744500600@trustdtsa.com
SUMMARY:Trust Dinner Party - 6 & 8:30pm
DESCRIPTION:Chef Kyle is selecting the most exciting and inspiring ingredients and putting together a dinner party for 18 of his closest friends. $250 per person\, food and wine pairings\, tax and gratuities included. \nPurchase your tickets here.
URL:https://trustdtsa.com/event/trust-dinner-party-6-830pm-2/
LOCATION:Trust Kitchen\, 220 E. Fourth Street\, Santa Ana\, CA\, 92701\, United States
ORGANIZER;CN="Kyle McClelland":MAILTO:Concierge@trustdtsa.com
END:VEVENT
BEGIN:VEVENT
DTSTART;TZID=America/Los_Angeles:20250417T190000
DTEND;TZID=America/Los_Angeles:20250417T213000
DTSTAMP:20260425T040045
CREATED:20250311T171429Z
LAST-MODIFIED:20250311T171429Z
UID:10000471-1744916400-1744925400@trustdtsa.com
SUMMARY:Trust Dinner Party - 7pm
DESCRIPTION:Chef Kyle is selecting the most exciting and inspiring ingredients and putting together a dinner party for 18 of his closest friends. $250 per person\, food and wine pairings\, tax and gratuities included. \nPurchase your tickets here.
URL:https://trustdtsa.com/event/trust-dinner-party-7pm/
LOCATION:Trust Kitchen\, 220 E. Fourth Street\, Santa Ana\, CA\, 92701\, United States
ORGANIZER;CN="Kyle McClelland":MAILTO:Concierge@trustdtsa.com
END:VEVENT
BEGIN:VEVENT
DTSTART;TZID=America/Los_Angeles:20250418T180000
DTEND;TZID=America/Los_Angeles:20250418T233000
DTSTAMP:20260425T040045
CREATED:20250311T171606Z
LAST-MODIFIED:20250311T171606Z
UID:10000472-1744999200-1745019000@trustdtsa.com
SUMMARY:Trust Dinner Party - 6 & 8:30pm
DESCRIPTION:Chef Kyle is selecting the most exciting and inspiring ingredients and putting together a dinner party for 18 of his closest friends. $250 per person\, food and wine pairings\, tax and gratuities included. \nPurchase your tickets here.
URL:https://trustdtsa.com/event/trust-dinner-party-6-830pm-3/
LOCATION:Trust Kitchen\, 220 E. Fourth Street\, Santa Ana\, CA\, 92701\, United States
ORGANIZER;CN="Kyle McClelland":MAILTO:Concierge@trustdtsa.com
END:VEVENT
END:VCALENDAR