BEGIN:VCALENDAR
VERSION:2.0
PRODID:-//Trust - ECPv6.15.20//NONSGML v1.0//EN
CALSCALE:GREGORIAN
METHOD:PUBLISH
X-WR-CALNAME:Trust
X-ORIGINAL-URL:https://trustdtsa.com
X-WR-CALDESC:Events for Trust
REFRESH-INTERVAL;VALUE=DURATION:PT1H
X-Robots-Tag:noindex
X-PUBLISHED-TTL:PT1H
BEGIN:VTIMEZONE
TZID:America/Los_Angeles
BEGIN:DAYLIGHT
TZOFFSETFROM:-0800
TZOFFSETTO:-0700
TZNAME:PDT
DTSTART:20250309T100000
END:DAYLIGHT
BEGIN:STANDARD
TZOFFSETFROM:-0700
TZOFFSETTO:-0800
TZNAME:PST
DTSTART:20251102T090000
END:STANDARD
BEGIN:DAYLIGHT
TZOFFSETFROM:-0800
TZOFFSETTO:-0700
TZNAME:PDT
DTSTART:20260308T100000
END:DAYLIGHT
BEGIN:STANDARD
TZOFFSETFROM:-0700
TZOFFSETTO:-0800
TZNAME:PST
DTSTART:20261101T090000
END:STANDARD
BEGIN:DAYLIGHT
TZOFFSETFROM:-0800
TZOFFSETTO:-0700
TZNAME:PDT
DTSTART:20270314T100000
END:DAYLIGHT
BEGIN:STANDARD
TZOFFSETFROM:-0700
TZOFFSETTO:-0800
TZNAME:PST
DTSTART:20271107T090000
END:STANDARD
END:VTIMEZONE
BEGIN:VEVENT
DTSTART;TZID=America/Los_Angeles:20260429T180000
DTEND;TZID=America/Los_Angeles:20260429T203000
DTSTAMP:20260423T153755
CREATED:20260412T212216Z
LAST-MODIFIED:20260412T213126Z
UID:10000723-1777485600-1777494600@trustdtsa.com
SUMMARY:Trust Farewell Tour 6pm & 8:30pm
DESCRIPTION:The countdown is on! This is your last chance to get your favorite Trust classics like the freshest bread and kouign-amann! $260 per person includes food\, wine pairing\, tax and gratuity. If you do not want the wine pairing\, please reach out and we can discount your ticket. Unfortunately we can not accommodate all dietary restrictions. Please reach out prior to purchasing seats by call or text at 714-732-0598 with questions.
URL:https://trustdtsa.com/event/trust-farewell-tour-6pm-830pm/
LOCATION:Trust Kitchen\, 220 E. Fourth Street\, Santa Ana\, CA\, 92701\, United States
END:VEVENT
BEGIN:VEVENT
DTSTART;TZID=America/Los_Angeles:20260425T180000
DTEND;TZID=America/Los_Angeles:20260425T203000
DTSTAMP:20260423T153755
CREATED:20260320T161311Z
LAST-MODIFIED:20260320T161311Z
UID:10000717-1777140000-1777149000@trustdtsa.com
SUMMARY:New and Improved Ultimate Steak Dinner 5pm\, 7:15pm & 9:30pm
DESCRIPTION:After almost a decade of the same steak dinner\, we have improved our grilling technique\, started pre-smoking some of the steaks and have new proprietary flake steak that has gone over with incredible success. We plan to continue to evolve and improve everyone’s favorite steak dinner! $195 per person includes food\, tax and gratuity. Optional wine pairing add-on for $65 per person. Unfortunately\, dietary restrictions and food allergies can not always be accommodated. Please reach out by call or text to 714-732-0598 with questions before purchasing your tickets.
URL:https://trustdtsa.com/event/new-and-improved-ultimate-steak-dinner-5pm-715pm-930pm/
LOCATION:Trust Kitchen\, 220 E. Fourth Street\, Santa Ana\, CA\, 92701\, United States
END:VEVENT
BEGIN:VEVENT
DTSTART;TZID=America/Los_Angeles:20260424T180000
DTEND;TZID=America/Los_Angeles:20260424T203000
DTSTAMP:20260423T153755
CREATED:20260320T161202Z
LAST-MODIFIED:20260320T161202Z
UID:10000716-1777053600-1777062600@trustdtsa.com
SUMMARY:New and Improved Ultimate Steak Dinner 6pm & 8:30pm
DESCRIPTION:After almost a decade of the same steak dinner\, we have improved our grilling technique\, started pre-smoking some of the steaks and have new proprietary flake steak that has gone over with incredible success. We plan to continue to evolve and improve everyone’s favorite steak dinner! $195 per person includes food\, tax and gratuity. Optional wine pairing add-on for $65 per person. Unfortunately\, dietary restrictions and food allergies can not always be accommodated. Please reach out by call or text to 714-732-0598 with questions before purchasing your tickets.
URL:https://trustdtsa.com/event/new-and-improved-ultimate-steak-dinner-6pm-830pm-9/
LOCATION:Trust Kitchen\, 220 E. Fourth Street\, Santa Ana\, CA\, 92701\, United States
END:VEVENT
BEGIN:VEVENT
DTSTART;TZID=America/Los_Angeles:20260423T180000
DTEND;TZID=America/Los_Angeles:20260423T203000
DTSTAMP:20260423T153755
CREATED:20260320T161051Z
LAST-MODIFIED:20260320T161051Z
UID:10000715-1776967200-1776976200@trustdtsa.com
SUMMARY:New and Improved Ultimate Steak Dinner 6pm & 8:30pm
DESCRIPTION:After almost a decade of the same steak dinner\, we have improved our grilling technique\, started pre-smoking some of the steaks and have new proprietary flake steak that has gone over with incredible success. We plan to continue to evolve and improve everyone’s favorite steak dinner! $195 per person includes food\, tax and gratuity. Optional wine pairing add-on for $65 per person. Unfortunately\, dietary restrictions and food allergies can not always be accommodated. Please reach out by call or text to 714-732-0598 with questions before purchasing your tickets.
URL:https://trustdtsa.com/event/new-and-improved-ultimate-steak-dinner-6pm-830pm-8/
LOCATION:Trust Kitchen\, 220 E. Fourth Street\, Santa Ana\, CA\, 92701\, United States
END:VEVENT
BEGIN:VEVENT
DTSTART;TZID=America/Los_Angeles:20260422T180000
DTEND;TZID=America/Los_Angeles:20260422T203000
DTSTAMP:20260423T153755
CREATED:20260320T161011Z
LAST-MODIFIED:20260320T161011Z
UID:10000714-1776880800-1776889800@trustdtsa.com
SUMMARY:New and Improved Ultimate Steak Dinner 6pm & 8:30pm
DESCRIPTION:After almost a decade of the same steak dinner\, we have improved our grilling technique\, started pre-smoking some of the steaks and have new proprietary flake steak that has gone over with incredible success. We plan to continue to evolve and improve everyone’s favorite steak dinner! $195 per person includes food\, tax and gratuity. Optional wine pairing add-on for $65 per person. Unfortunately\, dietary restrictions and food allergies can not always be accommodated. Please reach out by call or text to 714-732-0598 with questions before purchasing your tickets.
URL:https://trustdtsa.com/event/new-and-improved-ultimate-steak-dinner-6pm-830pm-7/
LOCATION:Trust Kitchen\, 220 E. Fourth Street\, Santa Ana\, CA\, 92701\, United States
END:VEVENT
BEGIN:VEVENT
DTSTART;TZID=America/Los_Angeles:20260418T180000
DTEND;TZID=America/Los_Angeles:20260418T203000
DTSTAMP:20260423T153755
CREATED:20260320T160848Z
LAST-MODIFIED:20260320T160848Z
UID:10000713-1776535200-1776544200@trustdtsa.com
SUMMARY:Trust Dinner Party 6pm
DESCRIPTION:The Trust Kitchen team is selecting the most exciting and inspiring ingredients and putting together a dinner party for 18. $195 per person\, food\, tax and gratuities included. Optional wine pairing add on $65 per person. Unfortunately\, dietary restrictions and food allergies can not always be accommodated. Please reach out by call or text to 714-732-0598 with questions before purchasing your tickets.
URL:https://trustdtsa.com/event/trust-dinner-party-6pm-2/
LOCATION:Trust Kitchen\, 220 E. Fourth Street\, Santa Ana\, CA\, 92701\, United States
END:VEVENT
BEGIN:VEVENT
DTSTART;TZID=America/Los_Angeles:20260417T180000
DTEND;TZID=America/Los_Angeles:20260417T203000
DTSTAMP:20260423T153755
CREATED:20260320T160744Z
LAST-MODIFIED:20260320T160744Z
UID:10000712-1776448800-1776457800@trustdtsa.com
SUMMARY:Trust Dinner Party 6pm & 8:30pm
DESCRIPTION:The Trust Kitchen team is selecting the most exciting and inspiring ingredients and putting together a dinner party for 18. $195 per person\, food\, tax and gratuities included. Optional wine pairing add on $65 per person. Unfortunately\, dietary restrictions and food allergies can not always be accommodated. Please reach out by call or text to 714-732-0598 with questions before purchasing your tickets.
URL:https://trustdtsa.com/event/trust-dinner-party-6pm-830pm-78/
LOCATION:Trust Kitchen\, 220 E. Fourth Street\, Santa Ana\, CA\, 92701\, United States
END:VEVENT
BEGIN:VEVENT
DTSTART;TZID=America/Los_Angeles:20260416T180000
DTEND;TZID=America/Los_Angeles:20260416T203000
DTSTAMP:20260423T153755
CREATED:20260320T160703Z
LAST-MODIFIED:20260320T160703Z
UID:10000711-1776362400-1776371400@trustdtsa.com
SUMMARY:Trust Dinner Party 6pm & 8:30pm
DESCRIPTION:The Trust Kitchen team is selecting the most exciting and inspiring ingredients and putting together a dinner party for 18. $195 per person\, food\, tax and gratuities included. Optional wine pairing add on $65 per person. Unfortunately\, dietary restrictions and food allergies can not always be accommodated. Please reach out by call or text to 714-732-0598 with questions before purchasing your tickets.
URL:https://trustdtsa.com/event/trust-dinner-party-6pm-830pm-77/
LOCATION:Trust Kitchen\, 220 E. Fourth Street\, Santa Ana\, CA\, 92701\, United States
END:VEVENT
BEGIN:VEVENT
DTSTART;TZID=America/Los_Angeles:20260415T180000
DTEND;TZID=America/Los_Angeles:20260415T203000
DTSTAMP:20260423T153755
CREATED:20260320T160622Z
LAST-MODIFIED:20260320T160622Z
UID:10000710-1776276000-1776285000@trustdtsa.com
SUMMARY:Trust Dinner Party 6pm & 8:30pm
DESCRIPTION:The Trust Kitchen team is selecting the most exciting and inspiring ingredients and putting together a dinner party for 18. $195 per person\, food\, tax and gratuities included. Optional wine pairing add on $65 per person. Unfortunately\, dietary restrictions and food allergies can not always be accommodated. Please reach out by call or text to 714-732-0598 with questions before purchasing your tickets.
URL:https://trustdtsa.com/event/trust-dinner-party-6pm-830pm-76/
LOCATION:Trust Kitchen\, 220 E. Fourth Street\, Santa Ana\, CA\, 92701\, United States
END:VEVENT
BEGIN:VEVENT
DTSTART;TZID=America/Los_Angeles:20260411T180000
DTEND;TZID=America/Los_Angeles:20260411T203000
DTSTAMP:20260423T153755
CREATED:20260320T160444Z
LAST-MODIFIED:20260320T160444Z
UID:10000709-1775930400-1775939400@trustdtsa.com
SUMMARY:Pescatarian Paradise 6pm & 8:30pm
DESCRIPTION:A celebration of the best available seafood. This entire menu is pescatarian friendly. $195 per person includes food\, tax and gratuity. Optional wine paring for $65 per person. Unfortunately\, dietary restrictions and food allergies can not always be accommodated. Please reach out by call or text to 714-732-0598 with questions before purchasing your tickets.
URL:https://trustdtsa.com/event/pescatarian-paradise-6pm-830pm-2/
LOCATION:Trust Kitchen\, 220 E. Fourth Street\, Santa Ana\, CA\, 92701\, United States
END:VEVENT
BEGIN:VEVENT
DTSTART;TZID=America/Los_Angeles:20260410T180000
DTEND;TZID=America/Los_Angeles:20260410T203000
DTSTAMP:20260423T153755
CREATED:20260320T160355Z
LAST-MODIFIED:20260320T160355Z
UID:10000708-1775844000-1775853000@trustdtsa.com
SUMMARY:Pescatarian Paradise 6pm & 8:30pm
DESCRIPTION:A celebration of the best available seafood. This entire menu is pescatarian friendly. $195 per person includes food\, tax and gratuity. Optional wine paring for $65 per person. Unfortunately\, dietary restrictions and food allergies can not always be accommodated. Please reach out by call or text to 714-732-0598 with questions before purchasing your tickets.
URL:https://trustdtsa.com/event/pescatarian-paradise-6pm-830pm/
LOCATION:Trust Kitchen\, 220 E. Fourth Street\, Santa Ana\, CA\, 92701\, United States
END:VEVENT
BEGIN:VEVENT
DTSTART;TZID=America/Los_Angeles:20260409T180000
DTEND;TZID=America/Los_Angeles:20260409T203000
DTSTAMP:20260423T153755
CREATED:20260320T155855Z
LAST-MODIFIED:20260320T160157Z
UID:10000706-1775757600-1775766600@trustdtsa.com
SUMMARY:Veggies are Awesome 6pm & 8:30pm
DESCRIPTION:A night celebrating the best of vegetables in season. This menu will be entirely vegetarian friendly. $175 per person includes food\, taxes and gratuity. Optional wine pairing for $65 per person. Unfortunately\, dietary restrictions and food allergies can not always be accommodated. Please reach out by call or text to 714-732-0598 with questions before purchasing your tickets.
URL:https://trustdtsa.com/event/laughing-drunk-japanese-izakaya-experience-6pm-830pm-5/
LOCATION:Trust Kitchen\, 220 E. Fourth Street\, Santa Ana\, CA\, 92701\, United States
END:VEVENT
BEGIN:VEVENT
DTSTART;TZID=America/Los_Angeles:20260408T180000
DTEND;TZID=America/Los_Angeles:20260408T203000
DTSTAMP:20260423T153755
CREATED:20260320T155929Z
LAST-MODIFIED:20260320T155929Z
UID:10000707-1775671200-1775680200@trustdtsa.com
SUMMARY:Private Event
DESCRIPTION:Closed for Private Event
URL:https://trustdtsa.com/event/private-event-12/
LOCATION:Trust Kitchen\, 220 E. Fourth Street\, Santa Ana\, CA\, 92701\, United States
END:VEVENT
BEGIN:VEVENT
DTSTART;TZID=America/Los_Angeles:20260404T180000
DTEND;TZID=America/Los_Angeles:20260404T203000
DTSTAMP:20260423T153755
CREATED:20260320T161430Z
LAST-MODIFIED:20260320T161430Z
UID:10000718-1775325600-1775334600@trustdtsa.com
SUMMARY:Laughing Drunk- Japanese Izakaya Experience 6pm & 8:30pm
DESCRIPTION:“Horoyoi” (‘laughing drunk’ in Japanese) is the atmosphere of a traditional Izakaya. You are encouraged to laugh\, relax and have fun while enjoying casual Japanese cuisine like sushi\, yakitori and tempura. $195 per person includes food\, tax and gratuity. Optional wine pairing add-on for $65 per person. Unfortunately\, dietary restrictions and food allergies can not always be accommodated. Please reach out by call or text to 714-732-0598 with questions before purchasing your tickets.
URL:https://trustdtsa.com/event/laughing-drunk-japanese-izakaya-experience-6pm-830pm-6/
LOCATION:Trust Kitchen\, 220 E. Fourth Street\, Santa Ana\, CA\, 92701\, United States
END:VEVENT
BEGIN:VEVENT
DTSTART;TZID=America/Los_Angeles:20260403T180000
DTEND;TZID=America/Los_Angeles:20260403T203000
DTSTAMP:20260423T153755
CREATED:20260320T155633Z
LAST-MODIFIED:20260320T155753Z
UID:10000705-1775239200-1775248200@trustdtsa.com
SUMMARY:Laughing Drunk- Japanese Izakaya Experience 6pm & 8:30pm
DESCRIPTION:“Horoyoi” (‘laughing drunk’ in Japanese) is the atmosphere of a traditional Izakaya. You are encouraged to laugh\, relax and have fun while enjoying casual Japanese cuisine like sushi\, yakitori and tempura. $195 per person includes food\, tax and gratuity. Optional wine pairing add-on for $65 per person. Unfortunately\, dietary restrictions and food allergies can not always be accommodated. Please reach out by call or text to 714-732-0598 with questions before purchasing your tickets.
URL:https://trustdtsa.com/event/laughing-drunk-japanese-izakaya-experience-6pm-830pm-4/
LOCATION:Trust Kitchen\, 220 E. Fourth Street\, Santa Ana\, CA\, 92701\, United States
END:VEVENT
BEGIN:VEVENT
DTSTART;TZID=America/Los_Angeles:20260402T180000
DTEND;TZID=America/Los_Angeles:20260402T203000
DTSTAMP:20260423T153755
CREATED:20260320T155548Z
LAST-MODIFIED:20260320T155548Z
UID:10000704-1775152800-1775161800@trustdtsa.com
SUMMARY:Laughing Drunk- Japanese Izakaya Experience 6pm & 8:30pm
DESCRIPTION:“Horoyoi” (‘laughing drunk’ in Japanese) is the atmosphere of a traditional Izakaya. You are encouraged to laugh\, relax and have fun while enjoying casual Japanese cuisine like sushi\, yakitori and tempura. $195 per person includes food\, tax and gratuity. Optional wine pairing add-on for $65 per person. Unfortunately\, dietary restrictions and food allergies can not always be accommodated. Please reach out by call or text to 714-732-0598 with questions before purchasing your tickets.
URL:https://trustdtsa.com/event/laughing-drunk-japanese-izakaya-experience-6pm-830pm-3/
LOCATION:Trust Kitchen\, 220 E. Fourth Street\, Santa Ana\, CA\, 92701\, United States
END:VEVENT
BEGIN:VEVENT
DTSTART;TZID=America/Los_Angeles:20260401T180000
DTEND;TZID=America/Los_Angeles:20260401T203000
DTSTAMP:20260423T153755
CREATED:20260320T155347Z
LAST-MODIFIED:20260320T155347Z
UID:10000703-1775066400-1775075400@trustdtsa.com
SUMMARY:Private Event
DESCRIPTION:Closed for Private Event
URL:https://trustdtsa.com/event/private-event-11/
LOCATION:Trust Kitchen\, 220 E. Fourth Street\, Santa Ana\, CA\, 92701\, United States
END:VEVENT
BEGIN:VEVENT
DTSTART;TZID=America/Los_Angeles:20260328T180000
DTEND;TZID=America/Los_Angeles:20260328T203000
DTSTAMP:20260423T153755
CREATED:20260215T194350Z
LAST-MODIFIED:20260215T194350Z
UID:10000702-1774720800-1774729800@trustdtsa.com
SUMMARY:Trust Dinner Party 6pm & 8:30pm
DESCRIPTION:The Trust Kitchen team is selecting the most exciting and inspiring ingredients and putting together a dinner party for 18. $195 per person\, food\, tax and gratuities included. Optional wine pairing add on $65 per person.
URL:https://trustdtsa.com/event/trust-dinner-party-6pm-830pm-75/
LOCATION:Trust Kitchen\, 220 E. Fourth Street\, Santa Ana\, CA\, 92701\, United States
END:VEVENT
BEGIN:VEVENT
DTSTART;TZID=America/Los_Angeles:20260327T180000
DTEND;TZID=America/Los_Angeles:20260327T203000
DTSTAMP:20260423T153755
CREATED:20260215T194310Z
LAST-MODIFIED:20260215T194310Z
UID:10000701-1774634400-1774643400@trustdtsa.com
SUMMARY:Trust Dinner Party 6pm & 8:30pm
DESCRIPTION:The Trust Kitchen team is selecting the most exciting and inspiring ingredients and putting together a dinner party for 18. $195 per person\, food\, tax and gratuities included. Optional wine pairing add on $65 per person.
URL:https://trustdtsa.com/event/trust-dinner-party-6pm-830pm-74/
LOCATION:Trust Kitchen\, 220 E. Fourth Street\, Santa Ana\, CA\, 92701\, United States
END:VEVENT
BEGIN:VEVENT
DTSTART;TZID=America/Los_Angeles:20260326T180000
DTEND;TZID=America/Los_Angeles:20260326T203000
DTSTAMP:20260423T153755
CREATED:20260215T194226Z
LAST-MODIFIED:20260215T194226Z
UID:10000700-1774548000-1774557000@trustdtsa.com
SUMMARY:Trust Dinner Party 6pm & 8:30pm
DESCRIPTION:The Trust Kitchen team is selecting the most exciting and inspiring ingredients and putting together a dinner party for 18. $195 per person\, food\, tax and gratuities included. Optional wine pairing add on $65 per person.
URL:https://trustdtsa.com/event/trust-dinner-party-6pm-830pm-73/
LOCATION:Trust Kitchen\, 220 E. Fourth Street\, Santa Ana\, CA\, 92701\, United States
END:VEVENT
BEGIN:VEVENT
DTSTART;TZID=America/Los_Angeles:20260325T180000
DTEND;TZID=America/Los_Angeles:20260325T203000
DTSTAMP:20260423T153755
CREATED:20260215T194142Z
LAST-MODIFIED:20260215T194142Z
UID:10000699-1774461600-1774470600@trustdtsa.com
SUMMARY:Trust Dinner Party 6pm & 8:30pm
DESCRIPTION:The Trust Kitchen team is selecting the most exciting and inspiring ingredients and putting together a dinner party for 18. $195 per person\, food\, tax and gratuities included. Optional wine pairing add on $65 per person.
URL:https://trustdtsa.com/event/trust-dinner-party-6pm-830pm-72/
LOCATION:Trust Kitchen\, 220 E. Fourth Street\, Santa Ana\, CA\, 92701\, United States
END:VEVENT
BEGIN:VEVENT
DTSTART;TZID=America/Los_Angeles:20260321T180000
DTEND;TZID=America/Los_Angeles:20260321T203000
DTSTAMP:20260423T153755
CREATED:20260215T194001Z
LAST-MODIFIED:20260215T194001Z
UID:10000698-1774116000-1774125000@trustdtsa.com
SUMMARY:White Boy Thai Food 6pm & 8:30pm
DESCRIPTION:Chef Jason makes one of his favorite styles of cuisine. $195 per person includes food\, taxes and gratuity. Wine pairing additional $65 per person.
URL:https://trustdtsa.com/event/white-boy-thai-food-6pm-830pm-3/
LOCATION:Trust Kitchen\, 220 E. Fourth Street\, Santa Ana\, CA\, 92701\, United States
END:VEVENT
BEGIN:VEVENT
DTSTART;TZID=America/Los_Angeles:20260320T180000
DTEND;TZID=America/Los_Angeles:20260320T203000
DTSTAMP:20260423T153755
CREATED:20260215T193735Z
LAST-MODIFIED:20260215T193735Z
UID:10000697-1774029600-1774038600@trustdtsa.com
SUMMARY:White Boy Thai Food 6pm & 8:30pm
DESCRIPTION:Chef Jason makes one of his favorite styles of cuisine. $195 per person includes food\, taxes and gratuity. Wine pairing additional $65 per person.
URL:https://trustdtsa.com/event/white-boy-thai-food-6pm-830pm-2/
LOCATION:Trust Kitchen\, 220 E. Fourth Street\, Santa Ana\, CA\, 92701\, United States
END:VEVENT
BEGIN:VEVENT
DTSTART;TZID=America/Los_Angeles:20260319T180000
DTEND;TZID=America/Los_Angeles:20260319T203000
DTSTAMP:20260423T153756
CREATED:20260215T193622Z
LAST-MODIFIED:20260215T193622Z
UID:10000696-1773943200-1773952200@trustdtsa.com
SUMMARY:White Boy Thai Food 6pm & 8:30pm
DESCRIPTION:Chef Jason makes one of his favorite styles of cuisine. $195 per person includes food\, taxes and gratuity. Wine pairing additional $65 per person.
URL:https://trustdtsa.com/event/white-boy-thai-food-6pm-830pm/
LOCATION:Trust Kitchen\, 220 E. Fourth Street\, Santa Ana\, CA\, 92701\, United States
END:VEVENT
BEGIN:VEVENT
DTSTART;TZID=America/Los_Angeles:20260318T180000
DTEND;TZID=America/Los_Angeles:20260318T203000
DTSTAMP:20260423T153756
CREATED:20260215T193434Z
LAST-MODIFIED:20260215T193434Z
UID:10000695-1773856800-1773865800@trustdtsa.com
SUMMARY:Private Event
DESCRIPTION:Closed for Private Event
URL:https://trustdtsa.com/event/private-event-10/
LOCATION:Trust Kitchen\, 220 E. Fourth Street\, Santa Ana\, CA\, 92701\, United States
END:VEVENT
BEGIN:VEVENT
DTSTART;TZID=America/Los_Angeles:20260314T180000
DTEND;TZID=America/Los_Angeles:20260314T203000
DTSTAMP:20260423T153756
CREATED:20260203T021322Z
LAST-MODIFIED:20260203T021322Z
UID:10000694-1773511200-1773520200@trustdtsa.com
SUMMARY:The Spanish Dream Continues 6pm & 8:30pm
DESCRIPTION:After spending a few weeks in Spain\, Chef Jason will use what he experienced and apply it to this menu as a continuation of his exploration of the Spanish culture of food. $195 per person inclusive of food\, tax\, and gratuity. Optional wine pairing add on for $65 per person.
URL:https://trustdtsa.com/event/the-spanish-dream-continues-6pm-830pm-4/
LOCATION:Trust Kitchen\, 220 E. Fourth Street\, Santa Ana\, CA\, 92701\, United States
END:VEVENT
BEGIN:VEVENT
DTSTART;TZID=America/Los_Angeles:20260313T180000
DTEND;TZID=America/Los_Angeles:20260313T203000
DTSTAMP:20260423T153756
CREATED:20260203T021245Z
LAST-MODIFIED:20260203T021245Z
UID:10000693-1773424800-1773433800@trustdtsa.com
SUMMARY:The Spanish Dream Continues 6pm & 8:30pm
DESCRIPTION:After spending a few weeks in Spain\, Chef Jason will use what he experienced and apply it to this menu as a continuation of his exploration of the Spanish culture of food. $195 per person inclusive of food\, tax\, and gratuity. Optional wine pairing add on for $65 per person.
URL:https://trustdtsa.com/event/the-spanish-dream-continues-6pm-830pm-3/
LOCATION:Trust Kitchen\, 220 E. Fourth Street\, Santa Ana\, CA\, 92701\, United States
END:VEVENT
BEGIN:VEVENT
DTSTART;TZID=America/Los_Angeles:20260312T180000
DTEND;TZID=America/Los_Angeles:20260312T203000
DTSTAMP:20260423T153756
CREATED:20260203T021209Z
LAST-MODIFIED:20260203T021209Z
UID:10000692-1773338400-1773347400@trustdtsa.com
SUMMARY:The Spanish Dream Continues 6pm & 8:30pm
DESCRIPTION:After spending a few weeks in Spain\, Chef Jason will use what he experienced and apply it to this menu as a continuation of his exploration of the Spanish culture of food. $195 per person inclusive of food\, tax\, and gratuity. Optional wine pairing add on for $65 per person.
URL:https://trustdtsa.com/event/the-spanish-dream-continues-6pm-830pm-2/
LOCATION:Trust Kitchen\, 220 E. Fourth Street\, Santa Ana\, CA\, 92701\, United States
END:VEVENT
BEGIN:VEVENT
DTSTART;TZID=America/Los_Angeles:20260311T180000
DTEND;TZID=America/Los_Angeles:20260311T203000
DTSTAMP:20260423T153756
CREATED:20260203T021011Z
LAST-MODIFIED:20260203T021011Z
UID:10000691-1773252000-1773261000@trustdtsa.com
SUMMARY:The Spanish Dream Continues 6pm & 8:30pm
DESCRIPTION:After spending a few weeks in Spain\, Chef Jason will use what he experienced and apply it to this menu as a continuation of his exploration of the Spanish culture of food. $195 per person inclusive of food\, tax\, and gratuity. Optional wine pairing add on for $65 per person.
URL:https://trustdtsa.com/event/the-spanish-dream-continues-6pm-830pm/
LOCATION:Trust Kitchen\, 220 E. Fourth Street\, Santa Ana\, CA\, 92701\, United States
END:VEVENT
BEGIN:VEVENT
DTSTART;TZID=America/Los_Angeles:20260307T180000
DTEND;TZID=America/Los_Angeles:20260307T203000
DTSTAMP:20260423T153756
CREATED:20260203T020849Z
LAST-MODIFIED:20260203T020849Z
UID:10000690-1772906400-1772915400@trustdtsa.com
SUMMARY:New and Improved Ultimate Steak Dinner 6pm & 8:30pm
DESCRIPTION:After almost a decade of the same steak dinner\, we have improved our grilling technique\, started pre-smoking some of the steaks and have new proprietary flake steak that has gone over with incredible success. We plan to continue to evolve and improve everyone’s favorite steak dinner! $195 per person includes food\, tax and gratuity. Optional wine pairing add-on for $65 per person.
URL:https://trustdtsa.com/event/new-and-improved-ultimate-steak-dinner-6pm-830pm-6/
LOCATION:Trust Kitchen\, 220 E. Fourth Street\, Santa Ana\, CA\, 92701\, United States
END:VEVENT
END:VCALENDAR