BEGIN:VCALENDAR
VERSION:2.0
PRODID:-//Trust - ECPv6.15.20//NONSGML v1.0//EN
CALSCALE:GREGORIAN
METHOD:PUBLISH
X-WR-CALNAME:Trust
X-ORIGINAL-URL:https://trustdtsa.com
X-WR-CALDESC:Events for Trust
REFRESH-INTERVAL;VALUE=DURATION:PT1H
X-Robots-Tag:noindex
X-PUBLISHED-TTL:PT1H
BEGIN:VTIMEZONE
TZID:America/Los_Angeles
BEGIN:DAYLIGHT
TZOFFSETFROM:-0800
TZOFFSETTO:-0700
TZNAME:PDT
DTSTART:20240310T100000
END:DAYLIGHT
BEGIN:STANDARD
TZOFFSETFROM:-0700
TZOFFSETTO:-0800
TZNAME:PST
DTSTART:20241103T090000
END:STANDARD
BEGIN:DAYLIGHT
TZOFFSETFROM:-0800
TZOFFSETTO:-0700
TZNAME:PDT
DTSTART:20250309T100000
END:DAYLIGHT
BEGIN:STANDARD
TZOFFSETFROM:-0700
TZOFFSETTO:-0800
TZNAME:PST
DTSTART:20251102T090000
END:STANDARD
BEGIN:DAYLIGHT
TZOFFSETFROM:-0800
TZOFFSETTO:-0700
TZNAME:PDT
DTSTART:20260308T100000
END:DAYLIGHT
BEGIN:STANDARD
TZOFFSETFROM:-0700
TZOFFSETTO:-0800
TZNAME:PST
DTSTART:20261101T090000
END:STANDARD
END:VTIMEZONE
BEGIN:VEVENT
DTSTART;TZID=America/Los_Angeles:20251212T180000
DTEND;TZID=America/Los_Angeles:20251212T203000
DTSTAMP:20260423T170822
CREATED:20251111T171743Z
LAST-MODIFIED:20251111T171743Z
UID:10000639-1765562400-1765571400@trustdtsa.com
SUMMARY:Trust Dinner Party 6pm
DESCRIPTION:The Trust Kitchen team is selecting the most exciting and inspiring ingredients and putting together a dinner party for 18. $195 per person\, food\, tax and gratuities included. Optional alcohol paring add on $65 or bring your own wine for $25 per person.
URL:https://trustdtsa.com/event/trust-dinner-party-6pm/
LOCATION:Trust Kitchen\, 220 E. Fourth Street\, Santa Ana\, CA\, 92701\, United States
END:VEVENT
BEGIN:VEVENT
DTSTART;TZID=America/Los_Angeles:20251211T000000
DTEND;TZID=America/Los_Angeles:20251211T000000
DTSTAMP:20260423T170822
CREATED:20251111T171314Z
LAST-MODIFIED:20251111T171428Z
UID:10000637-1765411200-1765411200@trustdtsa.com
SUMMARY:Private Event
DESCRIPTION:
URL:https://trustdtsa.com/event/private-event-3/
LOCATION:Trust Kitchen\, 220 E. Fourth Street\, Santa Ana\, CA\, 92701\, United States
END:VEVENT
BEGIN:VEVENT
DTSTART;TZID=America/Los_Angeles:20251210T180000
DTEND;TZID=America/Los_Angeles:20251210T203000
DTSTAMP:20260423T170822
CREATED:20251111T171013Z
LAST-MODIFIED:20251111T171013Z
UID:10000635-1765389600-1765398600@trustdtsa.com
SUMMARY:Trust Dinner Party 6pm & 8:30pm
DESCRIPTION:The Trust Kitchen team is selecting the most exciting and inspiring ingredients and putting together a dinner party for 18. $195 per person\, food\, tax and gratuities included. Optional alcohol paring add on $65 or bring your own wine for $25 per person.
URL:https://trustdtsa.com/event/trust-dinner-party-6pm-830pm-59/
LOCATION:Trust Kitchen\, 220 E. Fourth Street\, Santa Ana\, CA\, 92701\, United States
END:VEVENT
BEGIN:VEVENT
DTSTART;TZID=America/Los_Angeles:20251206T180000
DTEND;TZID=America/Los_Angeles:20251206T223000
DTSTAMP:20260423T170823
CREATED:20251023T002417Z
LAST-MODIFIED:20251023T002417Z
UID:10000634-1765044000-1765060200@trustdtsa.com
SUMMARY:Dreaming Of Spain 6pm & 8:30pm
DESCRIPTION:Chef Jason has found himself obsessing over Spanish food and making paella every Sunday. Come and try some of the dishes that are calling him to Spain! $195 per person includes food\, tax and gratuity. Optional alcohol pairing add on $65.
URL:https://trustdtsa.com/event/dreaming-of-spain-6pm-830pm-4/
LOCATION:Trust Kitchen\, 220 E. Fourth Street\, Santa Ana\, CA\, 92701\, United States
END:VEVENT
BEGIN:VEVENT
DTSTART;TZID=America/Los_Angeles:20251205T180000
DTEND;TZID=America/Los_Angeles:20251205T223000
DTSTAMP:20260423T170823
CREATED:20251023T002248Z
LAST-MODIFIED:20251023T002315Z
UID:10000633-1764957600-1764973800@trustdtsa.com
SUMMARY:Dreaming Of Spain 6pm & 8:30pm
DESCRIPTION:Chef Jason has found himself obsessing over Spanish food and making paella every Sunday. Come and try some of the dishes that are calling him to Spain! $195 per person includes food\, tax and gratuity. Optional alcohol pairing add on $65.
URL:https://trustdtsa.com/event/dreaming-of-spain-6pm-830pm-3/
LOCATION:Trust Kitchen\, 220 E. Fourth Street\, Santa Ana\, CA\, 92701\, United States
END:VEVENT
BEGIN:VEVENT
DTSTART;TZID=America/Los_Angeles:20251204T180000
DTEND;TZID=America/Los_Angeles:20251204T223000
DTSTAMP:20260423T170823
CREATED:20251023T002205Z
LAST-MODIFIED:20251023T002325Z
UID:10000632-1764871200-1764887400@trustdtsa.com
SUMMARY:Dreaming Of Spain 6pm & 8:30pm
DESCRIPTION:Chef Jason has found himself obsessing over Spanish food and making paella every Sunday. Come and try some of the dishes that are calling him to Spain! $195 per person includes food\, tax and gratuity. Optional alcohol pairing add on $65.
URL:https://trustdtsa.com/event/dreaming-of-spain-6pm-830pm-2/
LOCATION:Trust Kitchen\, 220 E. Fourth Street\, Santa Ana\, CA\, 92701\, United States
END:VEVENT
BEGIN:VEVENT
DTSTART;TZID=America/Los_Angeles:20251203T180000
DTEND;TZID=America/Los_Angeles:20251203T223000
DTSTAMP:20260423T170823
CREATED:20251023T002127Z
LAST-MODIFIED:20251023T002341Z
UID:10000631-1764784800-1764801000@trustdtsa.com
SUMMARY:Dreaming Of Spain 6pm & 8:30pm
DESCRIPTION:Chef Jason has found himself obsessing over Spanish food and making paella every Sunday. Come and try some of the dishes that are calling him to Spain! $195 per person includes food\, tax and gratuity. Optional alcohol pairing add on $65.
URL:https://trustdtsa.com/event/dreaming-of-spain-6pm-830pm/
LOCATION:Trust Kitchen\, 220 E. Fourth Street\, Santa Ana\, CA\, 92701\, United States
END:VEVENT
BEGIN:VEVENT
DTSTART;TZID=America/Los_Angeles:20251129T190000
DTEND;TZID=America/Los_Angeles:20251129T210000
DTSTAMP:20260423T170823
CREATED:20251022T234925Z
LAST-MODIFIED:20251022T234925Z
UID:10000630-1764442800-1764450000@trustdtsa.com
SUMMARY:Trust Dinner Party 7pm
DESCRIPTION:The Trust Kitchen team is selecting the most exciting and inspiring ingredients and putting together a dinner party for 18. $195 per person\, food\, tax and gratuities included. Optional alcohol paring add on $65.
URL:https://trustdtsa.com/event/trust-dinner-party-7pm-9/
LOCATION:Trust Kitchen\, 220 E. Fourth Street\, Santa Ana\, CA\, 92701\, United States
END:VEVENT
BEGIN:VEVENT
DTSTART;TZID=America/Los_Angeles:20251128T190000
DTEND;TZID=America/Los_Angeles:20251128T210000
DTSTAMP:20260423T170823
CREATED:20251022T234853Z
LAST-MODIFIED:20251022T234853Z
UID:10000629-1764356400-1764363600@trustdtsa.com
SUMMARY:Trust Dinner Party 7pm
DESCRIPTION:The Trust Kitchen team is selecting the most exciting and inspiring ingredients and putting together a dinner party for 18. $195 per person\, food\, tax and gratuities included. Optional alcohol paring add on $65.
URL:https://trustdtsa.com/event/trust-dinner-party-7pm-8/
LOCATION:Trust Kitchen\, 220 E. Fourth Street\, Santa Ana\, CA\, 92701\, United States
END:VEVENT
BEGIN:VEVENT
DTSTART;TZID=America/Los_Angeles:20251126T180000
DTEND;TZID=America/Los_Angeles:20251126T220000
DTSTAMP:20260423T170823
CREATED:20251022T234623Z
LAST-MODIFIED:20251023T001902Z
UID:10000627-1764180000-1764194400@trustdtsa.com
SUMMARY:Trust Dinner Party 6pm & 8:30pm
DESCRIPTION:The Trust Kitchen team is selecting the most exciting and inspiring ingredients and putting together a dinner party for 18. $195 per person\, food\, tax and gratuities included. Optional alcohol paring add on $65.
URL:https://trustdtsa.com/event/trust-dinner-party-6pm-830pm-58/
LOCATION:Trust Kitchen\, 220 E. Fourth Street\, Santa Ana\, CA\, 92701\, United States
END:VEVENT
BEGIN:VEVENT
DTSTART;TZID=America/Los_Angeles:20251125T190000
DTEND;TZID=America/Los_Angeles:20251125T210000
DTSTAMP:20260423T170823
CREATED:20251022T234814Z
LAST-MODIFIED:20251023T001823Z
UID:10000628-1764097200-1764104400@trustdtsa.com
SUMMARY:Trust Dinner Party 7pm
DESCRIPTION:The Trust Kitchen team is selecting the most exciting and inspiring ingredients and putting together a dinner party for 18. $195 per person\, food\, tax and gratuities included. Optional alcohol paring add on $65.
URL:https://trustdtsa.com/event/trust-dinner-party-7pm-7/
LOCATION:Trust Kitchen\, 220 E. Fourth Street\, Santa Ana\, CA\, 92701\, United States
END:VEVENT
BEGIN:VEVENT
DTSTART;TZID=America/Los_Angeles:20251122T180000
DTEND;TZID=America/Los_Angeles:20251122T220000
DTSTAMP:20260423T170823
CREATED:20251022T234525Z
LAST-MODIFIED:20251022T234525Z
UID:10000626-1763834400-1763848800@trustdtsa.com
SUMMARY:Trust Dinner Party 6pm & 8:30pm
DESCRIPTION:The Trust Kitchen team is selecting the most exciting and inspiring ingredients and putting together a dinner party for 18. $195 per person\, food\, tax and gratuities included. Optional alcohol paring add on $65.
URL:https://trustdtsa.com/event/trust-dinner-party-6pm-830pm-57/
LOCATION:Trust Kitchen\, 220 E. Fourth Street\, Santa Ana\, CA\, 92701\, United States
END:VEVENT
BEGIN:VEVENT
DTSTART;TZID=America/Los_Angeles:20251121T180000
DTEND;TZID=America/Los_Angeles:20251121T220000
DTSTAMP:20260423T170823
CREATED:20251022T233916Z
LAST-MODIFIED:20251022T233916Z
UID:10000623-1763748000-1763762400@trustdtsa.com
SUMMARY:Private Event
DESCRIPTION:Closed for pirvate event.
URL:https://trustdtsa.com/event/private-event-2/2025-11-21/
LOCATION:Trust Kitchen\, 220 E. Fourth Street\, Santa Ana\, CA\, 92701\, United States
END:VEVENT
BEGIN:VEVENT
DTSTART;TZID=America/Los_Angeles:20251120T180000
DTEND;TZID=America/Los_Angeles:20251120T220000
DTSTAMP:20260423T170823
CREATED:20251022T233916Z
LAST-MODIFIED:20251022T233916Z
UID:10000622-1763661600-1763676000@trustdtsa.com
SUMMARY:Private Event
DESCRIPTION:Closed for pirvate event.
URL:https://trustdtsa.com/event/private-event-2/2025-11-20/
LOCATION:Trust Kitchen\, 220 E. Fourth Street\, Santa Ana\, CA\, 92701\, United States
END:VEVENT
BEGIN:VEVENT
DTSTART;TZID=America/Los_Angeles:20251115T180000
DTEND;TZID=America/Los_Angeles:20251115T220000
DTSTAMP:20260423T170823
CREATED:20251022T234203Z
LAST-MODIFIED:20251022T234203Z
UID:10000625-1763229600-1763244000@trustdtsa.com
SUMMARY:Trust Dinner Party 6pm & 8:30pm
DESCRIPTION:The Trust Kitchen team is selecting the most exciting and inspiring ingredients and putting together a dinner party for 18. $195 per person\, food\, tax and gratuities included. Optional alcohol paring add on $65.
URL:https://trustdtsa.com/event/trust-dinner-party-6pm-830pm-56/
LOCATION:Trust Kitchen\, 220 E. Fourth Street\, Santa Ana\, CA\, 92701\, United States
END:VEVENT
BEGIN:VEVENT
DTSTART;TZID=America/Los_Angeles:20251114T180000
DTEND;TZID=America/Los_Angeles:20251114T220000
DTSTAMP:20260423T170823
CREATED:20251022T234118Z
LAST-MODIFIED:20251022T234341Z
UID:10000624-1763143200-1763157600@trustdtsa.com
SUMMARY:Trust Dinner Party 6pm & 8:30pm
DESCRIPTION:The Trust Kitchen team is selecting the most exciting and inspiring ingredients and putting together a dinner party for 18. $195 per person\, food\, tax and gratuities included. Optional alcohol paring add on $65.
URL:https://trustdtsa.com/event/trust-dinner-party-6pm-830pm-55/
LOCATION:Trust Kitchen\, 220 E. Fourth Street\, Santa Ana\, CA\, 92701\, United States
END:VEVENT
BEGIN:VEVENT
DTSTART;TZID=America/Los_Angeles:20251113T180000
DTEND;TZID=America/Los_Angeles:20251113T203000
DTSTAMP:20260423T170823
CREATED:20251022T232836Z
LAST-MODIFIED:20251022T232836Z
UID:10000617-1763056800-1763065800@trustdtsa.com
SUMMARY:Ultimate Steak Dinner 6pm
DESCRIPTION:A celebration of beef\, America’s favorite protein\, featuring several of the world’s finest examples and our favorite steakhouse sides. $195 per person\, food\, tax and gratuities included. Optional alcohol pairing add on $65.
URL:https://trustdtsa.com/event/ultimate-steak-dinner-6pm/
LOCATION:Trust Kitchen\, 220 E. Fourth Street\, Santa Ana\, CA\, 92701\, United States
END:VEVENT
BEGIN:VEVENT
DTSTART;TZID=America/Los_Angeles:20251112T180000
DTEND;TZID=America/Los_Angeles:20251112T220000
DTSTAMP:20260423T170823
CREATED:20251022T233916Z
LAST-MODIFIED:20251022T233916Z
UID:10000621-1762970400-1762984800@trustdtsa.com
SUMMARY:Private Event
DESCRIPTION:Closed for pirvate event.
URL:https://trustdtsa.com/event/private-event-2/2025-11-12/
LOCATION:Trust Kitchen\, 220 E. Fourth Street\, Santa Ana\, CA\, 92701\, United States
END:VEVENT
BEGIN:VEVENT
DTSTART;TZID=America/Los_Angeles:20251108T203000
DTEND;TZID=America/Los_Angeles:20251108T220000
DTSTAMP:20260423T170823
CREATED:20251022T233325Z
LAST-MODIFIED:20251022T233522Z
UID:10000620-1762633800-1762639200@trustdtsa.com
SUMMARY:Simple Ain't Easy 830pm
DESCRIPTION:Ingredient focused cooking. Maximum flavor. Minimal ingredients. Technique driven food with deliciousness as the ultimate goal! $195 per person\, food\, tax and gratuity included. Optional $65 alcohol pairing
URL:https://trustdtsa.com/event/simple-aint-easy-830pm/
LOCATION:Trust Kitchen\, 220 E. Fourth Street\, Santa Ana\, CA\, 92701\, United States
END:VEVENT
BEGIN:VEVENT
DTSTART;TZID=America/Los_Angeles:20251107T180000
DTEND;TZID=America/Los_Angeles:20251107T203000
DTSTAMP:20260423T170823
CREATED:20251022T233247Z
LAST-MODIFIED:20251022T233553Z
UID:10000619-1762538400-1762547400@trustdtsa.com
SUMMARY:Simple Ain't Easy 6pm
DESCRIPTION:Ingredient focused cooking. Maximum flavor. Minimal ingredients. Technique driven food with deliciousness as the ultimate goal! $195 per person\, food\, tax and gratuity included. Optional $65 alcohol pairing
URL:https://trustdtsa.com/event/simple-aint-easy-6pm/
LOCATION:Trust Kitchen\, 220 E. Fourth Street\, Santa Ana\, CA\, 92701\, United States
END:VEVENT
BEGIN:VEVENT
DTSTART;TZID=America/Los_Angeles:20251106T183000
DTEND;TZID=America/Los_Angeles:20251106T220000
DTSTAMP:20260423T170823
CREATED:20251022T233135Z
LAST-MODIFIED:20251022T233639Z
UID:10000618-1762453800-1762466400@trustdtsa.com
SUMMARY:Simple Ain't Easy 6pm & 8:30pm
DESCRIPTION:Ingredient focused cooking. Maximum flavor. Minimal ingredients. Technique driven food with deliciousness as the ultimate goal! $195 per person\, food\, tax and gratuity included. Optional $65 alcohol pairing
URL:https://trustdtsa.com/event/simple-aint-easy-6pm-830pm/
LOCATION:Trust Kitchen\, 220 E. Fourth Street\, Santa Ana\, CA\, 92701\, United States
END:VEVENT
BEGIN:VEVENT
DTSTART;TZID=America/Los_Angeles:20251105T190000
DTEND;TZID=America/Los_Angeles:20251105T210000
DTSTAMP:20260423T170823
CREATED:20251022T221739Z
LAST-MODIFIED:20251022T233003Z
UID:10000612-1762369200-1762376400@trustdtsa.com
SUMMARY:Simple Ain't Easy 7pm
DESCRIPTION:Ingredient focused cooking. Maximum flavor. Minimal ingredients. Technique driven food with deliciousness as the ultimate goal! $195 per person\, food\, tax and gratuity included. Optional $65 alcohol pairing
URL:https://trustdtsa.com/event/simple-aint-easy/
LOCATION:Trust Kitchen\, 220 E. Fourth Street\, Santa Ana\, CA\, 92701\, United States
END:VEVENT
BEGIN:VEVENT
DTSTART;TZID=America/Los_Angeles:20251101T180000
DTEND;TZID=America/Los_Angeles:20251101T230000
DTSTAMP:20260423T170823
CREATED:20250827T194812Z
LAST-MODIFIED:20250827T194812Z
UID:10000609-1762020000-1762038000@trustdtsa.com
SUMMARY:Trust Dinner Party 6pm & 8:30pm
DESCRIPTION:Chef Kyle is selecting the most exciting and inspiring ingredients and putting together a dinner party for 18 of his closest friends. $250 per person\, food and wine pairings\, tax and gratuities included. \nPurchase your tickets here.
URL:https://trustdtsa.com/event/trust-dinner-party-6pm-830pm-54/
LOCATION:Trust Kitchen\, 220 E. Fourth Street\, Santa Ana\, CA\, 92701\, United States
ORGANIZER;CN="Kyle McClelland":MAILTO:Concierge@trustdtsa.com
END:VEVENT
BEGIN:VEVENT
DTSTART;TZID=America/Los_Angeles:20251031T180000
DTEND;TZID=America/Los_Angeles:20251031T230000
DTSTAMP:20260423T170823
CREATED:20250827T194701Z
LAST-MODIFIED:20250827T194721Z
UID:10000608-1761933600-1761951600@trustdtsa.com
SUMMARY:Trust Dinner Party 6pm & 8:30pm
DESCRIPTION:Chef Kyle is selecting the most exciting and inspiring ingredients and putting together a dinner party for 18 of his closest friends. $250 per person\, food and wine pairings\, tax and gratuities included. \nPurchase your tickets here.
URL:https://trustdtsa.com/event/5162/
LOCATION:Trust Kitchen\, 220 E. Fourth Street\, Santa Ana\, CA\, 92701\, United States
ORGANIZER;CN="Kyle McClelland":MAILTO:Concierge@trustdtsa.com
END:VEVENT
BEGIN:VEVENT
DTSTART;TZID=America/Los_Angeles:20251030T180000
DTEND;TZID=America/Los_Angeles:20251030T203000
DTSTAMP:20260423T170823
CREATED:20250827T194538Z
LAST-MODIFIED:20251009T195544Z
UID:10000607-1761847200-1761856200@trustdtsa.com
SUMMARY:Ultimate Steak Dinner 7pm
DESCRIPTION:A celebration of beef\, America’s favorite protein\, featuring several of the world’s finest examples and our favorite steakhouse sides. $225 per person\, food and wine pairings\, tax and gratuities included \nPurchase your tickets here.
URL:https://trustdtsa.com/event/ultimate-surf-turf-6pm/
LOCATION:Trust Kitchen\, 220 E. Fourth Street\, Santa Ana\, CA\, 92701\, United States
ORGANIZER;CN="Kyle McClelland":MAILTO:Concierge@trustdtsa.com
END:VEVENT
BEGIN:VEVENT
DTSTART;TZID=America/Los_Angeles:20251029T190000
DTEND;TZID=America/Los_Angeles:20251029T213000
DTSTAMP:20260423T170823
CREATED:20250827T194339Z
LAST-MODIFIED:20251009T195634Z
UID:10000606-1761764400-1761773400@trustdtsa.com
SUMMARY:Ultimate Steak Dinner 7pm
DESCRIPTION:A celebration of beef\, America’s favorite protein\, featuring several of the world’s finest examples and our favorite steakhouse sides. $225 per person\, food and wine pairings\, tax and gratuities included \nPurchase your tickets here. 
URL:https://trustdtsa.com/event/ultimate-surf-turf-7pm/
LOCATION:Trust Kitchen\, 220 E. Fourth Street\, Santa Ana\, CA\, 92701\, United States
ORGANIZER;CN="Kyle McClelland":MAILTO:Concierge@trustdtsa.com
END:VEVENT
BEGIN:VEVENT
DTSTART;TZID=America/Los_Angeles:20251025T180000
DTEND;TZID=America/Los_Angeles:20251025T230000
DTSTAMP:20260423T170823
CREATED:20250827T193744Z
LAST-MODIFIED:20250827T193744Z
UID:10000603-1761415200-1761433200@trustdtsa.com
SUMMARY:Trust Dinner Party 6pm & 8:30pm
DESCRIPTION:Chef Kyle is selecting the most exciting and inspiring ingredients and putting together a dinner party for 18 of his closest friends. $250 per person\, food and wine pairings\, tax and gratuities included. \nPurchase your tickets here. 
URL:https://trustdtsa.com/event/trust-dinner-party-6pm-830pm-52/
LOCATION:Trust Kitchen\, 220 E. Fourth Street\, Santa Ana\, CA\, 92701\, United States
ORGANIZER;CN="Kyle McClelland":MAILTO:Concierge@trustdtsa.com
END:VEVENT
BEGIN:VEVENT
DTSTART;TZID=America/Los_Angeles:20251024T180000
DTEND;TZID=America/Los_Angeles:20251024T230000
DTSTAMP:20260423T170823
CREATED:20250827T193958Z
LAST-MODIFIED:20250827T193958Z
UID:10000604-1761328800-1761346800@trustdtsa.com
SUMMARY:Trust Dinner Party 6pm & 8:30pm
DESCRIPTION:Chef Kyle is selecting the most exciting and inspiring ingredients and putting together a dinner party for 18 of his closest friends. $250 per person\, food and wine pairings\, tax and gratuities included. \nPurchase your tickets here. 
URL:https://trustdtsa.com/event/trust-dinner-party-6pm-830pm-53/
LOCATION:Trust Kitchen\, 220 E. Fourth Street\, Santa Ana\, CA\, 92701\, United States
ORGANIZER;CN="Kyle McClelland":MAILTO:Concierge@trustdtsa.com
END:VEVENT
BEGIN:VEVENT
DTSTART;TZID=America/Los_Angeles:20251023T190000
DTEND;TZID=America/Los_Angeles:20251023T213000
DTSTAMP:20260423T170823
CREATED:20250827T195010Z
LAST-MODIFIED:20250827T195010Z
UID:10000611-1761246000-1761255000@trustdtsa.com
SUMMARY:Trust Dinner Party 7pm
DESCRIPTION:Chef Kyle is selecting the most exciting and inspiring ingredients and putting together a dinner party for 18 of his closest friends. $250 per person\, food and wine pairings\, tax and gratuities included. \nPurchase your tickets here.
URL:https://trustdtsa.com/event/trust-dinner-party-7pm-6/
LOCATION:Trust Kitchen\, 220 E. Fourth Street\, Santa Ana\, CA\, 92701\, United States
ORGANIZER;CN="Kyle McClelland":MAILTO:Concierge@trustdtsa.com
END:VEVENT
BEGIN:VEVENT
DTSTART;TZID=America/Los_Angeles:20251022T190000
DTEND;TZID=America/Los_Angeles:20251022T213000
DTSTAMP:20260423T170823
CREATED:20250827T194910Z
LAST-MODIFIED:20251009T195411Z
UID:10000610-1761159600-1761168600@trustdtsa.com
SUMMARY:Trust Dinner Party 7pm
DESCRIPTION:Chef Jason is hosting a dinner party in the Trust Kitchen. $200 per person\, food\, wine\, tax and gratuities included. \nPurchase your tickets here. 
URL:https://trustdtsa.com/event/intro-to-caviar-7pm-9/
LOCATION:Trust Kitchen\, 220 E. Fourth Street\, Santa Ana\, CA\, 92701\, United States
ORGANIZER;CN="Kyle McClelland":MAILTO:Concierge@trustdtsa.com
END:VEVENT
END:VCALENDAR