BEGIN:VCALENDAR
VERSION:2.0
PRODID:-//Trust - ECPv6.15.20//NONSGML v1.0//EN
CALSCALE:GREGORIAN
METHOD:PUBLISH
X-WR-CALNAME:Trust
X-ORIGINAL-URL:https://trustdtsa.com
X-WR-CALDESC:Events for Trust
REFRESH-INTERVAL;VALUE=DURATION:PT1H
X-Robots-Tag:noindex
X-PUBLISHED-TTL:PT1H
BEGIN:VTIMEZONE
TZID:America/Los_Angeles
BEGIN:DAYLIGHT
TZOFFSETFROM:-0800
TZOFFSETTO:-0700
TZNAME:PDT
DTSTART:20230312T100000
END:DAYLIGHT
BEGIN:STANDARD
TZOFFSETFROM:-0700
TZOFFSETTO:-0800
TZNAME:PST
DTSTART:20231105T090000
END:STANDARD
BEGIN:DAYLIGHT
TZOFFSETFROM:-0800
TZOFFSETTO:-0700
TZNAME:PDT
DTSTART:20240310T100000
END:DAYLIGHT
BEGIN:STANDARD
TZOFFSETFROM:-0700
TZOFFSETTO:-0800
TZNAME:PST
DTSTART:20241103T090000
END:STANDARD
BEGIN:DAYLIGHT
TZOFFSETFROM:-0800
TZOFFSETTO:-0700
TZNAME:PDT
DTSTART:20250309T100000
END:DAYLIGHT
BEGIN:STANDARD
TZOFFSETFROM:-0700
TZOFFSETTO:-0800
TZNAME:PST
DTSTART:20251102T090000
END:STANDARD
END:VTIMEZONE
BEGIN:VEVENT
DTSTART;TZID=America/Los_Angeles:20240822T183000
DTEND;TZID=America/Los_Angeles:20240822T203000
DTSTAMP:20260425T091353
CREATED:20240713T202714Z
LAST-MODIFIED:20240713T202714Z
UID:10000309-1724351400-1724358600@trustdtsa.com
SUMMARY:Trust Dinner Party 6:30 pm Seating
DESCRIPTION:Chef Justin is selecting the most exciting and inspiring ingredients and putting together a dinner party for 18 of his closest friends. $250 per person\, food and wine pairings\, tax and gratuities included. \nPurchase your seats here.
URL:https://trustdtsa.com/event/trust-dinner-party-630-pm-seating-3/
LOCATION:Trust Kitchen\, 220 E. Fourth Street\, Santa Ana\, CA\, 92701\, United States
ORGANIZER;CN="Kyle McClelland":MAILTO:Concierge@trustdtsa.com
END:VEVENT
BEGIN:VEVENT
DTSTART;TZID=America/Los_Angeles:20240821T180000
DTEND;TZID=America/Los_Angeles:20240821T223000
DTSTAMP:20260425T091353
CREATED:20240713T202417Z
LAST-MODIFIED:20240713T202417Z
UID:10000308-1724263200-1724279400@trustdtsa.com
SUMMARY:Adventures in Seafood 6:00 pm and 8:30 pm Seatings
DESCRIPTION:An evening for all things seafood from our friends at International Marine Products located in downtown L.A.  They distribute the best seafood we have been able to find.  Each day they receive fish from some of the world’s top sustainable farmed fisheries\, as well as Tokyo’s world famous Tsukiji fish market.  The menu will be created based on what the seas yield.  $225 per person including food\, wine pairings\, tax and gratuity. \nPurchase your tickets here.
URL:https://trustdtsa.com/event/adventures-in-seafood-600-pm-and-830-pm-seatings-2/
LOCATION:Trust Kitchen\, 220 E. Fourth Street\, Santa Ana\, CA\, 92701\, United States
ORGANIZER;CN="Kyle McClelland":MAILTO:Concierge@trustdtsa.com
END:VEVENT
BEGIN:VEVENT
DTSTART;TZID=America/Los_Angeles:20240820T183000
DTEND;TZID=America/Los_Angeles:20240820T203000
DTSTAMP:20260425T091353
CREATED:20240713T202311Z
LAST-MODIFIED:20240713T202311Z
UID:10000307-1724178600-1724185800@trustdtsa.com
SUMMARY:Adventures in Seafood 6:30 pm Seating
DESCRIPTION:An evening for all things seafood from our friends at International Marine Products located in downtown L.A.  They distribute the best seafood we have been able to find.  Each day they receive fish from some of the world’s top sustainable farmed fisheries\, as well as Tokyo’s world famous Tsukiji fish market.  The menu will be created based on what the seas yield.  $225 per person including food\, wine pairings\, tax and gratuity. \nPurchase your tickets here.
URL:https://trustdtsa.com/event/adventures-in-seafood-630-pm-seating/
LOCATION:Trust Kitchen\, 220 E. Fourth Street\, Santa Ana\, CA\, 92701\, United States
ORGANIZER;CN="Kyle McClelland":MAILTO:Concierge@trustdtsa.com
END:VEVENT
BEGIN:VEVENT
DTSTART;TZID=America/Los_Angeles:20240817T180000
DTEND;TZID=America/Los_Angeles:20240817T223000
DTSTAMP:20260425T091353
CREATED:20240713T202213Z
LAST-MODIFIED:20240713T202213Z
UID:10000306-1723917600-1723933800@trustdtsa.com
SUMMARY:Trust Dinner Party 6:00 pm and 8:30 pm Seatings
DESCRIPTION:Chef Justin is selecting the most exciting and inspiring ingredients and putting together a dinner party for 18 of his closest friends. $250 per person\, food and wine pairings\, tax and gratuities included. \nPurchase your tickets here.
URL:https://trustdtsa.com/event/trust-dinner-party-600-pm-and-830-pm-seatings-7/
LOCATION:Trust Kitchen\, 220 E. Fourth Street\, Santa Ana\, CA\, 92701\, United States
END:VEVENT
BEGIN:VEVENT
DTSTART;TZID=America/Los_Angeles:20240816T180000
DTEND;TZID=America/Los_Angeles:20240816T223000
DTSTAMP:20260425T091353
CREATED:20240713T202127Z
LAST-MODIFIED:20240713T202127Z
UID:10000305-1723831200-1723847400@trustdtsa.com
SUMMARY:Trust Dinner Party 6:00 pm and 8:30 pm Seatings
DESCRIPTION:Chef Justin is selecting the most exciting and inspiring ingredients and putting together a dinner party for 18 of his closest friends. $250 per person\, food and wine pairings\, tax and gratuities included. \nPurchase your tickets here.
URL:https://trustdtsa.com/event/trust-dinner-party-600-pm-and-830-pm-seatings-6/
LOCATION:Trust Kitchen\, 220 E. Fourth Street\, Santa Ana\, CA\, 92701\, United States
END:VEVENT
BEGIN:VEVENT
DTSTART;TZID=America/Los_Angeles:20240815T183000
DTEND;TZID=America/Los_Angeles:20240815T203000
DTSTAMP:20260425T091353
CREATED:20240713T202001Z
LAST-MODIFIED:20240713T202001Z
UID:10000304-1723746600-1723753800@trustdtsa.com
SUMMARY:Molto Rustico 6:30 pm Seating
DESCRIPTION:Chef Justin spent a month living in San Gimignano\, during which he developed a fascination with trattoria style dining. He absolutely fell in love with this homey tradition. We have taken on some of the trappings of a ristorante and blended it with the old rustic and familial style of the Tuscan trattoria he experienced. $200 per person\, food\, wine pairings\, tax and gratuities included. \nPurchase your tickets here.
URL:https://trustdtsa.com/event/molto-rustico-630-pm-seating-2/
LOCATION:Trust Kitchen\, 220 E. Fourth Street\, Santa Ana\, CA\, 92701\, United States
ORGANIZER;CN="Kyle McClelland":MAILTO:Concierge@trustdtsa.com
END:VEVENT
BEGIN:VEVENT
DTSTART;TZID=America/Los_Angeles:20240814T183000
DTEND;TZID=America/Los_Angeles:20240814T203000
DTSTAMP:20260425T091353
CREATED:20240713T201854Z
LAST-MODIFIED:20240713T201854Z
UID:10000303-1723660200-1723667400@trustdtsa.com
SUMMARY:Molto Rustico 6:30 pm Seating
DESCRIPTION:Chef Justin spent a month living in San Gimignano\, during which he developed a fascination with trattoria style dining. He absolutely fell in love with this homey tradition. We have taken on some of the trappings of a ristorante and blended it with the old rustic and familial style of the Tuscan trattoria he experienced. $200 per person\, food\, wine pairings\, tax and gratuities included. \nPurchase your tickets here.
URL:https://trustdtsa.com/event/molto-rustico-630-pm-seating/
LOCATION:Trust Kitchen\, 220 E. Fourth Street\, Santa Ana\, CA\, 92701\, United States
ORGANIZER;CN="Kyle McClelland":MAILTO:Concierge@trustdtsa.com
END:VEVENT
BEGIN:VEVENT
DTSTART;TZID=America/Los_Angeles:20240813T183000
DTEND;TZID=America/Los_Angeles:20240813T203000
DTSTAMP:20260425T091353
CREATED:20240713T201638Z
LAST-MODIFIED:20240802T014350Z
UID:10000302-1723573800-1723581000@trustdtsa.com
SUMMARY:Taco Tuesday 6:30 Seating
DESCRIPTION:It’s Tuesday so there must be tacos. The best way to enjoy tacos is in the Trust Kitchen\, where Chef Justin will make sure every element of this iconic street food is elevated by ingredient quality\, technique\, inspiration and love. $175 per person\, food and wine pairings\, tax and gratuities included. \nPurchase your tickets here.
URL:https://trustdtsa.com/event/trust-lite-630-seating-2/
LOCATION:Trust Kitchen\, 220 E. Fourth Street\, Santa Ana\, CA\, 92701\, United States
ORGANIZER;CN="Kyle McClelland":MAILTO:Concierge@trustdtsa.com
END:VEVENT
BEGIN:VEVENT
DTSTART;TZID=America/Los_Angeles:20240810T180000
DTEND;TZID=America/Los_Angeles:20240810T223000
DTSTAMP:20260425T091353
CREATED:20240713T201519Z
LAST-MODIFIED:20240713T201519Z
UID:10000301-1723312800-1723329000@trustdtsa.com
SUMMARY:Trust Dinner Party 6:00 pm and 8:30 pm Seatings
DESCRIPTION:Chef Justin is selecting the most exciting and inspiring ingredients and putting together a dinner party for 18 of his closest friends. $250 per person\, food and wine pairings\, tax and gratuities included. \nPurchase your tickets here.
URL:https://trustdtsa.com/event/trust-dinner-party-600-pm-and-830-pm-seatings-5/
LOCATION:Trust Kitchen\, 220 E. Fourth Street\, Santa Ana\, CA\, 92701\, United States
END:VEVENT
BEGIN:VEVENT
DTSTART;TZID=America/Los_Angeles:20240809T180000
DTEND;TZID=America/Los_Angeles:20240809T223000
DTSTAMP:20260425T091353
CREATED:20240713T201426Z
LAST-MODIFIED:20240713T201426Z
UID:10000300-1723226400-1723242600@trustdtsa.com
SUMMARY:Trust Dinner Party 6:00 pm and 8:30 pm Seatings
DESCRIPTION:Chef Justin is selecting the most exciting and inspiring ingredients and putting together a dinner party for 18 of his closest friends. $250 per person\, food and wine pairings\, tax and gratuities included. \nPurchase your seats here.
URL:https://trustdtsa.com/event/trust-dinner-party-600-pm-and-830-pm-seatings-4/
LOCATION:Trust Kitchen\, 220 E. Fourth Street\, Santa Ana\, CA\, 92701\, United States
ORGANIZER;CN="Kyle McClelland":MAILTO:Concierge@trustdtsa.com
END:VEVENT
BEGIN:VEVENT
DTSTART;TZID=America/Los_Angeles:20240808T183000
DTEND;TZID=America/Los_Angeles:20240808T203000
DTSTAMP:20260425T091353
CREATED:20240713T201330Z
LAST-MODIFIED:20240713T201330Z
UID:10000299-1723141800-1723149000@trustdtsa.com
SUMMARY:Trust Dinner Party 6:30 pm Seating
DESCRIPTION:Chef Justin is selecting the most exciting and inspiring ingredients and putting together a dinner party for 18 of his closest friends. $250 per person\, food and wine pairings\, tax and gratuities included. \nPurchase your seats here.
URL:https://trustdtsa.com/event/trust-dinner-party-630-pm-seating-2/
LOCATION:Trust Kitchen\, 220 E. Fourth Street\, Santa Ana\, CA\, 92701\, United States
ORGANIZER;CN="Kyle McClelland":MAILTO:Concierge@trustdtsa.com
END:VEVENT
BEGIN:VEVENT
DTSTART;TZID=America/Los_Angeles:20240807T180000
DTEND;TZID=America/Los_Angeles:20240807T223000
DTSTAMP:20260425T091353
CREATED:20240713T201222Z
LAST-MODIFIED:20240713T201222Z
UID:10000298-1723053600-1723069800@trustdtsa.com
SUMMARY:Ultimate Steak Dinner 6:00 pm and 8:30 pm Seating
DESCRIPTION:A celebration of beef\, America’s favorite protein\, featuring several of the world’s finest examples and our favorite steakhouse sides.  $225 per person\, food and wine pairings\, tax and gratuities included. \nPurchase your tickets here.
URL:https://trustdtsa.com/event/ultimate-steak-dinner-600-pm-and-830-pm-seating-2/
LOCATION:Trust Kitchen\, 220 E. Fourth Street\, Santa Ana\, CA\, 92701\, United States
ORGANIZER;CN="Kyle McClelland":MAILTO:Concierge@trustdtsa.com
END:VEVENT
BEGIN:VEVENT
DTSTART;TZID=America/Los_Angeles:20240806T183000
DTEND;TZID=America/Los_Angeles:20240806T203000
DTSTAMP:20260425T091353
CREATED:20240713T201126Z
LAST-MODIFIED:20240713T201126Z
UID:10000297-1722969000-1722976200@trustdtsa.com
SUMMARY:Ultimate Steak Dinner 6:30 pm Seating
DESCRIPTION:A celebration of beef\, America’s favorite protein\, featuring several of the world’s finest examples and our favorite steakhouse sides.  $225 per person\, food and wine pairings\, tax and gratuities included. \nPurchase your tickets here.
URL:https://trustdtsa.com/event/ultimate-steak-dinner-630-pm-seating-3/
LOCATION:Trust Kitchen\, 220 E. Fourth Street\, Santa Ana\, CA\, 92701\, United States
ORGANIZER;CN="Kyle McClelland":MAILTO:Concierge@trustdtsa.com
END:VEVENT
BEGIN:VEVENT
DTSTART;TZID=America/Los_Angeles:20240803T180000
DTEND;TZID=America/Los_Angeles:20240803T223000
DTSTAMP:20260425T091353
CREATED:20240713T200946Z
LAST-MODIFIED:20240713T200946Z
UID:10000296-1722708000-1722724200@trustdtsa.com
SUMMARY:Trust Dinner Party 6:00 pm and 8:30 pm Seatings
DESCRIPTION:Chef Justin is selecting the most exciting and inspiring ingredients and putting together a dinner party for 18 of his closest friends. $250 per person\, food and wine pairings\, tax and gratuities included. \nPurchase your tickets here.
URL:https://trustdtsa.com/event/trust-dinner-party-600-pm-and-830-pm-seatings-3/
LOCATION:Trust Kitchen\, 220 E. Fourth Street\, Santa Ana\, CA\, 92701\, United States
ORGANIZER;CN="Kyle McClelland":MAILTO:Concierge@trustdtsa.com
END:VEVENT
BEGIN:VEVENT
DTSTART;TZID=America/Los_Angeles:20240802T180000
DTEND;TZID=America/Los_Angeles:20240802T223000
DTSTAMP:20260425T091353
CREATED:20240713T200844Z
LAST-MODIFIED:20240713T200844Z
UID:10000295-1722621600-1722637800@trustdtsa.com
SUMMARY:Trust Dinner Party 6:00 pm and 8:30 pm Seatings
DESCRIPTION:Chef Justin is selecting the most exciting and inspiring ingredients and putting together a dinner party for 18 of his closest friends. $250 per person\, food and wine pairings\, tax and gratuities included. \nPurchase your tickets here.
URL:https://trustdtsa.com/event/trust-dinner-party-600-pm-and-830-pm-seatings-2/
LOCATION:Trust Kitchen\, 220 E. Fourth Street\, Santa Ana\, CA\, 92701\, United States
ORGANIZER;CN="Kyle McClelland":MAILTO:Concierge@trustdtsa.com
END:VEVENT
BEGIN:VEVENT
DTSTART;TZID=America/Los_Angeles:20240801T183000
DTEND;TZID=America/Los_Angeles:20240801T203000
DTSTAMP:20260425T091353
CREATED:20240604T044435Z
LAST-MODIFIED:20240604T044435Z
UID:10000293-1722537000-1722544200@trustdtsa.com
SUMMARY:French Bistro 6:30 pm
DESCRIPTION:Justin channels his earliest memories of traveling to France; his first trip out of the country. He loves how the bistros that line the streets of Paris blend mostly classics while allowing modern influence. Working at Per Se and many New York restaurants with French influence\, this night is particularly special to Chef Justin. Bon Appetit. $200 per person inclusive of food\, wine pairings\, tax\, and gratuity. \nPurchase your tickets here.
URL:https://trustdtsa.com/event/french-bistro-630-pm/
LOCATION:Trust Kitchen\, 220 E. Fourth Street\, Santa Ana\, CA\, 92701\, United States
ORGANIZER;CN="Kyle McClelland":MAILTO:Concierge@trustdtsa.com
END:VEVENT
BEGIN:VEVENT
DTSTART;TZID=America/Los_Angeles:20240731T183000
DTEND;TZID=America/Los_Angeles:20240731T203000
DTSTAMP:20260425T091353
CREATED:20240604T044540Z
LAST-MODIFIED:20240604T044540Z
UID:10000292-1722450600-1722457800@trustdtsa.com
SUMMARY:French Bistro 6:30 pm Seating
DESCRIPTION:Justin channels his earliest memories of traveling to France; his first trip out of the country. He loves how the bistros that line the streets of Paris blend mostly classics while allowing modern influence. Working at Per Se and many New York restaurants with French influence\, this night is particularly special to Chef Justin. Bon Appetit. $200 per person inclusive of food\, wine pairings\, tax\, and gratuity. \nPurchase your tickets here.
URL:https://trustdtsa.com/event/french-bistro-630-pm-seating-2/
LOCATION:Trust Kitchen\, 220 E. Fourth Street\, Santa Ana\, CA\, 92701\, United States
END:VEVENT
BEGIN:VEVENT
DTSTART;VALUE=DATE:20240730
DTEND;VALUE=DATE:20240731
DTSTAMP:20260425T091353
CREATED:20240603T232253Z
LAST-MODIFIED:20240603T232253Z
UID:10000291-1722297600-1722383999@trustdtsa.com
SUMMARY:Closed
DESCRIPTION:
URL:https://trustdtsa.com/event/closed-5/
LOCATION:CA
END:VEVENT
BEGIN:VEVENT
DTSTART;TZID=America/Los_Angeles:20240727T180000
DTEND;TZID=America/Los_Angeles:20240727T223000
DTSTAMP:20260425T091353
CREATED:20240604T044551Z
LAST-MODIFIED:20240604T044551Z
UID:10000283-1722103200-1722119400@trustdtsa.com
SUMMARY:Trust Dinner Party 6:00 pm and 8:30 pm Seatings
DESCRIPTION:Chef Justin is selecting the most exciting and inspiring ingredients and putting together a dinner party for 18 of his closest friends. $250 per person\, food and wine pairings\, tax and gratuities included. \nPurchase your tickets here.
URL:https://trustdtsa.com/event/trust-dinner-party-600-pm-and-830-pm-seatings-36/
LOCATION:Trust Kitchen\, 220 E. Fourth Street\, Santa Ana\, CA\, 92701\, United States
ORGANIZER;CN="Kyle McClelland":MAILTO:Concierge@trustdtsa.com
END:VEVENT
BEGIN:VEVENT
DTSTART;TZID=America/Los_Angeles:20240726T180000
DTEND;TZID=America/Los_Angeles:20240726T223000
DTSTAMP:20260425T091353
CREATED:20240604T044602Z
LAST-MODIFIED:20240604T044602Z
UID:10000282-1722016800-1722033000@trustdtsa.com
SUMMARY:Trust Dinner Party 6:00 pm and 8:30 pm Seatings
DESCRIPTION:Chef Justin is selecting the most exciting and inspiring ingredients and putting together a dinner party for 18 of his closest friends. $250 per person\, food and wine pairings\, tax and gratuities included. \nPurchase your tickets here.
URL:https://trustdtsa.com/event/trust-dinner-party-600-pm-and-830-pm-seatings-37/
LOCATION:Trust Kitchen\, 220 E. Fourth Street\, Santa Ana\, CA\, 92701\, United States
ORGANIZER;CN="Kyle McClelland":MAILTO:Concierge@trustdtsa.com
END:VEVENT
BEGIN:VEVENT
DTSTART;TZID=America/Los_Angeles:20240725T183000
DTEND;TZID=America/Los_Angeles:20240725T203000
DTSTAMP:20260425T091353
CREATED:20240604T044631Z
LAST-MODIFIED:20240604T044631Z
UID:10000290-1721932200-1721939400@trustdtsa.com
SUMMARY:Spanish Tapas 6:30 pm Seating
DESCRIPTION:Chef Justin takes inspiration from the Pintxos in San Sebastián and the Tapas in Barcelona in this laid back evening of high end snacks.The hands-on eating tradition of Spanish cuisine done with the usual standard of luxury items accustomed to Trust. Big flavors\, relaxed setting and great Spanish wines. $185 per ticket inclusive of all food\, wine pairings\, tax\, and gratuity. \nPurchase your tickets here.
URL:https://trustdtsa.com/event/spanish-tapas-630-pm-seating-2/
LOCATION:Trust Kitchen\, 220 E. Fourth Street\, Santa Ana\, CA\, 92701\, United States
ORGANIZER;CN="Kyle McClelland":MAILTO:Concierge@trustdtsa.com
END:VEVENT
BEGIN:VEVENT
DTSTART;TZID=America/Los_Angeles:20240724T180000
DTEND;TZID=America/Los_Angeles:20240724T223000
DTSTAMP:20260425T091353
CREATED:20240627T215717Z
LAST-MODIFIED:20240627T215755Z
UID:10000294-1721844000-1721860200@trustdtsa.com
SUMMARY:Adventures in Seafood 6:00 pm and 8:30 pm Seatings
DESCRIPTION:An evening for all things seafood from our friends at International Marine Products located in downtown L.A.  They distribute the best seafood we have been able to find.  Each day they receive fish from some of the world’s top sustainable farmed fisheries\, as well as Tokyo’s world famous Tsukiji fish market.  The menu will be created based on what the seas yield.  $225 per person including food\, wine pairings\, tax and gratuity. \nPurchase your tickets here.
URL:https://trustdtsa.com/event/adventures-in-seafood-600-pm-and-830-pm-seatings/
LOCATION:Trust Kitchen\, 220 E. Fourth Street\, Santa Ana\, CA\, 92701\, United States
ORGANIZER;CN="Kyle McClelland":MAILTO:Concierge@trustdtsa.com
END:VEVENT
BEGIN:VEVENT
DTSTART;TZID=America/Los_Angeles:20240723T183000
DTEND;TZID=America/Los_Angeles:20240723T203000
DTSTAMP:20260425T091353
CREATED:20240604T044643Z
LAST-MODIFIED:20240604T044643Z
UID:10000289-1721759400-1721766600@trustdtsa.com
SUMMARY:Adventures in Seafood 6:30 pm Seating
DESCRIPTION:An evening for all things seafood from our friends at International Marine Products located in downtown L.A.  They distribute the best seafood we have been able to find.  Each day they receive fish from some of the world’s top sustainable farmed fisheries\, as well as Tokyo’s world famous Tsukiji fish market.  The menu will be created based on what the seas yield.  $225 per person including food\, wine pairings\, tax and gratuity. \nPurchase your tickets here.
URL:https://trustdtsa.com/event/adventures-in-seafood-630-pm-seating-3/
LOCATION:Trust Kitchen\, 220 E. Fourth Street\, Santa Ana\, CA\, 92701\, United States
ORGANIZER;CN="Kyle McClelland":MAILTO:Concierge@trustdtsa.com
END:VEVENT
BEGIN:VEVENT
DTSTART;TZID=America/Los_Angeles:20240720T180000
DTEND;TZID=America/Los_Angeles:20240720T223000
DTSTAMP:20260425T091353
CREATED:20240604T044650Z
LAST-MODIFIED:20240604T044650Z
UID:10000281-1721498400-1721514600@trustdtsa.com
SUMMARY:Trust Dinner Party 6:00 pm and 8:30 pm Seatings
DESCRIPTION:Chef Justin is selecting the most exciting and inspiring ingredients and putting together a dinner party for 18 of his closest friends. $250 per person\, food and wine pairings\, tax and gratuities included. \nPurchase your tickets here.
URL:https://trustdtsa.com/event/trust-dinner-party-600-pm-and-830-pm-seatings-39/
LOCATION:Trust Kitchen\, 220 E. Fourth Street\, Santa Ana\, CA\, 92701\, United States
ORGANIZER;CN="Kyle McClelland":MAILTO:Concierge@trustdtsa.com
END:VEVENT
BEGIN:VEVENT
DTSTART;TZID=America/Los_Angeles:20240719T180000
DTEND;TZID=America/Los_Angeles:20240719T223000
DTSTAMP:20260425T091353
CREATED:20240604T044659Z
LAST-MODIFIED:20240604T044659Z
UID:10000284-1721412000-1721428200@trustdtsa.com
SUMMARY:Trust Dinner Party 6:00 pm and 8:30 pm Seatings
DESCRIPTION:Chef Justin is selecting the most exciting and inspiring ingredients and putting together a dinner party for 18 of his closest friends. $250 per person\, food and wine pairings\, tax and gratuities included. \nPurchase your tickets here.
URL:https://trustdtsa.com/event/trust-dinner-party-600-pm-and-830-pm-seatings-40/
LOCATION:Trust Kitchen\, 220 E. Fourth Street\, Santa Ana\, CA\, 92701\, United States
ORGANIZER;CN="Kyle McClelland":MAILTO:Concierge@trustdtsa.com
END:VEVENT
BEGIN:VEVENT
DTSTART;TZID=America/Los_Angeles:20240718T183000
DTEND;TZID=America/Los_Angeles:20240718T203000
DTSTAMP:20260425T091353
CREATED:20240713T201037Z
LAST-MODIFIED:20240713T201037Z
UID:10000278-1721327400-1721334600@trustdtsa.com
SUMMARY:Trust Dinner Party 6:30 pm Seating
DESCRIPTION:Chef Justin is selecting the most exciting and inspiring ingredients and putting together a dinner party for 18 of his closest friends. $250 per person\, food and wine pairings\, tax and gratuities included. \nPurchase your tickets here.
URL:https://trustdtsa.com/event/trust-dinner-party-630-pm-seating/
LOCATION:Trust Kitchen\, 220 E. Fourth Street\, Santa Ana\, CA\, 92701\, United States
ORGANIZER;CN="Kyle McClelland":MAILTO:Concierge@trustdtsa.com
END:VEVENT
BEGIN:VEVENT
DTSTART;TZID=America/Los_Angeles:20240717T183000
DTEND;TZID=America/Los_Angeles:20240717T203000
DTSTAMP:20260425T091353
CREATED:20240604T044707Z
LAST-MODIFIED:20240604T044707Z
UID:10000288-1721241000-1721248200@trustdtsa.com
SUMMARY:Battledish: The Ecology Center 6:30 pm Seating
DESCRIPTION:Chef Justin won Chopped once against three total strangers. I wonder if he can beat his colleagues here in the Trust Kitchen?  You be the judge.  We are excited to work with our local friends at the Ecology Center in San Juan Capistrano. We love being at the mercy of the soil; we love not knowing what we’ll be working with the night before we go down there; we love the drive home figuring out how we’re going to treat these gifts from the earth. The way we cook the meal is really fun: Three chefs\, each chef picks four ingredients\, and each ingredient gets its own dish. We never let the guests know who made which dish but at the end we always ask each person what their favorite dish of the evening is. We tabulate the results and a Battledish winner is named.  $200 per person including food\, wine pairings\, tax and gratuity. This is a vegetarian dinner! \nPurchase your tickets here.
URL:https://trustdtsa.com/event/battledish-the-ecology-center-630-pm-seating-2/
LOCATION:Trust Kitchen\, 220 E. Fourth Street\, Santa Ana\, CA\, 92701\, United States
ORGANIZER;CN="Kyle McClelland":MAILTO:Concierge@trustdtsa.com
END:VEVENT
BEGIN:VEVENT
DTSTART;TZID=America/Los_Angeles:20240713T180000
DTEND;TZID=America/Los_Angeles:20240713T223000
DTSTAMP:20260425T091353
CREATED:20240604T044715Z
LAST-MODIFIED:20240604T044715Z
UID:10000279-1720893600-1720909800@trustdtsa.com
SUMMARY:Trust Dinner Party 6:00 pm and 8:30 pm Seatings
DESCRIPTION:Chef Justin is selecting the most exciting and inspiring ingredients and putting together a dinner party for 18 of his closest friends. $250 per person\, food and wine pairings\, tax and gratuities included. \nPurchase your tickets here.
URL:https://trustdtsa.com/event/trust-dinner-party-600-pm-and-830-pm-seatings-41/
LOCATION:Trust Kitchen\, 220 E. Fourth Street\, Santa Ana\, CA\, 92701\, United States
END:VEVENT
BEGIN:VEVENT
DTSTART;TZID=America/Los_Angeles:20240712T180000
DTEND;TZID=America/Los_Angeles:20240712T223000
DTSTAMP:20260425T091353
CREATED:20240604T044723Z
LAST-MODIFIED:20240604T044723Z
UID:10000277-1720807200-1720823400@trustdtsa.com
SUMMARY:Trust Dinner Party 6:00 pm and 8:30 pm Seatings
DESCRIPTION:Chef Justin is selecting the most exciting and inspiring ingredients and putting together a dinner party for 18 of his closest friends. $250 per person\, food and wine pairings\, tax and gratuities included. \nPurchase your seats here.
URL:https://trustdtsa.com/event/trust-dinner-party-600-pm-and-830-pm-seatings-42/
LOCATION:Trust Kitchen\, 220 E. Fourth Street\, Santa Ana\, CA\, 92701\, United States
ORGANIZER;CN="Kyle McClelland":MAILTO:Concierge@trustdtsa.com
END:VEVENT
BEGIN:VEVENT
DTSTART;TZID=America/Los_Angeles:20240711T183000
DTEND;TZID=America/Los_Angeles:20240711T203000
DTSTAMP:20260425T091353
CREATED:20240604T044733Z
LAST-MODIFIED:20240604T044733Z
UID:10000276-1720722600-1720729800@trustdtsa.com
SUMMARY:Trust Dinner Party 6:30 pm Seating
DESCRIPTION:Chef Justin is selecting the most exciting and inspiring ingredients and putting together a dinner party for 18 of his closest friends. $250 per person\, food and wine pairings\, tax and gratuities included. \nPurchase your seats here.
URL:https://trustdtsa.com/event/trust-dinner-party-630-pm-seating-7/
LOCATION:Trust Kitchen\, 220 E. Fourth Street\, Santa Ana\, CA\, 92701\, United States
ORGANIZER;CN="Kyle McClelland":MAILTO:Concierge@trustdtsa.com
END:VEVENT
END:VCALENDAR