BEGIN:VCALENDAR
VERSION:2.0
PRODID:-//Trust - ECPv6.15.20//NONSGML v1.0//EN
CALSCALE:GREGORIAN
METHOD:PUBLISH
X-WR-CALNAME:Trust
X-ORIGINAL-URL:https://trustdtsa.com
X-WR-CALDESC:Events for Trust
REFRESH-INTERVAL;VALUE=DURATION:PT1H
X-Robots-Tag:noindex
X-PUBLISHED-TTL:PT1H
BEGIN:VTIMEZONE
TZID:America/Los_Angeles
BEGIN:DAYLIGHT
TZOFFSETFROM:-0800
TZOFFSETTO:-0700
TZNAME:PDT
DTSTART:20230312T100000
END:DAYLIGHT
BEGIN:STANDARD
TZOFFSETFROM:-0700
TZOFFSETTO:-0800
TZNAME:PST
DTSTART:20231105T090000
END:STANDARD
BEGIN:DAYLIGHT
TZOFFSETFROM:-0800
TZOFFSETTO:-0700
TZNAME:PDT
DTSTART:20240310T100000
END:DAYLIGHT
BEGIN:STANDARD
TZOFFSETFROM:-0700
TZOFFSETTO:-0800
TZNAME:PST
DTSTART:20241103T090000
END:STANDARD
BEGIN:DAYLIGHT
TZOFFSETFROM:-0800
TZOFFSETTO:-0700
TZNAME:PDT
DTSTART:20250309T100000
END:DAYLIGHT
BEGIN:STANDARD
TZOFFSETFROM:-0700
TZOFFSETTO:-0800
TZNAME:PST
DTSTART:20251102T090000
END:STANDARD
END:VTIMEZONE
BEGIN:VEVENT
DTSTART;TZID=America/Los_Angeles:20241018T180000
DTEND;TZID=America/Los_Angeles:20241018T223000
DTSTAMP:20260425T070307
CREATED:20240807T205210Z
LAST-MODIFIED:20240807T205210Z
UID:10000346-1729274400-1729290600@trustdtsa.com
SUMMARY:Justin and Tricia's Farewell Tour 6:00 pm and 8:30 pm Seatings
DESCRIPTION:Come join Justin and Tricia as they say goodbye to Trust and California. Both have been part of our family for nearly a decade\, and they would love to celebrate with you before their move to New York. Don’t miss this special event and let’s send them off in style! $250 per person\, food and beverage pairings\, tax and gratuities included. \nPurchase your tickets here.
URL:https://trustdtsa.com/event/justin-and-tricias-farewell-tour-600-pm-and-830-pm-seatings-8/
LOCATION:CA
ORGANIZER;CN="Kyle McClelland":MAILTO:Concierge@trustdtsa.com
END:VEVENT
BEGIN:VEVENT
DTSTART;TZID=America/Los_Angeles:20241017T180000
DTEND;TZID=America/Los_Angeles:20241017T223000
DTSTAMP:20260425T070307
CREATED:20240807T205132Z
LAST-MODIFIED:20240807T205132Z
UID:10000345-1729188000-1729204200@trustdtsa.com
SUMMARY:Justin and Tricia's Farewell Tour 6:00 pm and 8:30 pm Seatings
DESCRIPTION:Come join Justin and Tricia as they say goodbye to Trust and California. Both have been part of our family for nearly a decade\, and they would love to celebrate with you before their move to New York. Don’t miss this special event and let’s send them off in style! $250 per person\, food and beverage pairings\, tax and gratuities included. \nPurchase your tickets here.
URL:https://trustdtsa.com/event/justin-and-tricias-farewell-tour-600-pm-and-830-pm-seatings-7/
LOCATION:CA
ORGANIZER;CN="Kyle McClelland":MAILTO:Concierge@trustdtsa.com
END:VEVENT
BEGIN:VEVENT
DTSTART;TZID=America/Los_Angeles:20241016T183000
DTEND;TZID=America/Los_Angeles:20241016T203000
DTSTAMP:20260425T070307
CREATED:20240807T204959Z
LAST-MODIFIED:20240807T204959Z
UID:10000344-1729103400-1729110600@trustdtsa.com
SUMMARY:Justin and Tricia's Farewell Tour 6:30 pm Seating
DESCRIPTION:Come join Justin and Tricia as they say goodbye to Trust and California. Both have been part of our family for nearly a decade\, and they would love to celebrate with you before their move to New York. Don’t miss this special event and let’s send them off in style! $250 per person\, food and beverage pairings\, tax and gratuities included. \nPurchase your tickets here.
URL:https://trustdtsa.com/event/justin-and-tricias-farewell-tour-630-pm-seating-5/
LOCATION:Trust Kitchen\, 220 E. Fourth Street\, Santa Ana\, CA\, 92701\, United States
ORGANIZER;CN="Kyle McClelland":MAILTO:Concierge@trustdtsa.com
END:VEVENT
BEGIN:VEVENT
DTSTART;TZID=America/Los_Angeles:20241015T183000
DTEND;TZID=America/Los_Angeles:20241015T203000
DTSTAMP:20260425T070307
CREATED:20240807T204922Z
LAST-MODIFIED:20240807T204922Z
UID:10000343-1729017000-1729024200@trustdtsa.com
SUMMARY:Justin and Tricia's Farewell Tour 6:30 pm Seating
DESCRIPTION:Come join Justin and Tricia as they say goodbye to Trust and California. Both have been part of our family for nearly a decade\, and they would love to celebrate with you before their move to New York. Don’t miss this special event and let’s send them off in style! $250 per person\, food and beverage pairings\, tax and gratuities included. \nPurchase your tickets here.
URL:https://trustdtsa.com/event/justin-and-tricias-farewell-tour-630-pm-seating-4/
LOCATION:Trust Kitchen\, 220 E. Fourth Street\, Santa Ana\, CA\, 92701\, United States
ORGANIZER;CN="Kyle McClelland":MAILTO:Concierge@trustdtsa.com
END:VEVENT
BEGIN:VEVENT
DTSTART;TZID=America/Los_Angeles:20241012T180000
DTEND;TZID=America/Los_Angeles:20241012T223000
DTSTAMP:20260425T070307
CREATED:20240807T204723Z
LAST-MODIFIED:20240807T204723Z
UID:10000342-1728756000-1728772200@trustdtsa.com
SUMMARY:Justin and Tricia's Farewell Tour 6:00 pm and 8:30 pm Seatings
DESCRIPTION:Come join Justin and Tricia as they say goodbye to Trust and California. Both have been part of our family for nearly a decade\, and they would love to celebrate with you before their move to New York. Don’t miss this special event and let’s send them off in style! $250 per person\, food and beverage pairings\, tax and gratuities included. \nPurchase your tickets here.
URL:https://trustdtsa.com/event/justin-and-tricias-farewell-tour-600-pm-and-830-pm-seatings-6/
LOCATION:CA
ORGANIZER;CN="Kyle McClelland":MAILTO:Concierge@trustdtsa.com
END:VEVENT
BEGIN:VEVENT
DTSTART;TZID=America/Los_Angeles:20241011T180000
DTEND;TZID=America/Los_Angeles:20241011T223000
DTSTAMP:20260425T070307
CREATED:20240807T204558Z
LAST-MODIFIED:20240807T204558Z
UID:10000341-1728669600-1728685800@trustdtsa.com
SUMMARY:Justin and Tricia's Farewell Tour 6:00 pm and 8:30 pm Seatings
DESCRIPTION:Come join Justin and Tricia as they say goodbye to Trust and California. Both have been part of our family for nearly a decade\, and they would love to celebrate with you before their move to New York. Don’t miss this special event and let’s send them off in style! $250 per person\, food and beverage pairings\, tax and gratuities included. \nPurchase your tickets here.
URL:https://trustdtsa.com/event/justin-and-tricias-farewell-tour-600-pm-and-830-pm-seatings-5/
LOCATION:CA
ORGANIZER;CN="Kyle McClelland":MAILTO:Concierge@trustdtsa.com
END:VEVENT
BEGIN:VEVENT
DTSTART;TZID=America/Los_Angeles:20241010T180000
DTEND;TZID=America/Los_Angeles:20241010T223000
DTSTAMP:20260425T070307
CREATED:20240807T204458Z
LAST-MODIFIED:20240807T204458Z
UID:10000340-1728583200-1728599400@trustdtsa.com
SUMMARY:Justin and Tricia's Farewell Tour 6:00 pm and 8:30 pm Seatings
DESCRIPTION:Come join Justin and Tricia as they say goodbye to Trust and California. Both have been part of our family for nearly a decade\, and they would love to celebrate with you before their move to New York. Don’t miss this special event and let’s send them off in style! $250 per person\, food and beverage pairings\, tax and gratuities included. \nPurchase your tickets here.
URL:https://trustdtsa.com/event/justin-and-tricias-farewell-tour-600-pm-and-830-pm-seatings-4/
LOCATION:CA
ORGANIZER;CN="Kyle McClelland":MAILTO:Concierge@trustdtsa.com
END:VEVENT
BEGIN:VEVENT
DTSTART;TZID=America/Los_Angeles:20241009T183000
DTEND;TZID=America/Los_Angeles:20241009T203000
DTSTAMP:20260425T070307
CREATED:20240807T204411Z
LAST-MODIFIED:20240807T204411Z
UID:10000339-1728498600-1728505800@trustdtsa.com
SUMMARY:Justin and Tricia's Farewell Tour 6:30 pm Seating
DESCRIPTION:Come join Justin and Tricia as they say goodbye to Trust and California. Both have been part of our family for nearly a decade\, and they would love to celebrate with you before their move to New York. Don’t miss this special event and let’s send them off in style! $250 per person\, food and beverage pairings\, tax and gratuities included. \nPurchase your tickets here.
URL:https://trustdtsa.com/event/justin-and-tricias-farewell-tour-630-pm-seating-3/
LOCATION:Trust Kitchen\, 220 E. Fourth Street\, Santa Ana\, CA\, 92701\, United States
ORGANIZER;CN="Kyle McClelland":MAILTO:Concierge@trustdtsa.com
END:VEVENT
BEGIN:VEVENT
DTSTART;TZID=America/Los_Angeles:20241008T183000
DTEND;TZID=America/Los_Angeles:20241008T203000
DTSTAMP:20260425T070307
CREATED:20240807T204317Z
LAST-MODIFIED:20240807T211402Z
UID:10000338-1728412200-1728419400@trustdtsa.com
SUMMARY:Justin and Tricia's Farewell Tour 6:30 pm Seating
DESCRIPTION:Come join Justin and Tricia as they say goodbye to Trust and California. Both have been part of our family for nearly a decade\, and they would love to celebrate with you before their move to New York. Don’t miss this special event and let’s send them off in style! $250 per person\, food and beverage pairings\, tax and gratuities included. \nPurchase your tickets here.
URL:https://trustdtsa.com/event/justin-and-tricias-farewell-tour-630-pm-seating-2/
LOCATION:Trust Kitchen\, 220 E. Fourth Street\, Santa Ana\, CA\, 92701\, United States
ORGANIZER;CN="Kyle McClelland":MAILTO:Concierge@trustdtsa.com
END:VEVENT
BEGIN:VEVENT
DTSTART;TZID=America/Los_Angeles:20241005T180000
DTEND;TZID=America/Los_Angeles:20241005T223000
DTSTAMP:20260425T070307
CREATED:20240807T204232Z
LAST-MODIFIED:20240807T204232Z
UID:10000337-1728151200-1728167400@trustdtsa.com
SUMMARY:Justin and Tricia's Farewell Tour 6:00 pm and 8:30 pm Seatings
DESCRIPTION:Come join Justin and Tricia as they say goodbye to Trust and California. Both have been part of our family for nearly a decade\, and they would love to celebrate with you before their move to New York. Don’t miss this special event and let’s send them off in style! $250 per person\, food and beverage pairings\, tax and gratuities included. \nPurchase your tickets here.
URL:https://trustdtsa.com/event/justin-and-tricias-farewell-tour-600-pm-and-830-pm-seatings-3/
LOCATION:CA
ORGANIZER;CN="Kyle McClelland":MAILTO:Concierge@trustdtsa.com
END:VEVENT
BEGIN:VEVENT
DTSTART;TZID=America/Los_Angeles:20241004T180000
DTEND;TZID=America/Los_Angeles:20241004T223000
DTSTAMP:20260425T070307
CREATED:20240807T204137Z
LAST-MODIFIED:20240807T204137Z
UID:10000336-1728064800-1728081000@trustdtsa.com
SUMMARY:Justin and Tricia's Farewell Tour 6:00 pm and 8:30 pm Seatings
DESCRIPTION:Come join Justin and Tricia as they say goodbye to Trust and California. Both have been part of our family for nearly a decade\, and they would love to celebrate with you before their move to New York. Don’t miss this special event and let’s send them off in style! $250 per person\, food and beverage pairings\, tax and gratuities included. \nPurchase your tickets here.
URL:https://trustdtsa.com/event/justin-and-tricias-farewell-tour-600-pm-and-830-pm-seatings-2/
LOCATION:CA
ORGANIZER;CN="Kyle McClelland":MAILTO:Concierge@trustdtsa.com
END:VEVENT
BEGIN:VEVENT
DTSTART;TZID=America/Los_Angeles:20241003T180000
DTEND;TZID=America/Los_Angeles:20241003T223000
DTSTAMP:20260425T070307
CREATED:20240807T204014Z
LAST-MODIFIED:20240807T204014Z
UID:10000335-1727978400-1727994600@trustdtsa.com
SUMMARY:Justin and Tricia's Farewell Tour 6:00 pm and 8:30 pm Seatings
DESCRIPTION:Come join Justin and Tricia as they say goodbye to Trust and California. Both have been part of our family for nearly a decade\, and they would love to celebrate with you before their move to New York. Don’t miss this special event and let’s send them off in style! $250 per person\, food and beverage pairings\, tax and gratuities included. \nPurchase your tickets here.
URL:https://trustdtsa.com/event/justin-and-tricias-farewell-tour-600-pm-and-830-pm-seatings/
LOCATION:CA
ORGANIZER;CN="Kyle McClelland":MAILTO:Concierge@trustdtsa.com
END:VEVENT
BEGIN:VEVENT
DTSTART;TZID=America/Los_Angeles:20241002T183000
DTEND;TZID=America/Los_Angeles:20241002T203000
DTSTAMP:20260425T070307
CREATED:20240807T203848Z
LAST-MODIFIED:20240807T204047Z
UID:10000334-1727893800-1727901000@trustdtsa.com
SUMMARY:Justin and Tricia's Farewell Tour 6:30 pm Seating
DESCRIPTION:Come join Justin and Tricia as they say goodbye to Trust and California. Both have been part of our family for nearly a decade\, and they would love to celebrate with you before their move to New York. Don’t miss this special event and let’s send them off in style! $250 per person\, food and beverage pairings\, tax and gratuities included. \nPurchase your tickets here.
URL:https://trustdtsa.com/event/justin-and-tricias-farewell-tour-630-pm-seating/
LOCATION:Trust Kitchen\, 220 E. Fourth Street\, Santa Ana\, CA\, 92701\, United States
ORGANIZER;CN="Kyle McClelland":MAILTO:Concierge@trustdtsa.com
END:VEVENT
BEGIN:VEVENT
DTSTART;TZID=America/Los_Angeles:20240928T180000
DTEND;TZID=America/Los_Angeles:20240928T223000
DTSTAMP:20260425T070308
CREATED:20240807T203639Z
LAST-MODIFIED:20240807T203639Z
UID:10000333-1727546400-1727562600@trustdtsa.com
SUMMARY:Trust Dinner Party 6:00 pm and 8:30 pm Seatings
DESCRIPTION:Chef Justin is selecting the most exciting and inspiring ingredients and putting together a dinner party for 18 of his closest friends. $250 per person\, food and wine pairings\, tax and gratuities included. \nPurchase your seats here.
URL:https://trustdtsa.com/event/trust-dinner-party-600-pm-and-830-pm-seatings-18/
LOCATION:Trust Kitchen\, 220 E. Fourth Street\, Santa Ana\, CA\, 92701\, United States
ORGANIZER;CN="Kyle McClelland":MAILTO:Concierge@trustdtsa.com
END:VEVENT
BEGIN:VEVENT
DTSTART;TZID=America/Los_Angeles:20240927T180000
DTEND;TZID=America/Los_Angeles:20240927T223000
DTSTAMP:20260425T070308
CREATED:20240807T203552Z
LAST-MODIFIED:20240807T203552Z
UID:10000332-1727460000-1727476200@trustdtsa.com
SUMMARY:Trust Dinner Party 6:00 pm and 8:30 pm Seatings
DESCRIPTION:Chef Justin is selecting the most exciting and inspiring ingredients and putting together a dinner party for 18 of his closest friends. $250 per person\, food and wine pairings\, tax and gratuities included. \nPurchase your seats here.
URL:https://trustdtsa.com/event/trust-dinner-party-600-pm-and-830-pm-seatings-17/
LOCATION:Trust Kitchen\, 220 E. Fourth Street\, Santa Ana\, CA\, 92701\, United States
ORGANIZER;CN="Kyle McClelland":MAILTO:Concierge@trustdtsa.com
END:VEVENT
BEGIN:VEVENT
DTSTART;TZID=America/Los_Angeles:20240926T183000
DTEND;TZID=America/Los_Angeles:20240926T203000
DTSTAMP:20260425T070308
CREATED:20240807T203327Z
LAST-MODIFIED:20240807T203327Z
UID:10000331-1727375400-1727382600@trustdtsa.com
SUMMARY:Trust Dinner Party 6:30 pm Seating
DESCRIPTION:Chef Justin is selecting the most exciting and inspiring ingredients and putting together a dinner party for 18 of his closest friends. $250 per person\, food and wine pairings\, tax and gratuities included. \nPurchase your seats here.
URL:https://trustdtsa.com/event/trust-dinner-party-630-pm-seating-9/
LOCATION:Trust Kitchen\, 220 E. Fourth Street\, Santa Ana\, CA\, 92701\, United States
ORGANIZER;CN="Kyle McClelland":MAILTO:Concierge@trustdtsa.com
END:VEVENT
BEGIN:VEVENT
DTSTART;TZID=America/Los_Angeles:20240925T183000
DTEND;TZID=America/Los_Angeles:20240925T203000
DTSTAMP:20260425T070308
CREATED:20240807T203203Z
LAST-MODIFIED:20240807T203203Z
UID:10000330-1727289000-1727296200@trustdtsa.com
SUMMARY:Spanish Tapas 6:30 pm Seating
DESCRIPTION:Chef Justin takes inspiration from the Pintxos in San Sebastián and the Tapas in Barcelona in this laid back evening of high end snacks.The hands-on eating tradition of Spanish cuisine done with the usual standard of luxury items accustomed to Trust. Big flavors\, relaxed setting and great Spanish wines. $185 per ticket inclusive of all food\, wine pairings\, tax\, and gratuity. \nPurchase your tickets here.
URL:https://trustdtsa.com/event/spanish-tapas-630-pm-seating/
LOCATION:Trust Kitchen\, 220 E. Fourth Street\, Santa Ana\, CA\, 92701\, United States
ORGANIZER;CN="Kyle McClelland":MAILTO:Concierge@trustdtsa.com
END:VEVENT
BEGIN:VEVENT
DTSTART;TZID=America/Los_Angeles:20240924T183000
DTEND;TZID=America/Los_Angeles:20240924T203000
DTSTAMP:20260425T070308
CREATED:20240808T205443Z
LAST-MODIFIED:20240808T205443Z
UID:10000358-1727202600-1727209800@trustdtsa.com
SUMMARY:Trust Lite 6:30 Seating
DESCRIPTION:Chef Justin is selecting the most exciting and inspiring ingredients and putting together a dinner party for 18 of his closest friends.  This is a lighter version of his normal Trust Dinner Party\, featuring seven courses and two paired wines.  $160 per person\, food and wine pairings\, tax and gratuities included. \nPurchase your tickets here.
URL:https://trustdtsa.com/event/trust-lite-630-seating-3/
LOCATION:Trust Kitchen\, 220 E. Fourth Street\, Santa Ana\, CA\, 92701\, United States
ORGANIZER;CN="Kyle McClelland":MAILTO:Concierge@trustdtsa.com
END:VEVENT
BEGIN:VEVENT
DTSTART;TZID=America/Los_Angeles:20240921T180000
DTEND;TZID=America/Los_Angeles:20240921T223000
DTSTAMP:20260425T070308
CREATED:20240807T203058Z
LAST-MODIFIED:20240807T203058Z
UID:10000329-1726941600-1726957800@trustdtsa.com
SUMMARY:Trust Dinner Party 6:00 pm and 8:30 pm Seatings
DESCRIPTION:Chef Justin is selecting the most exciting and inspiring ingredients and putting together a dinner party for 18 of his closest friends. $250 per person\, food and wine pairings\, tax and gratuities included. \nPurchase your seats here.
URL:https://trustdtsa.com/event/trust-dinner-party-600-pm-and-830-pm-seatings-16/
LOCATION:Trust Kitchen\, 220 E. Fourth Street\, Santa Ana\, CA\, 92701\, United States
ORGANIZER;CN="Kyle McClelland":MAILTO:Concierge@trustdtsa.com
END:VEVENT
BEGIN:VEVENT
DTSTART;TZID=America/Los_Angeles:20240920T180000
DTEND;TZID=America/Los_Angeles:20240920T223000
DTSTAMP:20260425T070308
CREATED:20240807T202319Z
LAST-MODIFIED:20240807T202319Z
UID:10000328-1726855200-1726871400@trustdtsa.com
SUMMARY:Trust Dinner Party 6:00 pm and 8:30 pm Seatings
DESCRIPTION:Chef Justin is selecting the most exciting and inspiring ingredients and putting together a dinner party for 18 of his closest friends. $250 per person\, food and wine pairings\, tax and gratuities included. \nPurchase your seats here.
URL:https://trustdtsa.com/event/trust-dinner-party-600-pm-and-830-pm-seatings-15/
LOCATION:Trust Kitchen\, 220 E. Fourth Street\, Santa Ana\, CA\, 92701\, United States
ORGANIZER;CN="Kyle McClelland":MAILTO:Concierge@trustdtsa.com
END:VEVENT
BEGIN:VEVENT
DTSTART;TZID=America/Los_Angeles:20240919T183000
DTEND;TZID=America/Los_Angeles:20240919T203000
DTSTAMP:20260425T070308
CREATED:20240807T202231Z
LAST-MODIFIED:20240807T202231Z
UID:10000327-1726770600-1726777800@trustdtsa.com
SUMMARY:Trust Dinner Party 6:30 pm Seating
DESCRIPTION:Chef Justin is selecting the most exciting and inspiring ingredients and putting together a dinner party for 18 of his closest friends. $250 per person\, food and wine pairings\, tax and gratuities included. \nPurchase your seats here.
URL:https://trustdtsa.com/event/trust-dinner-party-630-pm-seating-8/
LOCATION:Trust Kitchen\, 220 E. Fourth Street\, Santa Ana\, CA\, 92701\, United States
ORGANIZER;CN="Kyle McClelland":MAILTO:Concierge@trustdtsa.com
END:VEVENT
BEGIN:VEVENT
DTSTART;TZID=America/Los_Angeles:20240918T183000
DTEND;TZID=America/Los_Angeles:20240918T203000
DTSTAMP:20260425T070308
CREATED:20240807T202114Z
LAST-MODIFIED:20240807T202114Z
UID:10000326-1726684200-1726691400@trustdtsa.com
SUMMARY:Adventures in Seafood 6:30 pm Seating
DESCRIPTION:An evening for all things seafood from our friends at International Marine Products located in downtown L.A.  They distribute the best seafood we have been able to find.  Each day they receive fish from some of the world’s top sustainable farmed fisheries\, as well as Tokyo’s world famous Tsukiji fish market.  The menu will be created based on what the seas yield.  $225 per person including food\, wine pairings\, tax and gratuity. \nPurchase your tickets here.
URL:https://trustdtsa.com/event/adventures-in-seafood-630-pm-seating-4/
LOCATION:Trust Kitchen\, 220 E. Fourth Street\, Santa Ana\, CA\, 92701\, United States
ORGANIZER;CN="Kyle McClelland":MAILTO:Concierge@trustdtsa.com
END:VEVENT
BEGIN:VEVENT
DTSTART;TZID=America/Los_Angeles:20240914T180000
DTEND;TZID=America/Los_Angeles:20240914T223000
DTSTAMP:20260425T070308
CREATED:20240807T202005Z
LAST-MODIFIED:20240807T202027Z
UID:10000325-1726336800-1726353000@trustdtsa.com
SUMMARY:Trust Dinner Party 6:00 pm and 8:30 pm Seatings
DESCRIPTION:Chef Justin is selecting the most exciting and inspiring ingredients and putting together a dinner party for 18 of his closest friends. $250 per person\, food and wine pairings\, tax and gratuities included. \nPurchase your seats here.
URL:https://trustdtsa.com/event/trust-dinner-party-600-pm-and-830-pm-seatings-14/
LOCATION:Trust Kitchen\, 220 E. Fourth Street\, Santa Ana\, CA\, 92701\, United States
ORGANIZER;CN="Kyle McClelland":MAILTO:Concierge@trustdtsa.com
END:VEVENT
BEGIN:VEVENT
DTSTART;VALUE=DATE:20240913
DTEND;VALUE=DATE:20240914
DTSTAMP:20260425T070308
CREATED:20240807T201911Z
LAST-MODIFIED:20240807T201911Z
UID:10000324-1726185600-1726271999@trustdtsa.com
SUMMARY:Private Event
DESCRIPTION:
URL:https://trustdtsa.com/event/private-event/
LOCATION:CA
END:VEVENT
BEGIN:VEVENT
DTSTART;TZID=America/Los_Angeles:20240912T183000
DTEND;TZID=America/Los_Angeles:20240912T203000
DTSTAMP:20260425T070308
CREATED:20240807T201701Z
LAST-MODIFIED:20240807T201701Z
UID:10000323-1726165800-1726173000@trustdtsa.com
SUMMARY:Trust Dinner Party 6:30 pm Seating
DESCRIPTION:Chef Justin is selecting the most exciting and inspiring ingredients and putting together a dinner party for 18 of his closest friends. $250 per person\, food and wine pairings\, tax and gratuities included. \nPurchase your seats here.
URL:https://trustdtsa.com/event/trust-dinner-party-630-pm-seating-5/
LOCATION:Trust Kitchen\, 220 E. Fourth Street\, Santa Ana\, CA\, 92701\, United States
ORGANIZER;CN="Kyle McClelland":MAILTO:Concierge@trustdtsa.com
END:VEVENT
BEGIN:VEVENT
DTSTART;TZID=America/Los_Angeles:20240911T183000
DTEND;TZID=America/Los_Angeles:20240911T203000
DTSTAMP:20260425T070308
CREATED:20240807T201532Z
LAST-MODIFIED:20240807T201554Z
UID:10000314-1726079400-1726086600@trustdtsa.com
SUMMARY:Veggies are Awesome 6:30 pm Seating
DESCRIPTION:Chef Justin is selecting the most exciting and inspiring vegetarian ingredients featuring our favorite Spring produce and putting together a twelve-course vegetarian feast in the Trust Kitchen. $200 per person\, food and beverage pairings\, tax and gratuities included. This is a vegetarian dinner! \nPurchase your tickets here.
URL:https://trustdtsa.com/event/veggies-are-awesome-630-pm-seating-3/
LOCATION:Trust Kitchen\, 220 E. Fourth Street\, Santa Ana\, CA\, 92701\, United States
ORGANIZER;CN="Kyle McClelland":MAILTO:Concierge@trustdtsa.com
END:VEVENT
BEGIN:VEVENT
DTSTART;TZID=America/Los_Angeles:20240910T183000
DTEND;TZID=America/Los_Angeles:20240910T203000
DTSTAMP:20260425T070308
CREATED:20240807T201420Z
LAST-MODIFIED:20240807T201420Z
UID:10000322-1725993000-1726000200@trustdtsa.com
SUMMARY:Battledish: Ecology Center 6:30 pm Seating
DESCRIPTION:We are excited to work with our friends at the Ecology Center in San Juan Capistrano. We love being at the mercy of the soil; we love not knowing what we’ll be working with the night before we go down there; we love the drive home figuring out how we’re going to treat these gifts from the earth. The way we cook the meal is really fun: Three chefs\, each chef picks four ingredients\, and each ingredient gets its own dish. We never let the guests know who made which dish but at the end we always ask each person what their favorite dish of the evening is. We tabulate the results and a Battledish winner is declared. This is a vegetarian dinner! $200 per person\, all food\, wine\, tax\, and gratuity included. \nPurchase your tickets here.
URL:https://trustdtsa.com/event/battledish-ecology-center-630-pm-seating/
LOCATION:Trust Kitchen\, 220 E. Fourth Street\, Santa Ana\, CA\, 92701\, United States
ORGANIZER;CN="Kyle McClelland":MAILTO:Concierge@trustdtsa.com
END:VEVENT
BEGIN:VEVENT
DTSTART;TZID=America/Los_Angeles:20240907T180000
DTEND;TZID=America/Los_Angeles:20240907T223000
DTSTAMP:20260425T070308
CREATED:20240807T201303Z
LAST-MODIFIED:20240807T201303Z
UID:10000321-1725732000-1725748200@trustdtsa.com
SUMMARY:Trust Dinner Party 6:00 pm and 8:30 pm Seatings
DESCRIPTION:Chef Justin is selecting the most exciting and inspiring ingredients and putting together a dinner party for 18 of his closest friends. $250 per person\, food and wine pairings\, tax and gratuities included. \nPurchase your seats here.
URL:https://trustdtsa.com/event/trust-dinner-party-600-pm-and-830-pm-seatings-13/
LOCATION:Trust Kitchen\, 220 E. Fourth Street\, Santa Ana\, CA\, 92701\, United States
ORGANIZER;CN="Kyle McClelland":MAILTO:Concierge@trustdtsa.com
END:VEVENT
BEGIN:VEVENT
DTSTART;TZID=America/Los_Angeles:20240906T180000
DTEND;TZID=America/Los_Angeles:20240906T223000
DTSTAMP:20260425T070308
CREATED:20240807T201158Z
LAST-MODIFIED:20240807T201158Z
UID:10000320-1725645600-1725661800@trustdtsa.com
SUMMARY:Trust Dinner Party 6:00 pm and 8:30 pm Seatings
DESCRIPTION:Chef Justin is selecting the most exciting and inspiring ingredients and putting together a dinner party for 18 of his closest friends. $250 per person\, food and wine pairings\, tax and gratuities included. \nPurchase your seats here.
URL:https://trustdtsa.com/event/trust-dinner-party-600-pm-and-830-pm-seatings-12/
LOCATION:Trust Kitchen\, 220 E. Fourth Street\, Santa Ana\, CA\, 92701\, United States
ORGANIZER;CN="Kyle McClelland":MAILTO:Concierge@trustdtsa.com
END:VEVENT
BEGIN:VEVENT
DTSTART;TZID=America/Los_Angeles:20240905T183000
DTEND;TZID=America/Los_Angeles:20240905T203000
DTSTAMP:20260425T070308
CREATED:20240807T200842Z
LAST-MODIFIED:20240807T200842Z
UID:10000319-1725561000-1725568200@trustdtsa.com
SUMMARY:Trust Dinner Party 6:30 pm Seating
DESCRIPTION:Chef Justin is selecting the most exciting and inspiring ingredients and putting together a dinner party for 18 of his closest friends. $250 per person\, food and wine pairings\, tax and gratuities included. \nPurchase your seats here.
URL:https://trustdtsa.com/event/trust-dinner-party-630-pm-seating-4/
LOCATION:Trust Kitchen\, 220 E. Fourth Street\, Santa Ana\, CA\, 92701\, United States
ORGANIZER;CN="Kyle McClelland":MAILTO:Concierge@trustdtsa.com
END:VEVENT
END:VCALENDAR