BEGIN:VCALENDAR
VERSION:2.0
PRODID:-//Trust - ECPv6.15.20//NONSGML v1.0//EN
CALSCALE:GREGORIAN
METHOD:PUBLISH
X-ORIGINAL-URL:https://trustdtsa.com
X-WR-CALDESC:Events for Trust
REFRESH-INTERVAL;VALUE=DURATION:PT1H
X-Robots-Tag:noindex
X-PUBLISHED-TTL:PT1H
BEGIN:VTIMEZONE
TZID:America/Los_Angeles
BEGIN:DAYLIGHT
TZOFFSETFROM:-0800
TZOFFSETTO:-0700
TZNAME:PDT
DTSTART:20240310T100000
END:DAYLIGHT
BEGIN:STANDARD
TZOFFSETFROM:-0700
TZOFFSETTO:-0800
TZNAME:PST
DTSTART:20241103T090000
END:STANDARD
BEGIN:DAYLIGHT
TZOFFSETFROM:-0800
TZOFFSETTO:-0700
TZNAME:PDT
DTSTART:20250309T100000
END:DAYLIGHT
BEGIN:STANDARD
TZOFFSETFROM:-0700
TZOFFSETTO:-0800
TZNAME:PST
DTSTART:20251102T090000
END:STANDARD
BEGIN:DAYLIGHT
TZOFFSETFROM:-0800
TZOFFSETTO:-0700
TZNAME:PDT
DTSTART:20260308T100000
END:DAYLIGHT
BEGIN:STANDARD
TZOFFSETFROM:-0700
TZOFFSETTO:-0800
TZNAME:PST
DTSTART:20261101T090000
END:STANDARD
END:VTIMEZONE
BEGIN:VEVENT
DTSTART;TZID=America/Los_Angeles:20250822T180000
DTEND;TZID=America/Los_Angeles:20250822T233000
DTSTAMP:20260425T082541
CREATED:20250702T164345Z
LAST-MODIFIED:20250702T164345Z
UID:10000545-1755885600-1755905400@trustdtsa.com
SUMMARY:Trust Dinner Party 6pm & 8:30pm
DESCRIPTION:Chef Kyle is selecting the most exciting and inspiring ingredients and putting together a dinner party for 18 of his closest friends. $250 per person\, food and wine pairings\, tax and gratuities included. \nPurchase your tickets here.
URL:https://trustdtsa.com/event/trust-dinner-party-6pm-830pm-37/
LOCATION:Trust Kitchen\, 220 E. Fourth Street\, Santa Ana\, CA\, 92701\, United States
ORGANIZER;CN="Kyle McClelland":MAILTO:Concierge@trustdtsa.com
END:VEVENT
BEGIN:VEVENT
DTSTART;TZID=America/Los_Angeles:20250823T180000
DTEND;TZID=America/Los_Angeles:20250823T233000
DTSTAMP:20260425T082541
CREATED:20250702T164427Z
LAST-MODIFIED:20250702T164427Z
UID:10000546-1755972000-1755991800@trustdtsa.com
SUMMARY:Trust Dinner Party 6pm & 8:30pm
DESCRIPTION:Chef Kyle is selecting the most exciting and inspiring ingredients and putting together a dinner party for 18 of his closest friends. $250 per person\, food and wine pairings\, tax and gratuities included. \nPurchase your tickets here.
URL:https://trustdtsa.com/event/trust-dinner-party-6pm-830pm-38/
LOCATION:Trust Kitchen\, 220 E. Fourth Street\, Santa Ana\, CA\, 92701\, United States
ORGANIZER;CN="Kyle McClelland":MAILTO:Concierge@trustdtsa.com
END:VEVENT
BEGIN:VEVENT
DTSTART;TZID=America/Los_Angeles:20250827T190000
DTEND;TZID=America/Los_Angeles:20250827T213000
DTSTAMP:20260425T082542
CREATED:20250702T165240Z
LAST-MODIFIED:20250702T165240Z
UID:10000554-1756321200-1756330200@trustdtsa.com
SUMMARY:Conservas & Tapas 7pm
DESCRIPTION:Join us for an evening of vibrant Spanish flavors\, as Chef Kyle presents a curated tasting menu showcasing his personal favorites from Spain’s rich culinary tapestry. This experience is a celebration of the convivial spirit of tapas\, paired with the exquisite simplicity of conservas. $225 per person all inclusive. of food\, wine pairing\, taxes and gratuity. \nPurchase your tickets here.
URL:https://trustdtsa.com/event/conservas-tapas-7pm-2/
LOCATION:Trust Kitchen\, 220 E. Fourth Street\, Santa Ana\, CA\, 92701\, United States
ORGANIZER;CN="Kyle McClelland":MAILTO:Concierge@trustdtsa.com
END:VEVENT
BEGIN:VEVENT
DTSTART;TZID=America/Los_Angeles:20250828T190000
DTEND;TZID=America/Los_Angeles:20250828T213000
DTSTAMP:20260425T082542
CREATED:20250702T165341Z
LAST-MODIFIED:20250702T165341Z
UID:10000555-1756407600-1756416600@trustdtsa.com
SUMMARY:Intro to Caviar 7pm
DESCRIPTION:Chef Kyle spent part of his formative years at Caviar Russe in New York.  There he came to understand and appreciate the potential and beauty of caviar and how to incorporate it with food. Please join us in a multi course caviar dinner with a variety of caviar’s added to every course.  \nPurchase your tickets here.
URL:https://trustdtsa.com/event/intro-to-caviar-7pm-6/
LOCATION:Trust Kitchen\, 220 E. Fourth Street\, Santa Ana\, CA\, 92701\, United States
ORGANIZER;CN="Kyle McClelland":MAILTO:Concierge@trustdtsa.com
END:VEVENT
BEGIN:VEVENT
DTSTART;TZID=America/Los_Angeles:20250829T180000
DTEND;TZID=America/Los_Angeles:20250829T233000
DTSTAMP:20260425T082542
CREATED:20250702T164504Z
LAST-MODIFIED:20250702T164504Z
UID:10000547-1756490400-1756510200@trustdtsa.com
SUMMARY:Trust Dinner Party 6pm & 8:30pm
DESCRIPTION:Chef Kyle is selecting the most exciting and inspiring ingredients and putting together a dinner party for 18 of his closest friends. $250 per person\, food and wine pairings\, tax and gratuities included. \nPurchase your tickets here.
URL:https://trustdtsa.com/event/trust-dinner-party-6pm-830pm-39/
LOCATION:Trust Kitchen\, 220 E. Fourth Street\, Santa Ana\, CA\, 92701\, United States
ORGANIZER;CN="Kyle McClelland":MAILTO:Concierge@trustdtsa.com
END:VEVENT
BEGIN:VEVENT
DTSTART;TZID=America/Los_Angeles:20250830T180000
DTEND;TZID=America/Los_Angeles:20250830T233000
DTSTAMP:20260425T082542
CREATED:20250702T164535Z
LAST-MODIFIED:20250702T164535Z
UID:10000548-1756576800-1756596600@trustdtsa.com
SUMMARY:Trust Dinner Party 6pm & 8:30pm
DESCRIPTION:Chef Kyle is selecting the most exciting and inspiring ingredients and putting together a dinner party for 18 of his closest friends. $250 per person\, food and wine pairings\, tax and gratuities included. \nPurchase your tickets here.
URL:https://trustdtsa.com/event/trust-dinner-party-6pm-830pm-40/
LOCATION:Trust Kitchen\, 220 E. Fourth Street\, Santa Ana\, CA\, 92701\, United States
ORGANIZER;CN="Kyle McClelland":MAILTO:Concierge@trustdtsa.com
END:VEVENT
BEGIN:VEVENT
DTSTART;TZID=America/Los_Angeles:20250902T190000
DTEND;TZID=America/Los_Angeles:20250902T213000
DTSTAMP:20260425T082542
CREATED:20250801T164021Z
LAST-MODIFIED:20250801T164021Z
UID:10000585-1756839600-1756848600@trustdtsa.com
SUMMARY:Trust Lite 7pm
DESCRIPTION:Get to know Chef Kyle with a Trust Lite fare of 9 courses for $175 per person\, including food\, wine pairing\, taxes and gratuity. \nPurchase your tickets here.
URL:https://trustdtsa.com/event/trust-lite-7pm-19/
LOCATION:Trust Kitchen\, 220 E. Fourth Street\, Santa Ana\, CA\, 92701\, United States
ORGANIZER;CN="Kyle McClelland":MAILTO:Concierge@trustdtsa.com
END:VEVENT
BEGIN:VEVENT
DTSTART;TZID=America/Los_Angeles:20250903T190000
DTEND;TZID=America/Los_Angeles:20250903T213000
DTSTAMP:20260425T082542
CREATED:20250801T162218Z
LAST-MODIFIED:20250801T162218Z
UID:10000570-1756926000-1756935000@trustdtsa.com
SUMMARY:Adventures in Seafood 7pm
DESCRIPTION:Chef Kyle grew up on Cape Cod.  He’s staying close to his roots at this dinner where he brings you the bounty of the sea with a Northeast slant\, served alongside the agricultural bounty of Southern California.  $225 per person\, food and wine pairings\, tax and gratuities included. \nPurchase your tickets here. \n 
URL:https://trustdtsa.com/event/adventures-in-seafood-7pm-3/
LOCATION:Trust Kitchen\, 220 E. Fourth Street\, Santa Ana\, CA\, 92701\, United States
ORGANIZER;CN="Kyle McClelland":MAILTO:Concierge@trustdtsa.com
END:VEVENT
BEGIN:VEVENT
DTSTART;TZID=America/Los_Angeles:20250904T190000
DTEND;TZID=America/Los_Angeles:20250904T213000
DTSTAMP:20260425T082542
CREATED:20250801T162309Z
LAST-MODIFIED:20250801T162309Z
UID:10000571-1757012400-1757021400@trustdtsa.com
SUMMARY:Adventures in Seafood 7pm
DESCRIPTION:Chef Kyle grew up on Cape Cod.  He’s staying close to his roots at this dinner where he brings you the bounty of the sea with a Northeast slant\, served alongside the agricultural bounty of Southern California.  $225 per person\, food and wine pairings\, tax and gratuities included. \nPurchase your tickets here. \n 
URL:https://trustdtsa.com/event/adventures-in-seafood-7pm-4/
LOCATION:Trust Kitchen\, 220 E. Fourth Street\, Santa Ana\, CA\, 92701\, United States
ORGANIZER;CN="Kyle McClelland":MAILTO:Concierge@trustdtsa.com
END:VEVENT
BEGIN:VEVENT
DTSTART;TZID=America/Los_Angeles:20250905T180000
DTEND;TZID=America/Los_Angeles:20250905T230000
DTSTAMP:20260425T082542
CREATED:20250801T163233Z
LAST-MODIFIED:20250801T163233Z
UID:10000577-1757095200-1757113200@trustdtsa.com
SUMMARY:Trust Dinner Party 6pm & 8:30pm
DESCRIPTION:Chef Kyle is selecting the most exciting and inspiring ingredients and putting together a dinner party for 18 of his closest friends. $250 per person\, food and wine pairings\, tax and gratuities included. \nPurchase your tickets here.
URL:https://trustdtsa.com/event/trust-dinner-party-6pm-830pm-41/
LOCATION:Trust Kitchen\, 220 E. Fourth Street\, Santa Ana\, CA\, 92701\, United States
ORGANIZER;CN="Kyle McClelland":MAILTO:Concierge@trustdtsa.com
END:VEVENT
BEGIN:VEVENT
DTSTART;TZID=America/Los_Angeles:20250906T180000
DTEND;TZID=America/Los_Angeles:20250906T230000
DTSTAMP:20260425T082542
CREATED:20250801T163338Z
LAST-MODIFIED:20250801T163338Z
UID:10000578-1757181600-1757199600@trustdtsa.com
SUMMARY:Trust Dinner Party 6pm & 8:30pm
DESCRIPTION:Chef Kyle is selecting the most exciting and inspiring ingredients and putting together a dinner party for 18 of his closest friends. $250 per person\, food and wine pairings\, tax and gratuities included. \nPurchase your tickets here.
URL:https://trustdtsa.com/event/trust-dinner-party-6pm-830pm-42/
LOCATION:Trust Kitchen\, 220 E. Fourth Street\, Santa Ana\, CA\, 92701\, United States
ORGANIZER;CN="Kyle McClelland":MAILTO:Concierge@trustdtsa.com
END:VEVENT
BEGIN:VEVENT
DTSTART;TZID=America/Los_Angeles:20250909T190000
DTEND;TZID=America/Los_Angeles:20250909T213000
DTSTAMP:20260425T082542
CREATED:20250801T161605Z
LAST-MODIFIED:20250801T161605Z
UID:10000565-1757444400-1757453400@trustdtsa.com
SUMMARY:Trust Lite 7pm
DESCRIPTION:Get to know Chef Kyle with a Trust Lite fare of 9 courses for $175 per person\, including food\, wine pairing\, taxes and gratuity. \nPurchase your tickets here.
URL:https://trustdtsa.com/event/trust-lite-7pm-16/
LOCATION:Trust Kitchen\, 220 E. Fourth Street\, Santa Ana\, CA\, 92701\, United States
ORGANIZER;CN="Kyle McClelland":MAILTO:Concierge@trustdtsa.com
END:VEVENT
BEGIN:VEVENT
DTSTART;TZID=America/Los_Angeles:20250909T190000
DTEND;TZID=America/Los_Angeles:20250909T213000
DTSTAMP:20260425T082542
CREATED:20250801T161630Z
LAST-MODIFIED:20250801T161630Z
UID:10000566-1757444400-1757453400@trustdtsa.com
SUMMARY:Trust Lite 7pm
DESCRIPTION:Get to know Chef Kyle with a Trust Lite fare of 9 courses for $175 per person\, including food\, wine pairing\, taxes and gratuity. \nPurchase your tickets here.
URL:https://trustdtsa.com/event/trust-lite-7pm-17/
LOCATION:Trust Kitchen\, 220 E. Fourth Street\, Santa Ana\, CA\, 92701\, United States
ORGANIZER;CN="Kyle McClelland":MAILTO:Concierge@trustdtsa.com
END:VEVENT
BEGIN:VEVENT
DTSTART;TZID=America/Los_Angeles:20250910T190000
DTEND;TZID=America/Los_Angeles:20250910T213000
DTSTAMP:20260425T082542
CREATED:20250801T162507Z
LAST-MODIFIED:20250801T162507Z
UID:10000572-1757530800-1757539800@trustdtsa.com
SUMMARY:Italian Night 7pm
DESCRIPTION:Join us for an evening of Italian culinary tradition\, as Chef Kyle guides you through a curated tasting menu celebrating the heart and soul of Italy. This experience is a homage to the country’s rich gastronomic heritage\, featuring iconic dishes crafted with passion and the finest seasonal ingredients. $225 per person inclusive of food\, wine pairings\, tax\, and gratuity. \nPurchase your tickets here.
URL:https://trustdtsa.com/event/italian-night-7pm/
LOCATION:Trust Kitchen\, 220 E. Fourth Street\, Santa Ana\, CA\, 92701\, United States
ORGANIZER;CN="Kyle McClelland":MAILTO:Concierge@trustdtsa.com
END:VEVENT
BEGIN:VEVENT
DTSTART;TZID=America/Los_Angeles:20250911T190000
DTEND;TZID=America/Los_Angeles:20250911T213000
DTSTAMP:20260425T082542
CREATED:20250801T162552Z
LAST-MODIFIED:20250801T162552Z
UID:10000573-1757617200-1757626200@trustdtsa.com
SUMMARY:Italian Night 7pm
DESCRIPTION:Join us for an evening of Italian culinary tradition\, as Chef Kyle guides you through a curated tasting menu celebrating the heart and soul of Italy. This experience is a homage to the country’s rich gastronomic heritage\, featuring iconic dishes crafted with passion and the finest seasonal ingredients. $225 per person inclusive of food\, wine pairings\, tax\, and gratuity. \nPurchase your tickets here.
URL:https://trustdtsa.com/event/italian-night-7pm-2/
LOCATION:Trust Kitchen\, 220 E. Fourth Street\, Santa Ana\, CA\, 92701\, United States
ORGANIZER;CN="Kyle McClelland":MAILTO:Concierge@trustdtsa.com
END:VEVENT
BEGIN:VEVENT
DTSTART;TZID=America/Los_Angeles:20250912T180000
DTEND;TZID=America/Los_Angeles:20250912T230000
DTSTAMP:20260425T082542
CREATED:20250801T163427Z
LAST-MODIFIED:20250801T163427Z
UID:10000579-1757700000-1757718000@trustdtsa.com
SUMMARY:Trust Dinner Party 6pm & 8:30pm
DESCRIPTION:Chef Kyle is selecting the most exciting and inspiring ingredients and putting together a dinner party for 18 of his closest friends. $250 per person\, food and wine pairings\, tax and gratuities included. \nPurchase your tickets here.
URL:https://trustdtsa.com/event/trust-dinner-party-6pm-830pm-43/
LOCATION:Trust Kitchen\, 220 E. Fourth Street\, Santa Ana\, CA\, 92701\, United States
ORGANIZER;CN="Kyle McClelland":MAILTO:Concierge@trustdtsa.com
END:VEVENT
BEGIN:VEVENT
DTSTART;TZID=America/Los_Angeles:20250913T180000
DTEND;TZID=America/Los_Angeles:20250913T230000
DTSTAMP:20260425T082542
CREATED:20250801T163500Z
LAST-MODIFIED:20250801T163500Z
UID:10000580-1757786400-1757804400@trustdtsa.com
SUMMARY:Trust Dinner Party 6pm & 8:30pm
DESCRIPTION:Chef Kyle is selecting the most exciting and inspiring ingredients and putting together a dinner party for 18 of his closest friends. $250 per person\, food and wine pairings\, tax and gratuities included. \nPurchase your tickets here.
URL:https://trustdtsa.com/event/trust-dinner-party-6pm-830pm-44/
LOCATION:Trust Kitchen\, 220 E. Fourth Street\, Santa Ana\, CA\, 92701\, United States
ORGANIZER;CN="Kyle McClelland":MAILTO:Concierge@trustdtsa.com
END:VEVENT
BEGIN:VEVENT
DTSTART;TZID=America/Los_Angeles:20250916T190000
DTEND;TZID=America/Los_Angeles:20250916T210000
DTSTAMP:20260425T082542
CREATED:20250801T161929Z
LAST-MODIFIED:20250801T161929Z
UID:10000568-1758049200-1758056400@trustdtsa.com
SUMMARY:Summer Night on the Patio by Trust 7pm
DESCRIPTION:Prepare for an unforgettable evening as Chef Kyle and the Trust team present a spectacular dinner under the stars\, with every dish prepared exclusively on the grill. Savor the smoky\, delicious flavors of a gourmet meal cooked over an open flame\, creating a unique and intimate dining experience. Join us for a night of exceptional food\, great company\, and the magical ambiance of dining beneath the open sky. $225 per person all inclusive of food\, wine pairing\, taxes\, and gratuity \nPurchase your tickets here.
URL:https://trustdtsa.com/event/summer-night-on-the-patio-by-trust-7pm/
LOCATION:Trust Kitchen\, 220 E. Fourth Street\, Santa Ana\, CA\, 92701\, United States
ORGANIZER;CN="Kyle McClelland":MAILTO:Concierge@trustdtsa.com
END:VEVENT
BEGIN:VEVENT
DTSTART;TZID=America/Los_Angeles:20250917T190000
DTEND;TZID=America/Los_Angeles:20250917T210000
DTSTAMP:20260425T082542
CREATED:20250801T162022Z
LAST-MODIFIED:20250801T162022Z
UID:10000569-1758135600-1758142800@trustdtsa.com
SUMMARY:Summer Night on the Patio by Trust 7pm
DESCRIPTION:Prepare for an unforgettable evening as Chef Kyle and the Trust team present a spectacular dinner under the stars\, with every dish prepared exclusively on the grill. Savor the smoky\, delicious flavors of a gourmet meal cooked over an open flame\, creating a unique and intimate dining experience. Join us for a night of exceptional food\, great company\, and the magical ambiance of dining beneath the open sky. $225 per person all inclusive of food\, wine pairing\, taxes\, and gratuity \nPurchase your tickets here.
URL:https://trustdtsa.com/event/summer-night-on-the-patio-by-trust-7pm-2/
LOCATION:Trust Kitchen\, 220 E. Fourth Street\, Santa Ana\, CA\, 92701\, United States
ORGANIZER;CN="Kyle McClelland":MAILTO:Concierge@trustdtsa.com
END:VEVENT
BEGIN:VEVENT
DTSTART;TZID=America/Los_Angeles:20250918T190000
DTEND;TZID=America/Los_Angeles:20250918T213000
DTSTAMP:20260425T082542
CREATED:20250801T162656Z
LAST-MODIFIED:20250801T162656Z
UID:10000574-1758222000-1758231000@trustdtsa.com
SUMMARY:Intro to Caviar 7pm
DESCRIPTION:Chef Kyle spent part of his formative years at Caviar Russe in New York.  There he came to understand and appreciate the potential and beauty of caviar and how to incorporate it with food. Please join us in a multi course caviar dinner with a variety of caviar’s added to every course. \nPurchase your tickets here.
URL:https://trustdtsa.com/event/intro-to-caviar-7pm-8/
LOCATION:Trust Kitchen\, 220 E. Fourth Street\, Santa Ana\, CA\, 92701\, United States
ORGANIZER;CN="Kyle McClelland":MAILTO:Concierge@trustdtsa.com
END:VEVENT
BEGIN:VEVENT
DTSTART;TZID=America/Los_Angeles:20250919T180000
DTEND;TZID=America/Los_Angeles:20250919T230000
DTSTAMP:20260425T082542
CREATED:20250801T163602Z
LAST-MODIFIED:20250801T163602Z
UID:10000581-1758304800-1758322800@trustdtsa.com
SUMMARY:Trust Dinner Party 6pm & 8:30pm
DESCRIPTION:Chef Kyle is selecting the most exciting and inspiring ingredients and putting together a dinner party for 18 of his closest friends. $250 per person\, food and wine pairings\, tax and gratuities included. \nPurchase your tickets here.
URL:https://trustdtsa.com/event/trust-dinner-party-6pm-830pm-45/
LOCATION:Trust Kitchen\, 220 E. Fourth Street\, Santa Ana\, CA\, 92701\, United States
ORGANIZER;CN="Kyle McClelland":MAILTO:Concierge@trustdtsa.com
END:VEVENT
BEGIN:VEVENT
DTSTART;TZID=America/Los_Angeles:20250920T180000
DTEND;TZID=America/Los_Angeles:20250920T230000
DTSTAMP:20260425T082542
CREATED:20250801T163638Z
LAST-MODIFIED:20250801T163638Z
UID:10000582-1758391200-1758409200@trustdtsa.com
SUMMARY:Trust Dinner Party 6pm & 8:30pm
DESCRIPTION:Chef Kyle is selecting the most exciting and inspiring ingredients and putting together a dinner party for 18 of his closest friends. $250 per person\, food and wine pairings\, tax and gratuities included. \nPurchase your tickets here.
URL:https://trustdtsa.com/event/trust-dinner-party-6pm-830pm-46/
LOCATION:Trust Kitchen\, 220 E. Fourth Street\, Santa Ana\, CA\, 92701\, United States
ORGANIZER;CN="Kyle McClelland":MAILTO:Concierge@trustdtsa.com
END:VEVENT
BEGIN:VEVENT
DTSTART;TZID=America/Los_Angeles:20250923T190000
DTEND;TZID=America/Los_Angeles:20250923T213000
DTSTAMP:20260425T082542
CREATED:20250801T161655Z
LAST-MODIFIED:20250801T161655Z
UID:10000567-1758654000-1758663000@trustdtsa.com
SUMMARY:Trust Lite 7pm
DESCRIPTION:Get to know Chef Kyle with a Trust Lite fare of 9 courses for $175 per person\, including food\, wine pairing\, taxes and gratuity. \nPurchase your tickets here.
URL:https://trustdtsa.com/event/trust-lite-7pm-18/
LOCATION:Trust Kitchen\, 220 E. Fourth Street\, Santa Ana\, CA\, 92701\, United States
ORGANIZER;CN="Kyle McClelland":MAILTO:Concierge@trustdtsa.com
END:VEVENT
BEGIN:VEVENT
DTSTART;TZID=America/Los_Angeles:20250924T190000
DTEND;TZID=America/Los_Angeles:20250924T213000
DTSTAMP:20260425T082542
CREATED:20250801T162808Z
LAST-MODIFIED:20250801T162808Z
UID:10000575-1758740400-1758749400@trustdtsa.com
SUMMARY:Evening at the Farmer's Market 7pm
DESCRIPTION:One of the things that excited Chef Kyle the most about moving to California was the produce and the farmer’s markets! Come join us in the Trust Kitchen to enjoy a vegetarian tasting menu featuring local summer ingredients. $200 per person includes food\, wine pairing\, taxes and gratuity. \nPurchase your tickets here.
URL:https://trustdtsa.com/event/evening-at-the-farmers-market-7pm/
LOCATION:Trust Kitchen\, 220 E. Fourth Street\, Santa Ana\, CA\, 92701\, United States
ORGANIZER;CN="Kyle McClelland":MAILTO:Concierge@trustdtsa.com
END:VEVENT
BEGIN:VEVENT
DTSTART;TZID=America/Los_Angeles:20250925T190000
DTEND;TZID=America/Los_Angeles:20250925T213000
DTSTAMP:20260425T082542
CREATED:20250801T162925Z
LAST-MODIFIED:20250801T162925Z
UID:10000576-1758826800-1758835800@trustdtsa.com
SUMMARY:Conservas & Tapas 7pm
DESCRIPTION:oin us for an evening of vibrant Spanish flavors\, as Chef Kyle presents a curated tasting menu showcasing his personal favorites from Spain’s rich culinary tapestry. This experience is a celebration of the convivial spirit of tapas\, paired with the exquisite simplicity of conservas. $225 per person all inclusive. of food\, wine pairing\, taxes and gratuity.  \nPurchase your tickets here.
URL:https://trustdtsa.com/event/conservas-tapas-7pm-3/
LOCATION:Trust Kitchen\, 220 E. Fourth Street\, Santa Ana\, CA\, 92701\, United States
ORGANIZER;CN="Kyle McClelland":MAILTO:Concierge@trustdtsa.com
END:VEVENT
BEGIN:VEVENT
DTSTART;TZID=America/Los_Angeles:20250926T180000
DTEND;TZID=America/Los_Angeles:20250926T230000
DTSTAMP:20260425T082542
CREATED:20250801T163731Z
LAST-MODIFIED:20250801T163731Z
UID:10000583-1758909600-1758927600@trustdtsa.com
SUMMARY:Trust Dinner Party 6pm & 8:30pm
DESCRIPTION:Chef Kyle is selecting the most exciting and inspiring ingredients and putting together a dinner party for 18 of his closest friends. $250 per person\, food and wine pairings\, tax and gratuities included. \nPurchase your tickets here.
URL:https://trustdtsa.com/event/trust-dinner-party-6pm-830pm-47/
LOCATION:Trust Kitchen\, 220 E. Fourth Street\, Santa Ana\, CA\, 92701\, United States
ORGANIZER;CN="Kyle McClelland":MAILTO:Concierge@trustdtsa.com
END:VEVENT
BEGIN:VEVENT
DTSTART;TZID=America/Los_Angeles:20250927T180000
DTEND;TZID=America/Los_Angeles:20250927T230000
DTSTAMP:20260425T082542
CREATED:20250801T163816Z
LAST-MODIFIED:20250801T163816Z
UID:10000584-1758996000-1759014000@trustdtsa.com
SUMMARY:Trust Dinner Party 6pm & 8:30pm
DESCRIPTION:Chef Kyle is selecting the most exciting and inspiring ingredients and putting together a dinner party for 18 of his closest friends. $250 per person\, food and wine pairings\, tax and gratuities included. \nPurchase your tickets here.
URL:https://trustdtsa.com/event/trust-dinner-party-6pm-830pm-48/
LOCATION:Trust Kitchen\, 220 E. Fourth Street\, Santa Ana\, CA\, 92701\, United States
ORGANIZER;CN="Kyle McClelland":MAILTO:Concierge@trustdtsa.com
END:VEVENT
BEGIN:VEVENT
DTSTART;TZID=America/Los_Angeles:20250930T190000
DTEND;TZID=America/Los_Angeles:20250930T213000
DTSTAMP:20260425T082542
CREATED:20250827T190442Z
LAST-MODIFIED:20250827T190442Z
UID:10000586-1759258800-1759267800@trustdtsa.com
SUMMARY:Trust Lite - 7pm
DESCRIPTION:Get to know Chef Kyle with a Trust Lite fare of 9 courses for $175 per person\, including food\, wine pairing\, taxes and gratuity. \nPurchase your tickets here.
URL:https://trustdtsa.com/event/trust-lite-7pm-20/
LOCATION:Trust Kitchen\, 220 E. Fourth Street\, Santa Ana\, CA\, 92701\, United States
ORGANIZER;CN="Kyle McClelland":MAILTO:Concierge@trustdtsa.com
END:VEVENT
BEGIN:VEVENT
DTSTART;TZID=America/Los_Angeles:20251001T190000
DTEND;TZID=America/Los_Angeles:20251001T213000
DTSTAMP:20260425T082542
CREATED:20250827T191532Z
LAST-MODIFIED:20250827T191619Z
UID:10000591-1759345200-1759354200@trustdtsa.com
SUMMARY:Ultimate Steak Dinner 7pm
DESCRIPTION:A celebration of beef\, America’s favorite protein\, featuring several of the world’s finest examples and our favorite steakhouse sides. $225 per person\, food and wine pairings\, tax and gratuities included. \nPurchase your tickets here.
URL:https://trustdtsa.com/event/ultimate-steak-dinner-7pm-8/
LOCATION:Trust Kitchen\, 220 E. Fourth Street\, Santa Ana\, CA\, 92701\, United States
ORGANIZER;CN="Kyle McClelland":MAILTO:Concierge@trustdtsa.com
END:VEVENT
BEGIN:VEVENT
DTSTART;TZID=America/Los_Angeles:20251002T190000
DTEND;TZID=America/Los_Angeles:20251002T213000
DTSTAMP:20260425T082542
CREATED:20250827T191642Z
LAST-MODIFIED:20250827T191642Z
UID:10000592-1759431600-1759440600@trustdtsa.com
SUMMARY:Ultimate Steak Dinner 7pm
DESCRIPTION:A celebration of beef\, America’s favorite protein\, featuring several of the world’s finest examples and our favorite steakhouse sides. $225 per person\, food and wine pairings\, tax and gratuities included. \nPurchase your tickets here.
URL:https://trustdtsa.com/event/ultimate-steak-dinner-7pm-9/
LOCATION:Trust Kitchen\, 220 E. Fourth Street\, Santa Ana\, CA\, 92701\, United States
ORGANIZER;CN="Kyle McClelland":MAILTO:Concierge@trustdtsa.com
END:VEVENT
END:VCALENDAR