BEGIN:VCALENDAR
VERSION:2.0
PRODID:-//Trust - ECPv6.15.20//NONSGML v1.0//EN
CALSCALE:GREGORIAN
METHOD:PUBLISH
X-ORIGINAL-URL:https://trustdtsa.com
X-WR-CALDESC:Events for Trust
REFRESH-INTERVAL;VALUE=DURATION:PT1H
X-Robots-Tag:noindex
X-PUBLISHED-TTL:PT1H
BEGIN:VTIMEZONE
TZID:America/Los_Angeles
BEGIN:DAYLIGHT
TZOFFSETFROM:-0800
TZOFFSETTO:-0700
TZNAME:PDT
DTSTART:20240310T100000
END:DAYLIGHT
BEGIN:STANDARD
TZOFFSETFROM:-0700
TZOFFSETTO:-0800
TZNAME:PST
DTSTART:20241103T090000
END:STANDARD
BEGIN:DAYLIGHT
TZOFFSETFROM:-0800
TZOFFSETTO:-0700
TZNAME:PDT
DTSTART:20250309T100000
END:DAYLIGHT
BEGIN:STANDARD
TZOFFSETFROM:-0700
TZOFFSETTO:-0800
TZNAME:PST
DTSTART:20251102T090000
END:STANDARD
BEGIN:DAYLIGHT
TZOFFSETFROM:-0800
TZOFFSETTO:-0700
TZNAME:PDT
DTSTART:20260308T100000
END:DAYLIGHT
BEGIN:STANDARD
TZOFFSETFROM:-0700
TZOFFSETTO:-0800
TZNAME:PST
DTSTART:20261101T090000
END:STANDARD
END:VTIMEZONE
BEGIN:VEVENT
DTSTART;TZID=America/Los_Angeles:20250726T180000
DTEND;TZID=America/Los_Angeles:20250726T230000
DTSTAMP:20260424T030232
CREATED:20250604T171849Z
LAST-MODIFIED:20250604T171849Z
UID:10000527-1753552800-1753570800@trustdtsa.com
SUMMARY:Trust Dinner Party 6pm & 8:30pm
DESCRIPTION:Chef Kyle is selecting the most exciting and inspiring ingredients and putting together a dinner party for 18 of his closest friends. $250 per person\, food and wine pairings\, tax and gratuities included. \nPurchase your tickets here.
URL:https://trustdtsa.com/event/trust-dinner-party-6pm-830pm-31/
LOCATION:Trust Kitchen\, 220 E. Fourth Street\, Santa Ana\, CA\, 92701\, United States
ORGANIZER;CN="Kyle McClelland":MAILTO:Concierge@trustdtsa.com
END:VEVENT
BEGIN:VEVENT
DTSTART;TZID=America/Los_Angeles:20250729T190000
DTEND;TZID=America/Los_Angeles:20250729T210000
DTSTAMP:20260424T030232
CREATED:20250604T173634Z
LAST-MODIFIED:20250604T173634Z
UID:10000534-1753815600-1753822800@trustdtsa.com
SUMMARY:Trust Lite 7pm
DESCRIPTION:Chef Kyle is selecting the most exciting and inspiring ingredients and putting together a dinner party for 18 of his closest friends. This is a lighter version of his normal Trust Dinner Party\, featuring seven courses and two paired wines. $175 per person\, food and wine pairings\, tax and gratuities included. \nPurchase your tickets here.
URL:https://trustdtsa.com/event/trust-lite-7pm-12/
LOCATION:Trust Kitchen\, 220 E. Fourth Street\, Santa Ana\, CA\, 92701\, United States
ORGANIZER;CN="Kyle McClelland":MAILTO:Concierge@trustdtsa.com
END:VEVENT
BEGIN:VEVENT
DTSTART;TZID=America/Los_Angeles:20250730T190000
DTEND;TZID=America/Los_Angeles:20250730T213000
DTSTAMP:20260424T030232
CREATED:20250604T174415Z
LAST-MODIFIED:20250604T174415Z
UID:10000539-1753902000-1753911000@trustdtsa.com
SUMMARY:Intro to Caviar 7pm
DESCRIPTION:Chef Kyle spent part of his formative years at Caviar Russe in New York.  There he came to understand and appreciate the potential and beauty of caviar and how to incorporate it with food. Please join us in a multi course caviar dinner with a variety of caviar’s added to every course. \nPurchase your tickets here.
URL:https://trustdtsa.com/event/intro-to-caviar-7pm-5/
LOCATION:Trust Kitchen\, 220 E. Fourth Street\, Santa Ana\, CA\, 92701\, United States
ORGANIZER;CN="Kyle McClelland":MAILTO:Concierge@trustdtsa.com
END:VEVENT
BEGIN:VEVENT
DTSTART;TZID=America/Los_Angeles:20250731T190000
DTEND;TZID=America/Los_Angeles:20250731T213000
DTSTAMP:20260424T030232
CREATED:20250604T174546Z
LAST-MODIFIED:20250604T174546Z
UID:10000540-1753988400-1753997400@trustdtsa.com
SUMMARY:Ultimate Steak Dinner 7pm
DESCRIPTION:A celebration of beef\, America’s favorite protein\, featuring several of the world’s finest examples and our favorite steakhouse sides. $225 per person\, food and wine pairings\, tax and gratuities included. \nPurchase your tickets here. \n 
URL:https://trustdtsa.com/event/ultimate-steak-dinner-7pm-5/
LOCATION:Trust Kitchen\, 220 E. Fourth Street\, Santa Ana\, CA\, 92701\, United States
ORGANIZER;CN="Kyle McClelland":MAILTO:Concierge@trustdtsa.com
END:VEVENT
BEGIN:VEVENT
DTSTART;TZID=America/Los_Angeles:20250801T180000
DTEND;TZID=America/Los_Angeles:20250801T230000
DTSTAMP:20260424T030232
CREATED:20250604T171914Z
LAST-MODIFIED:20250604T171935Z
UID:10000528-1754071200-1754089200@trustdtsa.com
SUMMARY:Trust Dinner Party 6pm & 8:30pm
DESCRIPTION:Chef Kyle is selecting the most exciting and inspiring ingredients and putting together a dinner party for 18 of his closest friends. $250 per person\, food and wine pairings\, tax and gratuities included. \nPurchase your tickets here.
URL:https://trustdtsa.com/event/trust-dinner-party-6pm-830pm-32/
LOCATION:Trust Kitchen\, 220 E. Fourth Street\, Santa Ana\, CA\, 92701\, United States
END:VEVENT
BEGIN:VEVENT
DTSTART;TZID=America/Los_Angeles:20250802T180000
DTEND;TZID=America/Los_Angeles:20250802T230000
DTSTAMP:20260424T030232
CREATED:20250604T172006Z
LAST-MODIFIED:20250604T172035Z
UID:10000529-1754157600-1754175600@trustdtsa.com
SUMMARY:Trust Dinner Party 6pm & 8:30pm
DESCRIPTION:Chef Kyle is selecting the most exciting and inspiring ingredients and putting together a dinner party for 18 of his closest friends. $250 per person\, food and wine pairings\, tax and gratuities included. \nPurchase your tickets here.
URL:https://trustdtsa.com/event/trust-dinner-party-6pm-830pm-33/
LOCATION:Trust Kitchen\, 220 E. Fourth Street\, Santa Ana\, CA\, 92701\, United States
ORGANIZER;CN="Kyle McClelland":MAILTO:Concierge@trustdtsa.com
END:VEVENT
BEGIN:VEVENT
DTSTART;TZID=America/Los_Angeles:20250805T190000
DTEND;TZID=America/Los_Angeles:20250805T210000
DTSTAMP:20260424T030232
CREATED:20250713T024549Z
LAST-MODIFIED:20250713T024621Z
UID:10000560-1754420400-1754427600@trustdtsa.com
SUMMARY:Bayou Blues:  Red Hot Cajun Summer 7pm
DESCRIPTION:Given the choice to do absolutely anything he wants to do in the Trust Kitchen for a week\, Chef Kyle Romanowski chose to start the week with a Cajun feast.  if you missed our recent Seafood Boil this is your second chance\, as this event will culminate with a true Crawfish Boil.  Chef Kyle’s promised to bring the heat in New Orleans fashion.  $225 per person inclusive of food\, wine pairing\, taxes and gratuity. \nPurchase your tickets here.
URL:https://trustdtsa.com/event/bayou-blues-red-hot-cajun-summer-7pm/
LOCATION:Trust Kitchen\, 220 E. Fourth Street\, Santa Ana\, CA\, 92701\, United States
ORGANIZER;CN="Kyle McClelland":MAILTO:Concierge@trustdtsa.com
END:VEVENT
BEGIN:VEVENT
DTSTART;TZID=America/Los_Angeles:20250806T190000
DTEND;TZID=America/Los_Angeles:20250806T213000
DTSTAMP:20260424T030232
CREATED:20250713T024708Z
LAST-MODIFIED:20250713T024708Z
UID:10000561-1754506800-1754515800@trustdtsa.com
SUMMARY:Chef Romanowski's Summer Produce
DESCRIPTION:Join us in the Trust Kitchen with Chef Kyle Romanowski as he showcases his vegetarian dinner with local summer produce! $200 per person includes food\, wine pairing\, taxes and gratuity. \nPurchase your tickets here.
URL:https://trustdtsa.com/event/chef-romanowskis-summer-produce/
LOCATION:Trust Kitchen\, 220 E. Fourth Street\, Santa Ana\, CA\, 92701\, United States
ORGANIZER;CN="Kyle McClelland":MAILTO:Concierge@trustdtsa.com
END:VEVENT
BEGIN:VEVENT
DTSTART;TZID=America/Los_Angeles:20250807T190000
DTEND;TZID=America/Los_Angeles:20250807T213000
DTSTAMP:20260424T030232
CREATED:20250713T024814Z
LAST-MODIFIED:20250801T161225Z
UID:10000562-1754593200-1754602200@trustdtsa.com
SUMMARY:Kyle's Ramen Pop up 7pm
DESCRIPTION:We’ve long been committed to the art of ramen and Chef Kyle Romanowski is currently our most avid practitioner of that art.  He’s built an entire evening around this staple of Japanese comfort food.  $150 per person inclusive of food\, beverage pairing\, taxes and gratuity. \nPurchase your tickets here.
URL:https://trustdtsa.com/event/tercero-wine-dinner-7pm/
LOCATION:Trust Kitchen\, 220 E. Fourth Street\, Santa Ana\, CA\, 92701\, United States
ORGANIZER;CN="Kyle McClelland":MAILTO:Concierge@trustdtsa.com
END:VEVENT
BEGIN:VEVENT
DTSTART;TZID=America/Los_Angeles:20250808T180000
DTEND;TZID=America/Los_Angeles:20250808T223000
DTSTAMP:20260424T030232
CREATED:20250713T025025Z
LAST-MODIFIED:20250713T025025Z
UID:10000564-1754676000-1754692200@trustdtsa.com
SUMMARY:Chef Romanowsi Dinner Party 6pm & 8:30pm
DESCRIPTION:Join us in the Trust Kitchen as Chef Kyle Romanowski showcases his favorite dishes while he’s in charge for the week! $250 per person all inclusive food\, wine pairing\, taxes and gratuity. \nPurchase your tickets here.
URL:https://trustdtsa.com/event/chef-romanowsi-dinner-party-6pm-830pm-2/
LOCATION:Trust Kitchen\, 220 E. Fourth Street\, Santa Ana\, CA\, 92701\, United States
ORGANIZER;CN="Kyle McClelland":MAILTO:Concierge@trustdtsa.com
END:VEVENT
BEGIN:VEVENT
DTSTART;TZID=America/Los_Angeles:20250809T180000
DTEND;TZID=America/Los_Angeles:20250809T223000
DTSTAMP:20260424T030232
CREATED:20250713T025004Z
LAST-MODIFIED:20250713T025004Z
UID:10000563-1754762400-1754778600@trustdtsa.com
SUMMARY:Chef Romanowsi Dinner Party 6pm & 8:30pm
DESCRIPTION:Join us in the Trust Kitchen as Chef Kyle Romanowski showcases his favorite dishes while he’s in charge for the week! $250 per person all inclusive food\, wine pairing\, taxes and gratuity. \nPurchase your tickets here.
URL:https://trustdtsa.com/event/chef-romanowsi-dinner-party-6pm-830pm/
LOCATION:Trust Kitchen\, 220 E. Fourth Street\, Santa Ana\, CA\, 92701\, United States
ORGANIZER;CN="Kyle McClelland":MAILTO:Concierge@trustdtsa.com
END:VEVENT
BEGIN:VEVENT
DTSTART;TZID=America/Los_Angeles:20250813T190000
DTEND;TZID=America/Los_Angeles:20250813T213000
DTSTAMP:20260424T030232
CREATED:20250702T164810Z
LAST-MODIFIED:20250702T164810Z
UID:10000550-1755111600-1755120600@trustdtsa.com
SUMMARY:Trust Lite 7pm
DESCRIPTION:Get to know Chef Kyle with a Trust Lite fare of 9 courses for $175 per person\, including food\, wine pairing\, taxes and gratuity. \nPurchase your tickets here.
URL:https://trustdtsa.com/event/trust-lite-7pm-13/
LOCATION:Trust Kitchen\, 220 E. Fourth Street\, Santa Ana\, CA\, 92701\, United States
ORGANIZER;CN="Kyle McClelland":MAILTO:Concierge@trustdtsa.com
END:VEVENT
BEGIN:VEVENT
DTSTART;TZID=America/Los_Angeles:20250814T190000
DTEND;TZID=America/Los_Angeles:20250814T213000
DTSTAMP:20260424T030232
CREATED:20250702T164704Z
LAST-MODIFIED:20250702T164704Z
UID:10000549-1755198000-1755207000@trustdtsa.com
SUMMARY:Trust Dinner Party 7pm
DESCRIPTION:Chef Kyle is selecting the most exciting and inspiring ingredients and putting together a dinner party for 18 of his closest friends. $250 per person\, food and wine pairings\, tax and gratuities included. \nPurchase your tickets here.
URL:https://trustdtsa.com/event/trust-dinner-party-7pm-4/
LOCATION:Trust Kitchen\, 220 E. Fourth Street\, Santa Ana\, CA\, 92701\, United States
ORGANIZER;CN="Kyle McClelland":MAILTO:Concierge@trustdtsa.com
END:VEVENT
BEGIN:VEVENT
DTSTART;TZID=America/Los_Angeles:20250815T180000
DTEND;TZID=America/Los_Angeles:20250815T233000
DTSTAMP:20260424T030232
CREATED:20250702T164207Z
LAST-MODIFIED:20250702T164207Z
UID:10000543-1755280800-1755300600@trustdtsa.com
SUMMARY:Trust Dinner Party 6pm & 8:30pm
DESCRIPTION:Chef Kyle is selecting the most exciting and inspiring ingredients and putting together a dinner party for 18 of his closest friends. $250 per person\, food and wine pairings\, tax and gratuities included. \nPurchase your tickets here.
URL:https://trustdtsa.com/event/trust-dinner-party-6pm-830pm-35/
LOCATION:Trust Kitchen\, 220 E. Fourth Street\, Santa Ana\, CA\, 92701\, United States
ORGANIZER;CN="Kyle McClelland":MAILTO:Concierge@trustdtsa.com
END:VEVENT
BEGIN:VEVENT
DTSTART;TZID=America/Los_Angeles:20250816T180000
DTEND;TZID=America/Los_Angeles:20250816T233000
DTSTAMP:20260424T030232
CREATED:20250702T164302Z
LAST-MODIFIED:20250702T164302Z
UID:10000544-1755367200-1755387000@trustdtsa.com
SUMMARY:Trust Dinner Party 6pm & 8:30pm
DESCRIPTION:Chef Kyle is selecting the most exciting and inspiring ingredients and putting together a dinner party for 18 of his closest friends. $250 per person\, food and wine pairings\, tax and gratuities included. \nPurchase your tickets here.
URL:https://trustdtsa.com/event/trust-dinner-party-6pm-830pm-36/
LOCATION:Trust Kitchen\, 220 E. Fourth Street\, Santa Ana\, CA\, 92701\, United States
ORGANIZER;CN="Kyle McClelland":MAILTO:Concierge@trustdtsa.com
END:VEVENT
BEGIN:VEVENT
DTSTART;TZID=America/Los_Angeles:20250819T190000
DTEND;TZID=America/Los_Angeles:20250819T210000
DTSTAMP:20260424T030232
CREATED:20250702T164918Z
LAST-MODIFIED:20250702T164918Z
UID:10000551-1755630000-1755637200@trustdtsa.com
SUMMARY:Trust Lite 7pm
DESCRIPTION:Get to know Chef Kyle with a Trust Lite fare of 9 courses for $175 per person\, including food\, wine pairing\, taxes and gratuity. \nPurchase your tickets here.
URL:https://trustdtsa.com/event/trust-lite-7pm-14/
LOCATION:Trust Kitchen\, 220 E. Fourth Street\, Santa Ana\, CA\, 92701\, United States
ORGANIZER;CN="Kyle McClelland":MAILTO:Concierge@trustdtsa.com
END:VEVENT
BEGIN:VEVENT
DTSTART;TZID=America/Los_Angeles:20250820T190000
DTEND;TZID=America/Los_Angeles:20250820T213000
DTSTAMP:20260424T030232
CREATED:20250702T165052Z
LAST-MODIFIED:20250702T165052Z
UID:10000552-1755716400-1755725400@trustdtsa.com
SUMMARY:Ultimate Steak Dinner 7pm
DESCRIPTION:A celebration of beef\, America’s favorite protein\, featuring several of the world’s finest examples and our favorite steakhouse sides. $225 per person\, food and wine pairings\, tax and gratuities included. \nPurchase your tickets here.
URL:https://trustdtsa.com/event/ultimate-steak-dinner-7pm-6/
LOCATION:Trust Kitchen\, 220 E. Fourth Street\, Santa Ana\, CA\, 92701\, United States
ORGANIZER;CN="Kyle McClelland":MAILTO:Concierge@trustdtsa.com
END:VEVENT
BEGIN:VEVENT
DTSTART;TZID=America/Los_Angeles:20250821T190000
DTEND;TZID=America/Los_Angeles:20250821T213000
DTSTAMP:20260424T030232
CREATED:20250702T165122Z
LAST-MODIFIED:20250702T165122Z
UID:10000553-1755802800-1755811800@trustdtsa.com
SUMMARY:Ultimate Steak Dinner 7pm
DESCRIPTION:A celebration of beef\, America’s favorite protein\, featuring several of the world’s finest examples and our favorite steakhouse sides. $225 per person\, food and wine pairings\, tax and gratuities included. \nPurchase your tickets here.
URL:https://trustdtsa.com/event/ultimate-steak-dinner-7pm-7/
LOCATION:Trust Kitchen\, 220 E. Fourth Street\, Santa Ana\, CA\, 92701\, United States
ORGANIZER;CN="Kyle McClelland":MAILTO:Concierge@trustdtsa.com
END:VEVENT
BEGIN:VEVENT
DTSTART;TZID=America/Los_Angeles:20250822T180000
DTEND;TZID=America/Los_Angeles:20250822T233000
DTSTAMP:20260424T030232
CREATED:20250702T164345Z
LAST-MODIFIED:20250702T164345Z
UID:10000545-1755885600-1755905400@trustdtsa.com
SUMMARY:Trust Dinner Party 6pm & 8:30pm
DESCRIPTION:Chef Kyle is selecting the most exciting and inspiring ingredients and putting together a dinner party for 18 of his closest friends. $250 per person\, food and wine pairings\, tax and gratuities included. \nPurchase your tickets here.
URL:https://trustdtsa.com/event/trust-dinner-party-6pm-830pm-37/
LOCATION:Trust Kitchen\, 220 E. Fourth Street\, Santa Ana\, CA\, 92701\, United States
ORGANIZER;CN="Kyle McClelland":MAILTO:Concierge@trustdtsa.com
END:VEVENT
BEGIN:VEVENT
DTSTART;TZID=America/Los_Angeles:20250823T180000
DTEND;TZID=America/Los_Angeles:20250823T233000
DTSTAMP:20260424T030232
CREATED:20250702T164427Z
LAST-MODIFIED:20250702T164427Z
UID:10000546-1755972000-1755991800@trustdtsa.com
SUMMARY:Trust Dinner Party 6pm & 8:30pm
DESCRIPTION:Chef Kyle is selecting the most exciting and inspiring ingredients and putting together a dinner party for 18 of his closest friends. $250 per person\, food and wine pairings\, tax and gratuities included. \nPurchase your tickets here.
URL:https://trustdtsa.com/event/trust-dinner-party-6pm-830pm-38/
LOCATION:Trust Kitchen\, 220 E. Fourth Street\, Santa Ana\, CA\, 92701\, United States
ORGANIZER;CN="Kyle McClelland":MAILTO:Concierge@trustdtsa.com
END:VEVENT
BEGIN:VEVENT
DTSTART;TZID=America/Los_Angeles:20250827T190000
DTEND;TZID=America/Los_Angeles:20250827T213000
DTSTAMP:20260424T030232
CREATED:20250702T165240Z
LAST-MODIFIED:20250702T165240Z
UID:10000554-1756321200-1756330200@trustdtsa.com
SUMMARY:Conservas & Tapas 7pm
DESCRIPTION:Join us for an evening of vibrant Spanish flavors\, as Chef Kyle presents a curated tasting menu showcasing his personal favorites from Spain’s rich culinary tapestry. This experience is a celebration of the convivial spirit of tapas\, paired with the exquisite simplicity of conservas. $225 per person all inclusive. of food\, wine pairing\, taxes and gratuity. \nPurchase your tickets here.
URL:https://trustdtsa.com/event/conservas-tapas-7pm-2/
LOCATION:Trust Kitchen\, 220 E. Fourth Street\, Santa Ana\, CA\, 92701\, United States
ORGANIZER;CN="Kyle McClelland":MAILTO:Concierge@trustdtsa.com
END:VEVENT
BEGIN:VEVENT
DTSTART;TZID=America/Los_Angeles:20250828T190000
DTEND;TZID=America/Los_Angeles:20250828T213000
DTSTAMP:20260424T030232
CREATED:20250702T165341Z
LAST-MODIFIED:20250702T165341Z
UID:10000555-1756407600-1756416600@trustdtsa.com
SUMMARY:Intro to Caviar 7pm
DESCRIPTION:Chef Kyle spent part of his formative years at Caviar Russe in New York.  There he came to understand and appreciate the potential and beauty of caviar and how to incorporate it with food. Please join us in a multi course caviar dinner with a variety of caviar’s added to every course.  \nPurchase your tickets here.
URL:https://trustdtsa.com/event/intro-to-caviar-7pm-6/
LOCATION:Trust Kitchen\, 220 E. Fourth Street\, Santa Ana\, CA\, 92701\, United States
ORGANIZER;CN="Kyle McClelland":MAILTO:Concierge@trustdtsa.com
END:VEVENT
BEGIN:VEVENT
DTSTART;TZID=America/Los_Angeles:20250829T180000
DTEND;TZID=America/Los_Angeles:20250829T233000
DTSTAMP:20260424T030232
CREATED:20250702T164504Z
LAST-MODIFIED:20250702T164504Z
UID:10000547-1756490400-1756510200@trustdtsa.com
SUMMARY:Trust Dinner Party 6pm & 8:30pm
DESCRIPTION:Chef Kyle is selecting the most exciting and inspiring ingredients and putting together a dinner party for 18 of his closest friends. $250 per person\, food and wine pairings\, tax and gratuities included. \nPurchase your tickets here.
URL:https://trustdtsa.com/event/trust-dinner-party-6pm-830pm-39/
LOCATION:Trust Kitchen\, 220 E. Fourth Street\, Santa Ana\, CA\, 92701\, United States
ORGANIZER;CN="Kyle McClelland":MAILTO:Concierge@trustdtsa.com
END:VEVENT
BEGIN:VEVENT
DTSTART;TZID=America/Los_Angeles:20250830T180000
DTEND;TZID=America/Los_Angeles:20250830T233000
DTSTAMP:20260424T030232
CREATED:20250702T164535Z
LAST-MODIFIED:20250702T164535Z
UID:10000548-1756576800-1756596600@trustdtsa.com
SUMMARY:Trust Dinner Party 6pm & 8:30pm
DESCRIPTION:Chef Kyle is selecting the most exciting and inspiring ingredients and putting together a dinner party for 18 of his closest friends. $250 per person\, food and wine pairings\, tax and gratuities included. \nPurchase your tickets here.
URL:https://trustdtsa.com/event/trust-dinner-party-6pm-830pm-40/
LOCATION:Trust Kitchen\, 220 E. Fourth Street\, Santa Ana\, CA\, 92701\, United States
ORGANIZER;CN="Kyle McClelland":MAILTO:Concierge@trustdtsa.com
END:VEVENT
BEGIN:VEVENT
DTSTART;TZID=America/Los_Angeles:20250902T190000
DTEND;TZID=America/Los_Angeles:20250902T213000
DTSTAMP:20260424T030232
CREATED:20250801T164021Z
LAST-MODIFIED:20250801T164021Z
UID:10000585-1756839600-1756848600@trustdtsa.com
SUMMARY:Trust Lite 7pm
DESCRIPTION:Get to know Chef Kyle with a Trust Lite fare of 9 courses for $175 per person\, including food\, wine pairing\, taxes and gratuity. \nPurchase your tickets here.
URL:https://trustdtsa.com/event/trust-lite-7pm-19/
LOCATION:Trust Kitchen\, 220 E. Fourth Street\, Santa Ana\, CA\, 92701\, United States
ORGANIZER;CN="Kyle McClelland":MAILTO:Concierge@trustdtsa.com
END:VEVENT
BEGIN:VEVENT
DTSTART;TZID=America/Los_Angeles:20250903T190000
DTEND;TZID=America/Los_Angeles:20250903T213000
DTSTAMP:20260424T030232
CREATED:20250801T162218Z
LAST-MODIFIED:20250801T162218Z
UID:10000570-1756926000-1756935000@trustdtsa.com
SUMMARY:Adventures in Seafood 7pm
DESCRIPTION:Chef Kyle grew up on Cape Cod.  He’s staying close to his roots at this dinner where he brings you the bounty of the sea with a Northeast slant\, served alongside the agricultural bounty of Southern California.  $225 per person\, food and wine pairings\, tax and gratuities included. \nPurchase your tickets here. \n 
URL:https://trustdtsa.com/event/adventures-in-seafood-7pm-3/
LOCATION:Trust Kitchen\, 220 E. Fourth Street\, Santa Ana\, CA\, 92701\, United States
ORGANIZER;CN="Kyle McClelland":MAILTO:Concierge@trustdtsa.com
END:VEVENT
BEGIN:VEVENT
DTSTART;TZID=America/Los_Angeles:20250904T190000
DTEND;TZID=America/Los_Angeles:20250904T213000
DTSTAMP:20260424T030232
CREATED:20250801T162309Z
LAST-MODIFIED:20250801T162309Z
UID:10000571-1757012400-1757021400@trustdtsa.com
SUMMARY:Adventures in Seafood 7pm
DESCRIPTION:Chef Kyle grew up on Cape Cod.  He’s staying close to his roots at this dinner where he brings you the bounty of the sea with a Northeast slant\, served alongside the agricultural bounty of Southern California.  $225 per person\, food and wine pairings\, tax and gratuities included. \nPurchase your tickets here. \n 
URL:https://trustdtsa.com/event/adventures-in-seafood-7pm-4/
LOCATION:Trust Kitchen\, 220 E. Fourth Street\, Santa Ana\, CA\, 92701\, United States
ORGANIZER;CN="Kyle McClelland":MAILTO:Concierge@trustdtsa.com
END:VEVENT
BEGIN:VEVENT
DTSTART;TZID=America/Los_Angeles:20250905T180000
DTEND;TZID=America/Los_Angeles:20250905T230000
DTSTAMP:20260424T030232
CREATED:20250801T163233Z
LAST-MODIFIED:20250801T163233Z
UID:10000577-1757095200-1757113200@trustdtsa.com
SUMMARY:Trust Dinner Party 6pm & 8:30pm
DESCRIPTION:Chef Kyle is selecting the most exciting and inspiring ingredients and putting together a dinner party for 18 of his closest friends. $250 per person\, food and wine pairings\, tax and gratuities included. \nPurchase your tickets here.
URL:https://trustdtsa.com/event/trust-dinner-party-6pm-830pm-41/
LOCATION:Trust Kitchen\, 220 E. Fourth Street\, Santa Ana\, CA\, 92701\, United States
ORGANIZER;CN="Kyle McClelland":MAILTO:Concierge@trustdtsa.com
END:VEVENT
BEGIN:VEVENT
DTSTART;TZID=America/Los_Angeles:20250906T180000
DTEND;TZID=America/Los_Angeles:20250906T230000
DTSTAMP:20260424T030232
CREATED:20250801T163338Z
LAST-MODIFIED:20250801T163338Z
UID:10000578-1757181600-1757199600@trustdtsa.com
SUMMARY:Trust Dinner Party 6pm & 8:30pm
DESCRIPTION:Chef Kyle is selecting the most exciting and inspiring ingredients and putting together a dinner party for 18 of his closest friends. $250 per person\, food and wine pairings\, tax and gratuities included. \nPurchase your tickets here.
URL:https://trustdtsa.com/event/trust-dinner-party-6pm-830pm-42/
LOCATION:Trust Kitchen\, 220 E. Fourth Street\, Santa Ana\, CA\, 92701\, United States
ORGANIZER;CN="Kyle McClelland":MAILTO:Concierge@trustdtsa.com
END:VEVENT
BEGIN:VEVENT
DTSTART;TZID=America/Los_Angeles:20250909T190000
DTEND;TZID=America/Los_Angeles:20250909T213000
DTSTAMP:20260424T030232
CREATED:20250801T161605Z
LAST-MODIFIED:20250801T161605Z
UID:10000565-1757444400-1757453400@trustdtsa.com
SUMMARY:Trust Lite 7pm
DESCRIPTION:Get to know Chef Kyle with a Trust Lite fare of 9 courses for $175 per person\, including food\, wine pairing\, taxes and gratuity. \nPurchase your tickets here.
URL:https://trustdtsa.com/event/trust-lite-7pm-16/
LOCATION:Trust Kitchen\, 220 E. Fourth Street\, Santa Ana\, CA\, 92701\, United States
ORGANIZER;CN="Kyle McClelland":MAILTO:Concierge@trustdtsa.com
END:VEVENT
END:VCALENDAR