BEGIN:VCALENDAR
VERSION:2.0
PRODID:-//Trust - ECPv6.15.20//NONSGML v1.0//EN
CALSCALE:GREGORIAN
METHOD:PUBLISH
X-ORIGINAL-URL:https://trustdtsa.com
X-WR-CALDESC:Events for Trust
REFRESH-INTERVAL;VALUE=DURATION:PT1H
X-Robots-Tag:noindex
X-PUBLISHED-TTL:PT1H
BEGIN:VTIMEZONE
TZID:America/Los_Angeles
BEGIN:DAYLIGHT
TZOFFSETFROM:-0800
TZOFFSETTO:-0700
TZNAME:PDT
DTSTART:20240310T100000
END:DAYLIGHT
BEGIN:STANDARD
TZOFFSETFROM:-0700
TZOFFSETTO:-0800
TZNAME:PST
DTSTART:20241103T090000
END:STANDARD
BEGIN:DAYLIGHT
TZOFFSETFROM:-0800
TZOFFSETTO:-0700
TZNAME:PDT
DTSTART:20250309T100000
END:DAYLIGHT
BEGIN:STANDARD
TZOFFSETFROM:-0700
TZOFFSETTO:-0800
TZNAME:PST
DTSTART:20251102T090000
END:STANDARD
BEGIN:DAYLIGHT
TZOFFSETFROM:-0800
TZOFFSETTO:-0700
TZNAME:PDT
DTSTART:20260308T100000
END:DAYLIGHT
BEGIN:STANDARD
TZOFFSETFROM:-0700
TZOFFSETTO:-0800
TZNAME:PST
DTSTART:20261101T090000
END:STANDARD
END:VTIMEZONE
BEGIN:VEVENT
DTSTART;TZID=America/Los_Angeles:20250604T190000
DTEND;TZID=America/Los_Angeles:20250604T213000
DTSTAMP:20260424T060306
CREATED:20250503T215215Z
LAST-MODIFIED:20250503T215215Z
UID:10000521-1749063600-1749072600@trustdtsa.com
SUMMARY:Swine Night 7pm
DESCRIPTION:Experience the rich textures and nuanced tastes as Chef Kyle expertly transforms premium pork into a symphony of dishes. From delicate appetizers to succulent mains and surprising desserts\, this dinner promises to explore the full spectrum of pork’s potential. \nPurchase your tickets here. 
URL:https://trustdtsa.com/event/swine-night-7pm-2/
LOCATION:Trust Kitchen\, 220 E. Fourth Street\, Santa Ana\, CA\, 92701\, United States
ORGANIZER;CN="Kyle McClelland":MAILTO:Concierge@trustdtsa.com
END:VEVENT
BEGIN:VEVENT
DTSTART;TZID=America/Los_Angeles:20250605T190000
DTEND;TZID=America/Los_Angeles:20250605T213000
DTSTAMP:20260424T060306
CREATED:20250503T215154Z
LAST-MODIFIED:20250503T215154Z
UID:10000520-1749150000-1749159000@trustdtsa.com
SUMMARY:Swine Night 7pm
DESCRIPTION:Experience the rich textures and nuanced tastes as Chef Kyle expertly transforms premium pork into a symphony of dishes. From delicate appetizers to succulent mains and surprising desserts\, this dinner promises to explore the full spectrum of pork’s potential. \nPurchase your tickets here. 
URL:https://trustdtsa.com/event/swine-night-7pm/
LOCATION:Trust Kitchen\, 220 E. Fourth Street\, Santa Ana\, CA\, 92701\, United States
ORGANIZER;CN="Kyle McClelland":MAILTO:Concierge@trustdtsa.com
END:VEVENT
BEGIN:VEVENT
DTSTART;TZID=America/Los_Angeles:20250606T180000
DTEND;TZID=America/Los_Angeles:20250606T233000
DTSTAMP:20260424T060306
CREATED:20250426T222914Z
LAST-MODIFIED:20250426T222914Z
UID:10000503-1749232800-1749252600@trustdtsa.com
SUMMARY:Trust Dinner Party 6pm & 8:30pm
DESCRIPTION:Chef Kyle is selecting the most exciting and inspiring ingredients and putting together a dinner party for 18 of his closest friends. $250 per person\, food and wine pairings\, tax and gratuities included. \nPlease purchase tickets here.
URL:https://trustdtsa.com/event/trust-dinner-party-6pm-830pm-18/
LOCATION:Trust Kitchen\, 220 E. Fourth Street\, Santa Ana\, CA\, 92701\, United States
ORGANIZER;CN="Kyle McClelland":MAILTO:Concierge@trustdtsa.com
END:VEVENT
BEGIN:VEVENT
DTSTART;TZID=America/Los_Angeles:20250607T180000
DTEND;TZID=America/Los_Angeles:20250607T233000
DTSTAMP:20260424T060306
CREATED:20250426T223032Z
LAST-MODIFIED:20250426T223032Z
UID:10000504-1749319200-1749339000@trustdtsa.com
SUMMARY:Trust Dinner Party 6pm & 8:30pm
DESCRIPTION:Chef Kyle is selecting the most exciting and inspiring ingredients and putting together a dinner party for 18 of his closest friends. $250 per person\, food and wine pairings\, tax and gratuities included. \nPlease purchase tickets here.
URL:https://trustdtsa.com/event/trust-dinner-party-6pm-830pm-19/
LOCATION:Trust Kitchen\, 220 E. Fourth Street\, Santa Ana\, CA\, 92701\, United States
ORGANIZER;CN="Kyle McClelland":MAILTO:Concierge@trustdtsa.com
END:VEVENT
BEGIN:VEVENT
DTSTART;TZID=America/Los_Angeles:20250610T190000
DTEND;TZID=America/Los_Angeles:20250610T213000
DTSTAMP:20260424T060306
CREATED:20250503T004518Z
LAST-MODIFIED:20250503T004518Z
UID:10000512-1749582000-1749591000@trustdtsa.com
SUMMARY:Trust Lite 7pm
DESCRIPTION:Get to know Chef Kyle with a Trust Lite fare of 9 courses for $175 per person\, including food\, wine pairing\, taxes and gratuity. \nPurchase your tickets here.
URL:https://trustdtsa.com/event/trust-lite-7pm-7/
LOCATION:Trust Kitchen\, 220 E. Fourth Street\, Santa Ana\, CA\, 92701\, United States
ORGANIZER;CN="Kyle McClelland":MAILTO:Concierge@trustdtsa.com
END:VEVENT
BEGIN:VEVENT
DTSTART;TZID=America/Los_Angeles:20250611T190000
DTEND;TZID=America/Los_Angeles:20250611T213000
DTSTAMP:20260424T060306
CREATED:20250503T005051Z
LAST-MODIFIED:20250503T005051Z
UID:10000517-1749668400-1749677400@trustdtsa.com
SUMMARY:Ultimate Steak Dinner 7pm
DESCRIPTION:A celebration of beef\, America’s favorite protein\, featuring several of the world’s finest examples and our favorite steakhouse sides. $225 per person\, food and wine pairings\, tax and gratuities included. \nPurchase your tickets here. 
URL:https://trustdtsa.com/event/ultimate-steak-dinner-7pm-4/
LOCATION:Trust Kitchen\, 220 E. Fourth Street\, Santa Ana\, CA\, 92701\, United States
ORGANIZER;CN="Kyle McClelland":MAILTO:Concierge@trustdtsa.com
END:VEVENT
BEGIN:VEVENT
DTSTART;TZID=America/Los_Angeles:20250612T190000
DTEND;TZID=America/Los_Angeles:20250612T213000
DTSTAMP:20260424T060306
CREATED:20250503T005025Z
LAST-MODIFIED:20250503T005025Z
UID:10000516-1749754800-1749763800@trustdtsa.com
SUMMARY:Ultimate Steak Dinner 7pm
DESCRIPTION:A celebration of beef\, America’s favorite protein\, featuring several of the world’s finest examples and our favorite steakhouse sides. $225 per person\, food and wine pairings\, tax and gratuities included. \nPurchase your tickets here.
URL:https://trustdtsa.com/event/ultimate-steak-dinner-7pm-3/
LOCATION:Trust Kitchen\, 220 E. Fourth Street\, Santa Ana\, CA\, 92701\, United States
ORGANIZER;CN="Kyle McClelland":MAILTO:Concierge@trustdtsa.com
END:VEVENT
BEGIN:VEVENT
DTSTART;TZID=America/Los_Angeles:20250613T180000
DTEND;TZID=America/Los_Angeles:20250613T233000
DTSTAMP:20260424T060306
CREATED:20250426T223110Z
LAST-MODIFIED:20250426T223110Z
UID:10000505-1749837600-1749857400@trustdtsa.com
SUMMARY:Trust Dinner Party 6pm & 8:30pm
DESCRIPTION:Chef Kyle is selecting the most exciting and inspiring ingredients and putting together a dinner party for 18 of his closest friends. $250 per person\, food and wine pairings\, tax and gratuities included. \nPlease purchase tickets here.
URL:https://trustdtsa.com/event/trust-dinner-party-6pm-830pm-20/
LOCATION:Trust Kitchen\, 220 E. Fourth Street\, Santa Ana\, CA\, 92701\, United States
ORGANIZER;CN="Kyle McClelland":MAILTO:Concierge@trustdtsa.com
END:VEVENT
BEGIN:VEVENT
DTSTART;TZID=America/Los_Angeles:20250614T180000
DTEND;TZID=America/Los_Angeles:20250614T233000
DTSTAMP:20260424T060306
CREATED:20250426T223145Z
LAST-MODIFIED:20250426T223145Z
UID:10000506-1749924000-1749943800@trustdtsa.com
SUMMARY:Trust Dinner Party 6pm & 8:30pm
DESCRIPTION:Chef Kyle is selecting the most exciting and inspiring ingredients and putting together a dinner party for 18 of his closest friends. $250 per person\, food and wine pairings\, tax and gratuities included. \nPlease purchase tickets here.
URL:https://trustdtsa.com/event/trust-dinner-party-6pm-830pm-21/
LOCATION:Trust Kitchen\, 220 E. Fourth Street\, Santa Ana\, CA\, 92701\, United States
ORGANIZER;CN="Kyle McClelland":MAILTO:Concierge@trustdtsa.com
END:VEVENT
BEGIN:VEVENT
DTSTART;TZID=America/Los_Angeles:20250617T190000
DTEND;TZID=America/Los_Angeles:20250617T223000
DTSTAMP:20260424T060306
CREATED:20250503T004718Z
LAST-MODIFIED:20250503T004718Z
UID:10000514-1750186800-1750199400@trustdtsa.com
SUMMARY:Trust Lite 7pm
DESCRIPTION:Get to know Chef Kyle with a Trust Lite fare of 9 courses for $175 per person\, including food\, wine pairing\, taxes and gratuity. \nPurchase your tickets here.
URL:https://trustdtsa.com/event/trust-lite-7pm-9/
LOCATION:Trust Kitchen\, 220 E. Fourth Street\, Santa Ana\, CA\, 92701\, United States
ORGANIZER;CN="Kyle McClelland":MAILTO:Concierge@trustdtsa.com
END:VEVENT
BEGIN:VEVENT
DTSTART;TZID=America/Los_Angeles:20250618T190000
DTEND;TZID=America/Los_Angeles:20250618T213000
DTSTAMP:20260424T060306
CREATED:20250503T005203Z
LAST-MODIFIED:20250503T005234Z
UID:10000518-1750273200-1750282200@trustdtsa.com
SUMMARY:Adventures in Seafood 7pm
DESCRIPTION:Chef Kyle grew up on Cape Cod.  He’s staying close to his roots at this dinner where he brings you the bounty of the sea with a Northeast slant\, served alongside the agricultural bounty of Southern California.  $225 per person\, food and wine pairings\, tax and gratuities included. \nPurchase your tickets here.
URL:https://trustdtsa.com/event/adventures-in-seafood-7pm/
LOCATION:Trust Kitchen\, 220 E. Fourth Street\, Santa Ana\, CA\, 92701\, United States
ORGANIZER;CN="Kyle McClelland":MAILTO:Concierge@trustdtsa.com
END:VEVENT
BEGIN:VEVENT
DTSTART;TZID=America/Los_Angeles:20250619T190000
DTEND;TZID=America/Los_Angeles:20250619T213000
DTSTAMP:20260424T060306
CREATED:20250503T005230Z
LAST-MODIFIED:20250503T005230Z
UID:10000519-1750359600-1750368600@trustdtsa.com
SUMMARY:Adventures in Seafood 7pm
DESCRIPTION:Chef Kyle grew up on Cape Cod.  He’s staying close to his roots at this dinner where he brings you the bounty of the sea with a Northeast slant\, served alongside the agricultural bounty of Southern California.  $225 per person\, food and wine pairings\, tax and gratuities included. \nPurchase your tickets here.
URL:https://trustdtsa.com/event/adventures-in-seafood-7pm-2/
LOCATION:Trust Kitchen\, 220 E. Fourth Street\, Santa Ana\, CA\, 92701\, United States
ORGANIZER;CN="Kyle McClelland":MAILTO:Concierge@trustdtsa.com
END:VEVENT
BEGIN:VEVENT
DTSTART;TZID=America/Los_Angeles:20250620T180000
DTEND;TZID=America/Los_Angeles:20250620T233000
DTSTAMP:20260424T060306
CREATED:20250426T223259Z
LAST-MODIFIED:20250426T223259Z
UID:10000507-1750442400-1750462200@trustdtsa.com
SUMMARY:Trust Dinner Party 6pm & 8:30pm
DESCRIPTION:Chef Kyle is selecting the most exciting and inspiring ingredients and putting together a dinner party for 18 of his closest friends. $250 per person\, food and wine pairings\, tax and gratuities included. \nPlease purchase tickets here.
URL:https://trustdtsa.com/event/trust-dinner-party-6pm-830pm-22/
LOCATION:Trust Kitchen\, 220 E. Fourth Street\, Santa Ana\, CA\, 92701\, United States
ORGANIZER;CN="Kyle McClelland":MAILTO:Concierge@trustdtsa.com
END:VEVENT
BEGIN:VEVENT
DTSTART;TZID=America/Los_Angeles:20250621T180000
DTEND;TZID=America/Los_Angeles:20250621T233000
DTSTAMP:20260424T060306
CREATED:20250426T223447Z
LAST-MODIFIED:20250426T223509Z
UID:10000508-1750528800-1750548600@trustdtsa.com
SUMMARY:Trust Dinner Party 6pm & 8:30pm
DESCRIPTION:Chef Kyle is selecting the most exciting and inspiring ingredients and putting together a dinner party for 18 of his closest friends. $250 per person\, food and wine pairings\, tax and gratuities included. \nPlease purchase tickets here.
URL:https://trustdtsa.com/event/trust-dinner-party-6pm-830pm-23/
LOCATION:Trust Kitchen\, 220 E. Fourth Street\, Santa Ana\, CA\, 92701\, United States
ORGANIZER;CN="Kyle McClelland":MAILTO:Concierge@trustdtsa.com
END:VEVENT
BEGIN:VEVENT
DTSTART;TZID=America/Los_Angeles:20250624T190000
DTEND;TZID=America/Los_Angeles:20250624T213000
DTSTAMP:20260424T060306
CREATED:20250503T004501Z
LAST-MODIFIED:20250503T004648Z
UID:10000511-1750791600-1750800600@trustdtsa.com
SUMMARY:Trust Lite 7pm
DESCRIPTION:Get to know Chef Kyle with a Trust Lite fare of 9 courses for $175 per person\, including food\, wine pairing\, taxes and gratuity. \nPurchase your tickets here.
URL:https://trustdtsa.com/event/trust-lite-7pm-6/
LOCATION:Trust Kitchen\, 220 E. Fourth Street\, Santa Ana\, CA\, 92701\, United States
ORGANIZER;CN="Kyle McClelland":MAILTO:Concierge@trustdtsa.com
END:VEVENT
BEGIN:VEVENT
DTSTART;TZID=America/Los_Angeles:20250626T190000
DTEND;TZID=America/Los_Angeles:20250626T213000
DTSTAMP:20260424T060306
CREATED:20250503T004828Z
LAST-MODIFIED:20250503T004828Z
UID:10000515-1750964400-1750973400@trustdtsa.com
SUMMARY:Intro to Caviar 7pm
DESCRIPTION:Chef Kyle spent part of his formative years at Caviar Russe in New York.  There he came to understand and appreciate the potential and beauty of caviar and how to incorporate it with food. Please join us in a multi course caviar dinner with a variety of caviar’s added to every course. \nPurchase your tickets here.
URL:https://trustdtsa.com/event/intro-to-caviar-7pm-4/
LOCATION:Trust Kitchen\, 220 E. Fourth Street\, Santa Ana\, CA\, 92701\, United States
ORGANIZER;CN="Kyle McClelland":MAILTO:Concierge@trustdtsa.com
END:VEVENT
BEGIN:VEVENT
DTSTART;TZID=America/Los_Angeles:20250627T180000
DTEND;TZID=America/Los_Angeles:20250627T233000
DTSTAMP:20260424T060306
CREATED:20250426T223631Z
LAST-MODIFIED:20250426T223631Z
UID:10000509-1751047200-1751067000@trustdtsa.com
SUMMARY:Trust Dinner Party 6pm & 8:30pm
DESCRIPTION:Chef Kyle is selecting the most exciting and inspiring ingredients and putting together a dinner party for 18 of his closest friends. $250 per person\, food and wine pairings\, tax and gratuities included. \nPlease purchase tickets here.
URL:https://trustdtsa.com/event/trust-dinner-party-6pm-830pm-24/
LOCATION:Trust Kitchen\, 220 E. Fourth Street\, Santa Ana\, CA\, 92701\, United States
ORGANIZER;CN="Kyle McClelland":MAILTO:Concierge@trustdtsa.com
END:VEVENT
BEGIN:VEVENT
DTSTART;TZID=America/Los_Angeles:20250628T180000
DTEND;TZID=America/Los_Angeles:20250628T233000
DTSTAMP:20260424T060306
CREATED:20250426T223718Z
LAST-MODIFIED:20250426T223718Z
UID:10000510-1751133600-1751153400@trustdtsa.com
SUMMARY:Trust Dinner Party 6pm & 8:30pm
DESCRIPTION:Chef Kyle is selecting the most exciting and inspiring ingredients and putting together a dinner party for 18 of his closest friends. $250 per person\, food and wine pairings\, tax and gratuities included. \nPlease purchase tickets here.
URL:https://trustdtsa.com/event/trust-dinner-party-6pm-830pm-25/
LOCATION:Trust Kitchen\, 220 E. Fourth Street\, Santa Ana\, CA\, 92701\, United States
ORGANIZER;CN="Kyle McClelland":MAILTO:Concierge@trustdtsa.com
END:VEVENT
BEGIN:VEVENT
DTSTART;TZID=America/Los_Angeles:20250701T190000
DTEND;TZID=America/Los_Angeles:20250701T210000
DTSTAMP:20260424T060306
CREATED:20250604T173340Z
LAST-MODIFIED:20250604T173340Z
UID:10000531-1751396400-1751403600@trustdtsa.com
SUMMARY:Trust Lite 7pm
DESCRIPTION:Chef Kyle is selecting the most exciting and inspiring ingredients and putting together a dinner party for 18 of his closest friends. This is a lighter version of his normal Trust Dinner Party\, featuring seven courses and two paired wines. $175 per person\, food and wine pairings\, tax and gratuities included.
URL:https://trustdtsa.com/event/trust-lite-7pm-8/
LOCATION:Trust Kitchen\, 220 E. Fourth Street\, Santa Ana\, CA\, 92701\, United States
ORGANIZER;CN="Kyle McClelland":MAILTO:Concierge@trustdtsa.com
END:VEVENT
BEGIN:VEVENT
DTSTART;TZID=America/Los_Angeles:20250702T190000
DTEND;TZID=America/Los_Angeles:20250702T210000
DTSTAMP:20260424T060306
CREATED:20250605T004304Z
LAST-MODIFIED:20250605T004304Z
UID:10000541-1751482800-1751490000@trustdtsa.com
SUMMARY:4th of July Seafood Boil 7pm
DESCRIPTION:Come join us in the Trust kitchen as we host our first ever seafood boil! Put on your bibs and break open a bag with your corn\, potatoes\, sausage\, and your favorite seafood. Feel free to add on some lobster tails and king crab! Food\, wine pairing\, taxes and gratuity included. \nPurchase your tickets here.
URL:https://trustdtsa.com/event/4th-of-july-seafood-boil-7pm/
LOCATION:Trust Kitchen\, 220 E. Fourth Street\, Santa Ana\, CA\, 92701\, United States
ORGANIZER;CN="Kyle McClelland":MAILTO:Concierge@trustdtsa.com
END:VEVENT
BEGIN:VEVENT
DTSTART;TZID=America/Los_Angeles:20250703T190000
DTEND;TZID=America/Los_Angeles:20250703T213000
DTSTAMP:20260424T060306
CREATED:20250605T004334Z
LAST-MODIFIED:20250605T004334Z
UID:10000542-1751569200-1751578200@trustdtsa.com
SUMMARY:4th of July Seafood Boil 7pm
DESCRIPTION:Come join us in the Trust kitchen as we host our first ever seafood boil! Put on your bibs and break open a bag with your corn\, potatoes\, sausage\, and your favorite seafood. Feel free to add on some lobster tails and king crab! Food\, wine pairing\, taxes and gratuity included. \nPurchase your tickets here.
URL:https://trustdtsa.com/event/4th-of-july-seafood-boil-7pm-2/
LOCATION:Trust Kitchen\, 220 E. Fourth Street\, Santa Ana\, CA\, 92701\, United States
ORGANIZER;CN="Kyle McClelland":MAILTO:Concierge@trustdtsa.com
END:VEVENT
BEGIN:VEVENT
DTSTART;TZID=America/Los_Angeles:20250705T180000
DTEND;TZID=America/Los_Angeles:20250705T230000
DTSTAMP:20260424T060306
CREATED:20250604T174149Z
LAST-MODIFIED:20250604T174149Z
UID:10000538-1751738400-1751756400@trustdtsa.com
SUMMARY:Trust Dinner Party 6pm & 8:30pm
DESCRIPTION:Chef Kyle is selecting the most exciting and inspiring ingredients and putting together a dinner party for 18 of his closest friends. $250 per person\, food and wine pairings\, tax and gratuities included. \nPurchase your tickets here.
URL:https://trustdtsa.com/event/trust-dinner-party-6pm-830pm-34/
LOCATION:Trust Kitchen\, 220 E. Fourth Street\, Santa Ana\, CA\, 92701\, United States
ORGANIZER;CN="Kyle McClelland":MAILTO:Concierge@trustdtsa.com
END:VEVENT
BEGIN:VEVENT
DTSTART;TZID=America/Los_Angeles:20250708T190000
DTEND;TZID=America/Los_Angeles:20250708T210000
DTSTAMP:20260424T060306
CREATED:20250604T173500Z
LAST-MODIFIED:20250604T173500Z
UID:10000532-1752001200-1752008400@trustdtsa.com
SUMMARY:Trust Lite 7pm
DESCRIPTION:Chef Kyle is selecting the most exciting and inspiring ingredients and putting together a dinner party for 18 of his closest friends. This is a lighter version of his normal Trust Dinner Party\, featuring seven courses and two paired wines. $175 per person\, food and wine pairings\, tax and gratuities included. \nPurchase your tickets here.
URL:https://trustdtsa.com/event/trust-lite-7pm-10/
LOCATION:Trust Kitchen\, 220 E. Fourth Street\, Santa Ana\, CA\, 92701\, United States
ORGANIZER;CN="Kyle McClelland":MAILTO:Concierge@trustdtsa.com
END:VEVENT
BEGIN:VEVENT
DTSTART;TZID=America/Los_Angeles:20250709T190000
DTEND;TZID=America/Los_Angeles:20250709T223000
DTSTAMP:20260424T060306
CREATED:20250702T170104Z
LAST-MODIFIED:20250702T170104Z
UID:10000557-1752087600-1752100200@trustdtsa.com
SUMMARY:Smoke and Embers 7pm
DESCRIPTION:Come join us on the Detention patio for an evening under the stars! For the first time\, this will be a joint event hosted by the Trust and Detention 2.0 team. Chef Jason and Chef Kyle will lead the brigade in preparing a meal fully cooked under smoke and embers. $200 per person\, inclusive of food\, taxes and gratuity. Drinks will be available a la carte that evening. \nPurchase your tickets here.
URL:https://trustdtsa.com/event/smoke-and-embers-7pm-2/
LOCATION:Trust Kitchen\, 220 E. Fourth Street\, Santa Ana\, CA\, 92701\, United States
ORGANIZER;CN="Kyle McClelland":MAILTO:Concierge@trustdtsa.com
END:VEVENT
BEGIN:VEVENT
DTSTART;TZID=America/Los_Angeles:20250710T190000
DTEND;TZID=America/Los_Angeles:20250710T223000
DTSTAMP:20260424T060306
CREATED:20250702T170019Z
LAST-MODIFIED:20250702T170019Z
UID:10000556-1752174000-1752186600@trustdtsa.com
SUMMARY:Smoke and Embers 7pm
DESCRIPTION:Come join us on the Detention patio for an evening under the stars! For the first time\, this will be a joint event hosted by the Trust and Detention 2.0 team. Chef Jason and Chef Kyle will lead the brigade in preparing a meal fully cooked under smoke and embers. $200 per person\, inclusive of food\, taxes and gratuity. Drinks will be available a la carte that evening. \nPurchase your tickets here.
URL:https://trustdtsa.com/event/smoke-and-embers-7pm/
LOCATION:Trust Kitchen\, 220 E. Fourth Street\, Santa Ana\, CA\, 92701\, United States
ORGANIZER;CN="Kyle McClelland":MAILTO:Concierge@trustdtsa.com
END:VEVENT
BEGIN:VEVENT
DTSTART;TZID=America/Los_Angeles:20250711T180000
DTEND;TZID=America/Los_Angeles:20250711T230000
DTSTAMP:20260424T060306
CREATED:20250604T171211Z
LAST-MODIFIED:20250604T171211Z
UID:10000523-1752256800-1752274800@trustdtsa.com
SUMMARY:Trust Dinner Party 6pm & 8:30pm
DESCRIPTION:Chef Kyle is selecting the most exciting and inspiring ingredients and putting together a dinner party for 18 of his closest friends. $250 per person\, food and wine pairings\, tax and gratuities included. \nPurchase your tickets here.
URL:https://trustdtsa.com/event/trust-dinner-party-6pm-830pm-27/
LOCATION:Trust Kitchen\, 220 E. Fourth Street\, Santa Ana\, CA\, 92701\, United States
ORGANIZER;CN="Kyle McClelland":MAILTO:Concierge@trustdtsa.com
END:VEVENT
BEGIN:VEVENT
DTSTART;TZID=America/Los_Angeles:20250712T180000
DTEND;TZID=America/Los_Angeles:20250712T230000
DTSTAMP:20260424T060306
CREATED:20250604T171245Z
LAST-MODIFIED:20250604T171245Z
UID:10000524-1752343200-1752361200@trustdtsa.com
SUMMARY:Trust Dinner Party 6pm & 8:30pm
DESCRIPTION:Chef Kyle is selecting the most exciting and inspiring ingredients and putting together a dinner party for 18 of his closest friends. $250 per person\, food and wine pairings\, tax and gratuities included. \nPurchase your tickets here.
URL:https://trustdtsa.com/event/trust-dinner-party-6pm-830pm-28/
LOCATION:Trust Kitchen\, 220 E. Fourth Street\, Santa Ana\, CA\, 92701\, United States
ORGANIZER;CN="Kyle McClelland":MAILTO:Concierge@trustdtsa.com
END:VEVENT
BEGIN:VEVENT
DTSTART;TZID=America/Los_Angeles:20250715T190000
DTEND;TZID=America/Los_Angeles:20250715T210000
DTSTAMP:20260424T060306
CREATED:20250604T172702Z
LAST-MODIFIED:20250604T172702Z
UID:10000530-1752606000-1752613200@trustdtsa.com
SUMMARY:Summer Veggies 7pm
DESCRIPTION:One of the things that excited Chef Kyle the m out about moving to California was the produce and the farmer’s markets! Come join us in the Trust kitchen to enjoy a tasting vegetarian tasting menu with all local and summer ingredients. \nPurchase your tickets here.
URL:https://trustdtsa.com/event/summer-veggies-7pm/
LOCATION:Trust Kitchen\, 220 E. Fourth Street\, Santa Ana\, CA\, 92701\, United States
ORGANIZER;CN="Kyle McClelland":MAILTO:Concierge@trustdtsa.com
END:VEVENT
BEGIN:VEVENT
DTSTART;TZID=America/Los_Angeles:20250716T190000
DTEND;TZID=America/Los_Angeles:20250716T210000
DTSTAMP:20260424T060306
CREATED:20250702T200757Z
LAST-MODIFIED:20250702T200757Z
UID:10000559-1752692400-1752699600@trustdtsa.com
SUMMARY:Trust Lite 7pm
DESCRIPTION:Get to know Chef Kyle with a Trust Lite fare of 9 courses for $175 per person\, including food\, wine pairing\, taxes and gratuity. \nPurchase your tickets here.
URL:https://trustdtsa.com/event/trust-lite-7pm-15/
LOCATION:Trust Kitchen\, 220 E. Fourth Street\, Santa Ana\, CA\, 92701\, United States
ORGANIZER;CN="Kyle McClelland":MAILTO:Concierge@trustdtsa.com
END:VEVENT
BEGIN:VEVENT
DTSTART;TZID=America/Los_Angeles:20250717T190000
DTEND;TZID=America/Los_Angeles:20250717T213000
DTSTAMP:20260424T060306
CREATED:20250702T200521Z
LAST-MODIFIED:20250702T200521Z
UID:10000558-1752778800-1752787800@trustdtsa.com
SUMMARY:Intro to Caviar 7pm
DESCRIPTION:Chef Kyle spent part of his formative years at Caviar Russe in New York.  There he came to understand and appreciate the potential and beauty of caviar and how to incorporate it with food. Please join us in a multi course caviar dinner with a variety of caviar’s added to every course. \nPurchase your tickets here.
URL:https://trustdtsa.com/event/intro-to-caviar-7pm-7/
LOCATION:Trust Kitchen\, 220 E. Fourth Street\, Santa Ana\, CA\, 92701\, United States
ORGANIZER;CN="Kyle McClelland":MAILTO:Concierge@trustdtsa.com
END:VEVENT
END:VCALENDAR