BEGIN:VCALENDAR
VERSION:2.0
PRODID:-//Trust - ECPv6.15.20//NONSGML v1.0//EN
CALSCALE:GREGORIAN
METHOD:PUBLISH
X-WR-CALNAME:Trust
X-ORIGINAL-URL:https://trustdtsa.com
X-WR-CALDESC:Events for Trust
REFRESH-INTERVAL;VALUE=DURATION:PT1H
X-Robots-Tag:noindex
X-PUBLISHED-TTL:PT1H
BEGIN:VTIMEZONE
TZID:America/Los_Angeles
BEGIN:DAYLIGHT
TZOFFSETFROM:-0800
TZOFFSETTO:-0700
TZNAME:PDT
DTSTART:20250309T100000
END:DAYLIGHT
BEGIN:STANDARD
TZOFFSETFROM:-0700
TZOFFSETTO:-0800
TZNAME:PST
DTSTART:20251102T090000
END:STANDARD
BEGIN:DAYLIGHT
TZOFFSETFROM:-0800
TZOFFSETTO:-0700
TZNAME:PDT
DTSTART:20260308T100000
END:DAYLIGHT
BEGIN:STANDARD
TZOFFSETFROM:-0700
TZOFFSETTO:-0800
TZNAME:PST
DTSTART:20261101T090000
END:STANDARD
BEGIN:DAYLIGHT
TZOFFSETFROM:-0800
TZOFFSETTO:-0700
TZNAME:PDT
DTSTART:20270314T100000
END:DAYLIGHT
BEGIN:STANDARD
TZOFFSETFROM:-0700
TZOFFSETTO:-0800
TZNAME:PST
DTSTART:20271107T090000
END:STANDARD
END:VTIMEZONE
BEGIN:VEVENT
DTSTART;TZID=America/Los_Angeles:20260506T180000
DTEND;TZID=America/Los_Angeles:20260506T203000
DTSTAMP:20260423T111034
CREATED:20260412T212643Z
LAST-MODIFIED:20260412T212643Z
UID:10000727-1778090400-1778099400@trustdtsa.com
SUMMARY:Trust Farewell Tour 6pm & 8:30pm
DESCRIPTION:The countdown is on! This is your last chance to get your favorite Trust classics like the freshest bread and kouign-amann! $260 per person includes food\, wine pairing\, tax and gratuity. If you do not want the wine pairing\, please reach out and we can discount your ticket. Unfortunately we can not accommodate all dietary restrictions. Please reach out prior to purchasing seats by call or text at 714-732-0598 with questions.
URL:https://trustdtsa.com/event/trust-farewell-tour-6pm-830pm-5/
LOCATION:Trust Kitchen\, 220 E. Fourth Street\, Santa Ana\, CA\, 92701\, United States
END:VEVENT
BEGIN:VEVENT
DTSTART;TZID=America/Los_Angeles:20260507T180000
DTEND;TZID=America/Los_Angeles:20260507T203000
DTSTAMP:20260423T111034
CREATED:20260412T213222Z
LAST-MODIFIED:20260412T213222Z
UID:10000728-1778176800-1778185800@trustdtsa.com
SUMMARY:Trust Farewell Tour 6pm & 8:30pm
DESCRIPTION:The countdown is on! This is your last chance to get your favorite Trust classics like the freshest bread and kouign-amann! $260 per person includes food\, wine pairing\, tax and gratuity. If you do not want the wine pairing\, please reach out and we can discount your ticket. Unfortunately we can not accommodate all dietary restrictions. Please reach out prior to purchasing seats by call or text at 714-732-0598 with questions.
URL:https://trustdtsa.com/event/trust-farewell-tour-6pm-830pm-6/
LOCATION:Trust Kitchen\, 220 E. Fourth Street\, Santa Ana\, CA\, 92701\, United States
END:VEVENT
BEGIN:VEVENT
DTSTART;TZID=America/Los_Angeles:20260508T180000
DTEND;TZID=America/Los_Angeles:20260508T203000
DTSTAMP:20260423T111034
CREATED:20260412T213310Z
LAST-MODIFIED:20260412T213310Z
UID:10000729-1778263200-1778272200@trustdtsa.com
SUMMARY:Trust Farewell Tour 6pm & 8:30pm
DESCRIPTION:The countdown is on! This is your last chance to get your favorite Trust classics like the freshest bread and kouign-amann! $260 per person includes food\, wine pairing\, tax and gratuity. If you do not want the wine pairing\, please reach out and we can discount your ticket. Unfortunately we can not accommodate all dietary restrictions. Please reach out prior to purchasing seats by call or text at 714-732-0598 with questions.
URL:https://trustdtsa.com/event/trust-farewell-tour-6pm-830pm-7/
LOCATION:Trust Kitchen\, 220 E. Fourth Street\, Santa Ana\, CA\, 92701\, United States
END:VEVENT
BEGIN:VEVENT
DTSTART;TZID=America/Los_Angeles:20260509T180000
DTEND;TZID=America/Los_Angeles:20260509T203000
DTSTAMP:20260423T111034
CREATED:20260412T213356Z
LAST-MODIFIED:20260412T213356Z
UID:10000730-1778349600-1778358600@trustdtsa.com
SUMMARY:Trust Farewell Tour 6pm & 8:30pm
DESCRIPTION:The countdown is on! This is your last chance to get your favorite Trust classics like the freshest bread and kouign-amann! $260 per person includes food\, wine pairing\, tax and gratuity. If you do not want the wine pairing\, please reach out and we can discount your ticket. Unfortunately we can not accommodate all dietary restrictions. Please reach out prior to purchasing seats by call or text at 714-732-0598 with questions.
URL:https://trustdtsa.com/event/trust-farewell-tour-6pm-830pm-8/
LOCATION:Trust Kitchen\, 220 E. Fourth Street\, Santa Ana\, CA\, 92701\, United States
END:VEVENT
BEGIN:VEVENT
DTSTART;TZID=America/Los_Angeles:20260510T120000
DTEND;TZID=America/Los_Angeles:20260510T150000
DTSTAMP:20260423T111034
CREATED:20260401T165006Z
LAST-MODIFIED:20260401T165006Z
UID:10000719-1778414400-1778425200@trustdtsa.com
SUMMARY:"Spoil Mom" Brunch 12pm & 3pm
DESCRIPTION:Celebrate Mother’s Day by spoiling Mom with a special brunch! Fancy twists on classic dishes and some fun\, new additions to the regular brunch routine. Avoid the crowded spots everyone is taking Mom to and give her a truly special experience. $225 per person includes food\, tax and gratuity. Optional wine pairing add-on for $65 per person (please purchase prior to reservation). Unfortunately we can not accommodate all food allergies and dietary restrictions. Please reach out prior to purchasing tickets with questions by call or text at (714) 732-0598.
URL:https://trustdtsa.com/event/spoil-mom-brunch-12pm-3pm/
LOCATION:Trust Kitchen\, 220 E. Fourth Street\, Santa Ana\, CA\, 92701\, United States
END:VEVENT
BEGIN:VEVENT
DTSTART;TZID=America/Los_Angeles:20260513T180000
DTEND;TZID=America/Los_Angeles:20260513T203000
DTSTAMP:20260423T111034
CREATED:20260412T213509Z
LAST-MODIFIED:20260412T213509Z
UID:10000732-1778695200-1778704200@trustdtsa.com
SUMMARY:Trust Farewell Tour 6pm & 8:30pm
DESCRIPTION:The countdown is on! This is your last chance to get your favorite Trust classics like the freshest bread and kouign-amann! $260 per person includes food\, wine pairing\, tax and gratuity. If you do not want the wine pairing\, please reach out and we can discount your ticket. Unfortunately we can not accommodate all dietary restrictions. Please reach out prior to purchasing seats by call or text at 714-732-0598 with questions.
URL:https://trustdtsa.com/event/trust-farewell-tour-6pm-830pm-9/
LOCATION:Trust Kitchen\, 220 E. Fourth Street\, Santa Ana\, CA\, 92701\, United States
END:VEVENT
BEGIN:VEVENT
DTSTART;TZID=America/Los_Angeles:20260514T180000
DTEND;TZID=America/Los_Angeles:20260514T203000
DTSTAMP:20260423T111034
CREATED:20260412T213559Z
LAST-MODIFIED:20260412T213559Z
UID:10000733-1778781600-1778790600@trustdtsa.com
SUMMARY:Trust Farewell Tour 6pm & 8:30pm
DESCRIPTION:The countdown is on! This is your last chance to get your favorite Trust classics like the freshest bread and kouign-amann! $260 per person includes food\, wine pairing\, tax and gratuity. If you do not want the wine pairing\, please reach out and we can discount your ticket. Unfortunately we can not accommodate all dietary restrictions. Please reach out prior to purchasing seats by call or text at 714-732-0598 with questions.
URL:https://trustdtsa.com/event/trust-farewell-tour-6pm-830pm-10/
LOCATION:Trust Kitchen\, 220 E. Fourth Street\, Santa Ana\, CA\, 92701\, United States
END:VEVENT
BEGIN:VEVENT
DTSTART;TZID=America/Los_Angeles:20260515T180000
DTEND;TZID=America/Los_Angeles:20260515T203000
DTSTAMP:20260423T111034
CREATED:20260412T213641Z
LAST-MODIFIED:20260412T213641Z
UID:10000734-1778868000-1778877000@trustdtsa.com
SUMMARY:Trust Farewell Tour 6pm & 8:30pm
DESCRIPTION:The countdown is on! This is your last chance to get your favorite Trust classics like the freshest bread and kouign-amann! $260 per person includes food\, wine pairing\, tax and gratuity. If you do not want the wine pairing\, please reach out and we can discount your ticket. Unfortunately we can not accommodate all dietary restrictions. Please reach out prior to purchasing seats by call or text at 714-732-0598 with questions.
URL:https://trustdtsa.com/event/trust-farewell-tour-6pm-830pm-11/
LOCATION:Trust Kitchen\, 220 E. Fourth Street\, Santa Ana\, CA\, 92701\, United States
END:VEVENT
BEGIN:VEVENT
DTSTART;TZID=America/Los_Angeles:20260516T180000
DTEND;TZID=America/Los_Angeles:20260516T203000
DTSTAMP:20260423T111034
CREATED:20260412T213731Z
LAST-MODIFIED:20260412T213731Z
UID:10000735-1778954400-1778963400@trustdtsa.com
SUMMARY:Trust Farewell Tour 6pm & 8:30pm
DESCRIPTION:The countdown is on! This is your last chance to get your favorite Trust classics like the freshest bread and kouign-amann! $260 per person includes food\, wine pairing\, tax and gratuity. If you do not want the wine pairing\, please reach out and we can discount your ticket. Unfortunately we can not accommodate all dietary restrictions. Please reach out prior to purchasing seats by call or text at 714-732-0598 with questions.
URL:https://trustdtsa.com/event/trust-farewell-tour-6pm-830pm-12/
LOCATION:Trust Kitchen\, 220 E. Fourth Street\, Santa Ana\, CA\, 92701\, United States
END:VEVENT
BEGIN:VEVENT
DTSTART;TZID=America/Los_Angeles:20260520T180000
DTEND;TZID=America/Los_Angeles:20260520T203000
DTSTAMP:20260423T111034
CREATED:20260412T211752Z
LAST-MODIFIED:20260412T212855Z
UID:10000720-1779300000-1779309000@trustdtsa.com
SUMMARY:New and Improved Ultimate Steak Dinner 6pm & 8:30pm
DESCRIPTION:After almost a decade of the same steak dinner\, we have improved our grilling technique\, started pre-smoking some of the steaks and have new proprietary flake steak that has gone over with incredible success. We plan to continue to evolve and improve everyone’s favorite steak dinner! $260 per person includes food\, wine pairing\, tax and gratuity. If you do not want the wine pairing\, please reach out and we can discount your ticket. Unfortunately we can not accommodate all food allergies and dietary restrictions. Please reach out prior to purchasing tickets with questions by call or text at (714) 732-0598.
URL:https://trustdtsa.com/event/new-and-improved-ultimate-steak-dinner-6pm-830pm-10/
LOCATION:Trust Kitchen\, 220 E. Fourth Street\, Santa Ana\, CA\, 92701\, United States
END:VEVENT
BEGIN:VEVENT
DTSTART;TZID=America/Los_Angeles:20260521T180000
DTEND;TZID=America/Los_Angeles:20260521T203000
DTSTAMP:20260423T111034
CREATED:20260412T211839Z
LAST-MODIFIED:20260412T212820Z
UID:10000721-1779386400-1779395400@trustdtsa.com
SUMMARY:New and Improved Ultimate Steak Dinner 6pm & 8:30pm
DESCRIPTION:After almost a decade of the same steak dinner\, we have improved our grilling technique\, started pre-smoking some of the steaks and have new proprietary flake steak that has gone over with incredible success. We plan to continue to evolve and improve everyone’s favorite steak dinner! $260 per person includes food\, wine pairing\, tax and gratuity. If you do not want the wine pairing\, please reach out and we can discount your ticket. Unfortunately we can not accommodate all food allergies and dietary restrictions. Please reach out prior to purchasing tickets with questions by call or text at (714) 732-0598.
URL:https://trustdtsa.com/event/new-and-improved-ultimate-steak-dinner-6pm-830pm-11/
LOCATION:Trust Kitchen\, 220 E. Fourth Street\, Santa Ana\, CA\, 92701\, United States
END:VEVENT
BEGIN:VEVENT
DTSTART;TZID=America/Los_Angeles:20260522T180000
DTEND;TZID=America/Los_Angeles:20260522T203000
DTSTAMP:20260423T111034
CREATED:20260412T211936Z
LAST-MODIFIED:20260413T182736Z
UID:10000722-1779472800-1779481800@trustdtsa.com
SUMMARY:New and Improved Ultimate Steak Dinner 6pm & 8:30pm
DESCRIPTION:After almost a decade of the same steak dinner\, we have improved our grilling technique\, started pre-smoking some of the steaks and have new proprietary flake steak that has gone over with incredible success. We plan to continue to evolve and improve everyone’s favorite steak dinner! $260 per person includes food\, wine pairing\, tax and gratuity. If you do not want the wine pairing\, please reach out and we can discount your ticket. Unfortunately we can not accommodate all food allergies and dietary restrictions. Please reach out prior to purchasing tickets with questions by call or text at (714) 732-0598.
URL:https://trustdtsa.com/event/new-and-improved-ultimate-steak-dinner-6pm/
LOCATION:Trust Kitchen\, 220 E. Fourth Street\, Santa Ana\, CA\, 92701\, United States
END:VEVENT
BEGIN:VEVENT
DTSTART;TZID=America/Los_Angeles:20260523T180000
DTEND;TZID=America/Los_Angeles:20260523T203000
DTSTAMP:20260423T111034
CREATED:20260413T183035Z
LAST-MODIFIED:20260413T183035Z
UID:10000736-1779559200-1779568200@trustdtsa.com
SUMMARY:New and Improved Ultimate Steak Dinner 6pm
DESCRIPTION:After almost a decade of the same steak dinner\, we have improved our grilling technique\, started pre-smoking some of the steaks and have new proprietary flake steak that has gone over with incredible success. We plan to continue to evolve and improve everyone’s favorite steak dinner! $260 per person includes food\, wine pairing\, tax and gratuity. If you do not want the wine pairing\, please reach out and we can discount your ticket. Unfortunately we can not accommodate all food allergies and dietary restrictions. Please reach out prior to purchasing tickets with questions by call or text at (714) 732-0598.
URL:https://trustdtsa.com/event/new-and-improved-ultimate-steak-dinner-6pm-2/
LOCATION:Trust Kitchen\, 220 E. Fourth Street\, Santa Ana\, CA\, 92701\, United States
END:VEVENT
END:VCALENDAR