BEGIN:VCALENDAR
VERSION:2.0
PRODID:-//Trust - ECPv6.15.20//NONSGML v1.0//EN
CALSCALE:GREGORIAN
METHOD:PUBLISH
X-WR-CALNAME:Trust
X-ORIGINAL-URL:https://trustdtsa.com
X-WR-CALDESC:Events for Trust
REFRESH-INTERVAL;VALUE=DURATION:PT1H
X-Robots-Tag:noindex
X-PUBLISHED-TTL:PT1H
BEGIN:VTIMEZONE
TZID:America/Los_Angeles
BEGIN:DAYLIGHT
TZOFFSETFROM:-0800
TZOFFSETTO:-0700
TZNAME:PDT
DTSTART:20240310T100000
END:DAYLIGHT
BEGIN:STANDARD
TZOFFSETFROM:-0700
TZOFFSETTO:-0800
TZNAME:PST
DTSTART:20241103T090000
END:STANDARD
BEGIN:DAYLIGHT
TZOFFSETFROM:-0800
TZOFFSETTO:-0700
TZNAME:PDT
DTSTART:20250309T100000
END:DAYLIGHT
BEGIN:STANDARD
TZOFFSETFROM:-0700
TZOFFSETTO:-0800
TZNAME:PST
DTSTART:20251102T090000
END:STANDARD
BEGIN:DAYLIGHT
TZOFFSETFROM:-0800
TZOFFSETTO:-0700
TZNAME:PDT
DTSTART:20260308T100000
END:DAYLIGHT
BEGIN:STANDARD
TZOFFSETFROM:-0700
TZOFFSETTO:-0800
TZNAME:PST
DTSTART:20261101T090000
END:STANDARD
BEGIN:DAYLIGHT
TZOFFSETFROM:-0800
TZOFFSETTO:-0700
TZNAME:PDT
DTSTART:20270314T100000
END:DAYLIGHT
BEGIN:STANDARD
TZOFFSETFROM:-0700
TZOFFSETTO:-0800
TZNAME:PST
DTSTART:20271107T090000
END:STANDARD
END:VTIMEZONE
BEGIN:VEVENT
DTSTART;TZID=America/Los_Angeles:20260212T180000
DTEND;TZID=America/Los_Angeles:20260212T203000
DTSTAMP:20260423T125659
CREATED:20260112T170734Z
LAST-MODIFIED:20260112T170734Z
UID:10000672-1770919200-1770928200@trustdtsa.com
SUMMARY:Seafood is for Lovers 6pm & 8:30pm
DESCRIPTION:A special Valentine’s Day menu for our pescatarian and seafood-loving guests. $200 per person includes food\, taxes and gratuity. Optional wine pairing for $65 per person.
URL:https://trustdtsa.com/event/seafood-is-for-lovers-6pm-830pm/
LOCATION:Trust Kitchen\, 220 E. Fourth Street\, Santa Ana\, CA\, 92701\, United States
END:VEVENT
BEGIN:VEVENT
DTSTART;TZID=America/Los_Angeles:20260211T180000
DTEND;TZID=America/Los_Angeles:20260211T203000
DTSTAMP:20260423T125659
CREATED:20260112T170655Z
LAST-MODIFIED:20260112T170655Z
UID:10000671-1770832800-1770841800@trustdtsa.com
SUMMARY:Veggies are for Lovers 6pm & 8:30pm
DESCRIPTION:A special Valentine’s Day menu for our vegetarian guests. $185 per person includes food\, taxes and gratuity. Optional wine pairing for $65 per person.
URL:https://trustdtsa.com/event/veggies-are-for-lovers-6pm-830pm/
LOCATION:Trust Kitchen\, 220 E. Fourth Street\, Santa Ana\, CA\, 92701\, United States
END:VEVENT
BEGIN:VEVENT
DTSTART;TZID=America/Los_Angeles:20260207T180000
DTEND;TZID=America/Los_Angeles:20260207T203000
DTSTAMP:20260423T125659
CREATED:20260116T182704Z
LAST-MODIFIED:20260116T182823Z
UID:10000676-1770487200-1770496200@trustdtsa.com
SUMMARY:Ultimate Chef Battle Part Two: Jason and Chuy Seek Revenge on Kyle 6pm & 8:30pm
DESCRIPTION:Chef Jason does not like to lose\, especially when it comes to cooking. Chef Kyle took the crown in part one in January\, and Chef Jason and Chef Chuy are out for revenge! Come live your dream of judging a cooking competition! $195 per ticket includes food\, tax and gratuity. Option wine pairing add-on for $65 per person.
URL:https://trustdtsa.com/event/ultimate-chef-battle-part-two-jason-and-chuy-seek-revenge-on-kyle/
LOCATION:Trust Kitchen\, 220 E. Fourth Street\, Santa Ana\, CA\, 92701\, United States
END:VEVENT
BEGIN:VEVENT
DTSTART;TZID=America/Los_Angeles:20260206T180000
DTEND;TZID=America/Los_Angeles:20260206T203000
DTSTAMP:20260423T125659
CREATED:20260116T182300Z
LAST-MODIFIED:20260116T182510Z
UID:10000678-1770400800-1770409800@trustdtsa.com
SUMMARY:Ultimate Chef Battle Part Two: Jason and Chuy Seek Revenge on Kyle 6pm & 8:30pm
DESCRIPTION:Chef Jason does not like to lose\, especially when it comes to cooking. Chef Kyle took the crown in part one in January\, and Chef Jason and Chef Chuy are out for revenge! Come live your dream of judging a cooking competition! $195 per ticket includes food\, tax and gratuity. Option wine pairing add-on for $65 per person.
URL:https://trustdtsa.com/event/ultimate-chef-battle-part-two-jason-and-chuy-attempt-revenge-on-kyle-6pm-830pm-2/
LOCATION:Trust Kitchen\, 220 E. Fourth Street\, Santa Ana\, CA\, 92701\, United States
END:VEVENT
BEGIN:VEVENT
DTSTART;TZID=America/Los_Angeles:20260205T180000
DTEND;TZID=America/Los_Angeles:20260205T203000
DTSTAMP:20260423T125659
CREATED:20260116T182102Z
LAST-MODIFIED:20260116T182413Z
UID:10000677-1770314400-1770323400@trustdtsa.com
SUMMARY:Ultimate Chef Battle Part Two: Jason and Chuy Seek Revenge on Kyle 6pm & 8:30pm
DESCRIPTION:Chef Jason does not like to lose\, especially when it comes to cooking. Chef Kyle took the crown in part one in January\, and Chef Jason and Chef Chuy are out for revenge! Come live your dream of judging a cooking competition! $195 per ticket includes food\, tax and gratuity. Option wine pairing add-on for $65 per person.
URL:https://trustdtsa.com/event/ultimate-chef-battle-part-two-jason-and-chuy-attempt-revenge-on-kyle-6pm-830pm/
LOCATION:Trust Kitchen\, 220 E. Fourth Street\, Santa Ana\, CA\, 92701\, United States
END:VEVENT
BEGIN:VEVENT
DTSTART;TZID=America/Los_Angeles:20260204T190000
DTEND;TZID=America/Los_Angeles:20260204T213000
DTSTAMP:20260423T125659
CREATED:20260116T181721Z
LAST-MODIFIED:20260116T182353Z
UID:10000675-1770231600-1770240600@trustdtsa.com
SUMMARY:Ultimate Chef Battle Part Two: Jason and Chuy Seek Revenge on Kyle 7pm
DESCRIPTION:Chef Jason does not like to lose\, especially when it comes to cooking. Chef Kyle took the crown in part one in January\, and Chef Jason and Chef Chuy are out for revenge! Come live your dream of judging a cooking competition! $195 per ticket includes food\, tax and gratuity. Option wine pairing add-on for $65 per person.
URL:https://trustdtsa.com/event/ultimate-chef-battle-part-two-jason-and-chuy-attempt-revenge-on-kyle/
LOCATION:Trust Kitchen\, 220 E. Fourth Street\, Santa Ana\, CA\, 92701\, United States
END:VEVENT
BEGIN:VEVENT
DTSTART;TZID=America/Los_Angeles:20260131T180000
DTEND;TZID=America/Los_Angeles:20260131T203000
DTSTAMP:20260423T125659
CREATED:20251209T203730Z
LAST-MODIFIED:20251218T215114Z
UID:10000659-1769882400-1769891400@trustdtsa.com
SUMMARY:Trust Dinner Party 6pm & 8:30pm
DESCRIPTION:The Trust Kitchen team is selecting the most exciting and inspiring ingredients and putting together a dinner party for 18. $195 per person\, food\, tax and gratuities included. Optional wine pairing add on $65 per person.
URL:https://trustdtsa.com/event/trust-dinner-party-6pm-830pm-70/
LOCATION:Trust Kitchen\, 220 E. Fourth Street\, Santa Ana\, CA\, 92701\, United States
END:VEVENT
BEGIN:VEVENT
DTSTART;TZID=America/Los_Angeles:20260130T180000
DTEND;TZID=America/Los_Angeles:20260130T203000
DTSTAMP:20260423T125659
CREATED:20251209T203646Z
LAST-MODIFIED:20251218T215135Z
UID:10000658-1769796000-1769805000@trustdtsa.com
SUMMARY:Trust Dinner Party 6pm & 8:30pm
DESCRIPTION:The Trust Kitchen team is selecting the most exciting and inspiring ingredients and putting together a dinner party for 18. $195 per person\, food\, tax and gratuities included. Optional wine pairing add on $65 per person.
URL:https://trustdtsa.com/event/trust-dinner-party-6pm-830pm-69/
LOCATION:Trust Kitchen\, 220 E. Fourth Street\, Santa Ana\, CA\, 92701\, United States
END:VEVENT
BEGIN:VEVENT
DTSTART;TZID=America/Los_Angeles:20260129T180000
DTEND;TZID=America/Los_Angeles:20260129T203000
DTSTAMP:20260423T125659
CREATED:20251218T215701Z
LAST-MODIFIED:20251218T215701Z
UID:10000669-1769709600-1769718600@trustdtsa.com
SUMMARY:Laughing Drunk- Japanese Izakaya Experience 6pm & 8:30pm
DESCRIPTION:“Horoyoi” (‘laughing drunk’ in Japanese) is the atmosphere of a traditional Izakaya. You are encouraged\, laugh\, relax and have fun while enjoying casual Japanese cuisine like sushi\, yakatori and tempura. $195 per person includes food\, tax and gratuity. Optional wine pairing add-on for $65 per person.
URL:https://trustdtsa.com/event/laughing-drunk-japanese-izakaya-experience-6pm-830pm-2/
LOCATION:Trust Kitchen\, 220 E. Fourth Street\, Santa Ana\, CA\, 92701\, United States
END:VEVENT
BEGIN:VEVENT
DTSTART;TZID=America/Los_Angeles:20260128T180000
DTEND;TZID=America/Los_Angeles:20260128T203000
DTSTAMP:20260423T125659
CREATED:20251218T215623Z
LAST-MODIFIED:20251218T215623Z
UID:10000668-1769623200-1769632200@trustdtsa.com
SUMMARY:Laughing Drunk- Japanese Izakaya Experience 6pm & 8:30pm
DESCRIPTION:“Horoyoi” (‘laughing drunk’ in Japanese) is the atmosphere of a traditional Izakaya. You are encouraged\, laugh\, relax and have fun while enjoying casual Japanese cuisine like sushi\, yakatori and tempura. $195 per person includes food\, tax and gratuity. Optional wine pairing add-on for $65 per person.
URL:https://trustdtsa.com/event/laughing-drunk-japanese-izakaya-experience-6pm-830pm/
LOCATION:Trust Kitchen\, 220 E. Fourth Street\, Santa Ana\, CA\, 92701\, United States
END:VEVENT
BEGIN:VEVENT
DTSTART;TZID=America/Los_Angeles:20260124T000000
DTEND;TZID=America/Los_Angeles:20260124T000000
DTSTAMP:20260423T125659
CREATED:20251209T203923Z
LAST-MODIFIED:20251209T203923Z
UID:10000662-1769212800-1769212800@trustdtsa.com
SUMMARY:Private Event
DESCRIPTION:
URL:https://trustdtsa.com/event/private-event-9/
LOCATION:Trust Kitchen\, 220 E. Fourth Street\, Santa Ana\, CA\, 92701\, United States
END:VEVENT
BEGIN:VEVENT
DTSTART;TZID=America/Los_Angeles:20260123T000000
DTEND;TZID=America/Los_Angeles:20260123T000000
DTSTAMP:20260423T125659
CREATED:20251209T203855Z
LAST-MODIFIED:20251209T203855Z
UID:10000661-1769126400-1769126400@trustdtsa.com
SUMMARY:Private Event
DESCRIPTION:
URL:https://trustdtsa.com/event/private-event-8/
LOCATION:Trust Kitchen\, 220 E. Fourth Street\, Santa Ana\, CA\, 92701\, United States
END:VEVENT
BEGIN:VEVENT
DTSTART;TZID=America/Los_Angeles:20260122T180000
DTEND;TZID=America/Los_Angeles:20260122T203000
DTSTAMP:20260423T125659
CREATED:20251218T215015Z
LAST-MODIFIED:20251218T215015Z
UID:10000667-1769104800-1769113800@trustdtsa.com
SUMMARY:Trust Dinner Party 6pm & 8:30pm
DESCRIPTION:The Trust Kitchen team is selecting the most exciting and inspiring ingredients and putting together a dinner party for 18. $195 per person\, food\, tax and gratuities included. Optional wine pairing add on $65 per person.
URL:https://trustdtsa.com/event/trust-dinner-party-6pm-830pm-71/
LOCATION:Trust Kitchen\, 220 E. Fourth Street\, Santa Ana\, CA\, 92701\, United States
END:VEVENT
BEGIN:VEVENT
DTSTART;TZID=America/Los_Angeles:20260121T173000
DTEND;TZID=America/Los_Angeles:20260121T200000
DTSTAMP:20260423T125659
CREATED:20251209T203831Z
LAST-MODIFIED:20260121T182309Z
UID:10000660-1769016600-1769025600@trustdtsa.com
SUMMARY:Private Event
DESCRIPTION:
URL:https://trustdtsa.com/event/private-event-7/
LOCATION:Trust Kitchen\, 220 E. Fourth Street\, Santa Ana\, CA\, 92701\, United States
END:VEVENT
BEGIN:VEVENT
DTSTART;TZID=America/Los_Angeles:20260117T180000
DTEND;TZID=America/Los_Angeles:20260117T203000
DTSTAMP:20260423T125659
CREATED:20251209T203558Z
LAST-MODIFIED:20251218T215218Z
UID:10000657-1768672800-1768681800@trustdtsa.com
SUMMARY:Trust Dinner Party 6pm & 8:30pm
DESCRIPTION:The Trust Kitchen team is selecting the most exciting and inspiring ingredients and putting together a dinner party for 18. $195 per person\, food\, tax and gratuities included. Optional wine pairing add on $65 per person.
URL:https://trustdtsa.com/event/trust-dinner-party-6pm-830pm-68/
LOCATION:Trust Kitchen\, 220 E. Fourth Street\, Santa Ana\, CA\, 92701\, United States
END:VEVENT
BEGIN:VEVENT
DTSTART;TZID=America/Los_Angeles:20260116T180000
DTEND;TZID=America/Los_Angeles:20260116T203000
DTSTAMP:20260423T125659
CREATED:20251209T203516Z
LAST-MODIFIED:20251218T215248Z
UID:10000656-1768586400-1768595400@trustdtsa.com
SUMMARY:Trust Dinner Party 6pm & 8:30pm
DESCRIPTION:The Trust Kitchen team is selecting the most exciting and inspiring ingredients and putting together a dinner party for 18. $195 per person\, food\, tax and gratuities included. Optional wine pairing add on $65 per person.
URL:https://trustdtsa.com/event/trust-dinner-party-6pm-830pm-67/
LOCATION:Trust Kitchen\, 220 E. Fourth Street\, Santa Ana\, CA\, 92701\, United States
END:VEVENT
BEGIN:VEVENT
DTSTART;TZID=America/Los_Angeles:20260115T180000
DTEND;TZID=America/Los_Angeles:20260115T203000
DTSTAMP:20260423T125659
CREATED:20251218T214850Z
LAST-MODIFIED:20251218T214850Z
UID:10000666-1768500000-1768509000@trustdtsa.com
SUMMARY:Ultimate Chef Battle 6pm & 8:30pm
DESCRIPTION:If you ever wanted to be a judge on Top Chef or Chopped\, this is the dinner for you. Chefs Jason\, Chuy and Kyle will each make 4 courses\, anything goes\, and you decide who wins the best meal of the night! $195 per person includes food\, tax and gratuity. Optional wine pairing add-on for $65 per person.
URL:https://trustdtsa.com/event/ultimate-chef-battle-6pm-830pm-2/
LOCATION:Trust Kitchen\, 220 E. Fourth Street\, Santa Ana\, CA\, 92701\, United States
END:VEVENT
BEGIN:VEVENT
DTSTART;TZID=America/Los_Angeles:20260114T180000
DTEND;TZID=America/Los_Angeles:20260114T203000
DTSTAMP:20260423T125659
CREATED:20251218T214805Z
LAST-MODIFIED:20251218T214805Z
UID:10000665-1768413600-1768422600@trustdtsa.com
SUMMARY:Ultimate Chef Battle 6pm & 8:30pm
DESCRIPTION:If you ever wanted to be a judge on Top Chef or Chopped\, this is the dinner for you. Chefs Jason\, Chuy and Kyle will each make 4 courses\, anything goes\, and you decide who wins the best meal of the night! $195 per person includes food\, tax and gratuity. Optional wine pairing add-on for $65 per person.
URL:https://trustdtsa.com/event/ultimate-chef-battle-6pm-830pm/
LOCATION:Trust Kitchen\, 220 E. Fourth Street\, Santa Ana\, CA\, 92701\, United States
END:VEVENT
BEGIN:VEVENT
DTSTART;TZID=America/Los_Angeles:20260110T180000
DTEND;TZID=America/Los_Angeles:20260110T203000
DTSTAMP:20260423T125659
CREATED:20251209T203424Z
LAST-MODIFIED:20251218T215331Z
UID:10000655-1768068000-1768077000@trustdtsa.com
SUMMARY:Trust Dinner Party 6pm & 8:30pm
DESCRIPTION:The Trust Kitchen team is selecting the most exciting and inspiring ingredients and putting together a dinner party for 18. $195 per person\, food\, tax and gratuities included. Optional wine pairing add on $65 per person.
URL:https://trustdtsa.com/event/trust-dinner-party-6pm-830pm-66/
LOCATION:Trust Kitchen\, 220 E. Fourth Street\, Santa Ana\, CA\, 92701\, United States
END:VEVENT
BEGIN:VEVENT
DTSTART;TZID=America/Los_Angeles:20260109T180000
DTEND;TZID=America/Los_Angeles:20260109T203000
DTSTAMP:20260423T125659
CREATED:20251209T203331Z
LAST-MODIFIED:20251218T215354Z
UID:10000654-1767981600-1767990600@trustdtsa.com
SUMMARY:Trust Dinner Party 6pm & 8:30pm
DESCRIPTION:The Trust Kitchen team is selecting the most exciting and inspiring ingredients and putting together a dinner party for 18. $195 per person\, food\, tax and gratuities included. Optional wine pairing add on $65 per person.
URL:https://trustdtsa.com/event/trust-dinner-party-6pm-830pm-65/
LOCATION:Trust Kitchen\, 220 E. Fourth Street\, Santa Ana\, CA\, 92701\, United States
END:VEVENT
BEGIN:VEVENT
DTSTART;TZID=America/Los_Angeles:20260108T180000
DTEND;TZID=America/Los_Angeles:20260108T203000
DTSTAMP:20260423T125659
CREATED:20251218T214550Z
LAST-MODIFIED:20251218T214550Z
UID:10000664-1767895200-1767904200@trustdtsa.com
SUMMARY:New and Improved Ultimate Steak Dinner 6pm & 8:30pm
DESCRIPTION:After almost a decade of the same steak dinner\, we have improved our grilling technique\, started pre-smoking some of the steaks and have new proprietary flake steak that has gone over with incredible success. We plan to continue to evolve and improve everyone’s favorite steak dinner! $195 per person includes food\, tax and gratuity. Optional wine pairing add-on for $65 per person.
URL:https://trustdtsa.com/event/new-and-improved-ultimate-steak-dinner-6pm-830pm-2/
LOCATION:Trust Kitchen\, 220 E. Fourth Street\, Santa Ana\, CA\, 92701\, United States
END:VEVENT
BEGIN:VEVENT
DTSTART;TZID=America/Los_Angeles:20260107T180000
DTEND;TZID=America/Los_Angeles:20260107T203000
DTSTAMP:20260423T125659
CREATED:20251218T214439Z
LAST-MODIFIED:20251218T214439Z
UID:10000663-1767808800-1767817800@trustdtsa.com
SUMMARY:New and Improved Ultimate Steak Dinner 6pm & 8:30pm
DESCRIPTION:After almost a decade of the same steak dinner\, we have improved our grilling technique\, started pre-smoking some of the steaks and have new proprietary flake steak that has gone over with incredible success. We plan to continue to evolve and improve everyone’s favorite steak dinner! $195 per person includes food\, tax and gratuity. Optional wine pairing add-on for $65 per person.
URL:https://trustdtsa.com/event/new-and-improved-ultimate-steak-dinner-6pm-830pm/
LOCATION:Trust Kitchen\, 220 E. Fourth Street\, Santa Ana\, CA\, 92701\, United States
END:VEVENT
BEGIN:VEVENT
DTSTART;TZID=America/Los_Angeles:20260103T180000
DTEND;TZID=America/Los_Angeles:20260103T203000
DTSTAMP:20260423T125659
CREATED:20251209T202849Z
LAST-MODIFIED:20251218T215422Z
UID:10000653-1767463200-1767472200@trustdtsa.com
SUMMARY:Trust Dinner Party 6pm & 8:30pm
DESCRIPTION:The Trust Kitchen team is selecting the most exciting and inspiring ingredients and putting together a dinner party for 18. $195 per person\, food\, tax and gratuities included. Optional wine pairing add on $65 per person.
URL:https://trustdtsa.com/event/trust-dinner-party-6pm-830pm-64/
LOCATION:Trust Kitchen\, 220 E. Fourth Street\, Santa Ana\, CA\, 92701\, United States
END:VEVENT
BEGIN:VEVENT
DTSTART;TZID=America/Los_Angeles:20260102T180000
DTEND;TZID=America/Los_Angeles:20260102T203000
DTSTAMP:20260423T125659
CREATED:20251209T202620Z
LAST-MODIFIED:20251218T215446Z
UID:10000652-1767376800-1767385800@trustdtsa.com
SUMMARY:Trust Dinner Party 6pm & 8:30pm
DESCRIPTION:The Trust Kitchen team is selecting the most exciting and inspiring ingredients and putting together a dinner party for 18. $195 per person\, food\, tax and gratuities included. Optional wine pairing add on $65 per person.
URL:https://trustdtsa.com/event/trust-dinner-party-6pm-830pm-63/
LOCATION:Trust Kitchen\, 220 E. Fourth Street\, Santa Ana\, CA\, 92701\, United States
END:VEVENT
BEGIN:VEVENT
DTSTART;TZID=America/Los_Angeles:20251231T220000
DTEND;TZID=America/Los_Angeles:20251231T235900
DTSTAMP:20260423T125659
CREATED:20251112T201259Z
LAST-MODIFIED:20251112T202009Z
UID:10000649-1767218400-1767225540@trustdtsa.com
SUMMARY:NYE Countdown (West Coast)
DESCRIPTION:Ring in the West Coast New Year with us! A special tasting menu that starts late so we can countdown to 2026 together! $275 per person for food\, tax\, and gratuity. Optional wine pairing for $50 per person
URL:https://trustdtsa.com/event/nye-countdown-west-coast/
LOCATION:Trust Kitchen\, 220 E. Fourth Street\, Santa Ana\, CA\, 92701\, United States
END:VEVENT
BEGIN:VEVENT
DTSTART;TZID=America/Los_Angeles:20251231T193000
DTEND;TZID=America/Los_Angeles:20251231T213000
DTSTAMP:20260423T125659
CREATED:20251112T201101Z
LAST-MODIFIED:20251112T201931Z
UID:10000648-1767209400-1767216600@trustdtsa.com
SUMMARY:NYE Countdown (East Coast)
DESCRIPTION:If you want to experience an NYE countdown\, but East Coast timing is more your speed\, join for a special tasting menu that will let you countdown with Times Square Ball Drop! $275 per person for food\, tax and gratuity. Optional wine pairing for $50 per person.
URL:https://trustdtsa.com/event/nye-countdown-east-coast/
LOCATION:Trust Kitchen\, 220 E. Fourth Street\, Santa Ana\, CA\, 92701\, United States
END:VEVENT
BEGIN:VEVENT
DTSTART;TZID=America/Los_Angeles:20251231T170000
DTEND;TZID=America/Los_Angeles:20251231T190000
DTSTAMP:20260423T125659
CREATED:20251112T200810Z
LAST-MODIFIED:20251112T201907Z
UID:10000647-1767200400-1767207600@trustdtsa.com
SUMMARY:Pre-Party NYE
DESCRIPTION:If you want the special dinner\, but you have a party to get to later\, join us for an early NYE tasting menu. $275 per person for food\, tax and gratuity. Optional wine pairing for $50 per person.
URL:https://trustdtsa.com/event/pre-party-nye/
LOCATION:Trust Kitchen\, 220 E. Fourth Street\, Santa Ana\, CA\, 92701\, United States
END:VEVENT
BEGIN:VEVENT
DTSTART;TZID=America/Los_Angeles:20251230T180000
DTEND;TZID=America/Los_Angeles:20251230T203000
DTSTAMP:20260423T125659
CREATED:20251112T200452Z
LAST-MODIFIED:20251112T200452Z
UID:10000646-1767117600-1767126600@trustdtsa.com
SUMMARY:Stress-Free NYE
DESCRIPTION:For those who want a special NYE dinner experience\, without the crowds! Join us for a fancy tasting menu. $250 per person for food\, tax and gratuity. Optional $50 per person wine pairing.
URL:https://trustdtsa.com/event/stress-free-nye/
LOCATION:Trust Kitchen\, 220 E. Fourth Street\, Santa Ana\, CA\, 92701\, United States
END:VEVENT
BEGIN:VEVENT
DTSTART;TZID=America/Los_Angeles:20251227T180000
DTEND;TZID=America/Los_Angeles:20251227T203000
DTSTAMP:20260423T125659
CREATED:20251111T172429Z
LAST-MODIFIED:20251111T172429Z
UID:10000645-1766858400-1766867400@trustdtsa.com
SUMMARY:Trust Dinner Party 6pm & 8:30pm
DESCRIPTION:The Trust Kitchen team is selecting the most exciting and inspiring ingredients and putting together a dinner party for 18. $195 per person\, food\, tax and gratuities included. Optional alcohol paring add on $65 or bring your own wine for $25 per person.
URL:https://trustdtsa.com/event/trust-dinner-party-6pm-830pm-62/
LOCATION:Trust Kitchen\, 220 E. Fourth Street\, Santa Ana\, CA\, 92701\, United States
END:VEVENT
BEGIN:VEVENT
DTSTART;TZID=America/Los_Angeles:20251226T180000
DTEND;TZID=America/Los_Angeles:20251226T203000
DTSTAMP:20260423T125659
CREATED:20251111T172341Z
LAST-MODIFIED:20251111T172341Z
UID:10000644-1766772000-1766781000@trustdtsa.com
SUMMARY:Trust Dinner Party 6pm & 8:30pm
DESCRIPTION:The Trust Kitchen team is selecting the most exciting and inspiring ingredients and putting together a dinner party for 18. $195 per person\, food\, tax and gratuities included. Optional alcohol paring add on $65 or bring your own wine for $25 per person.
URL:https://trustdtsa.com/event/trust-dinner-party-6pm-830pm-61/
LOCATION:Trust Kitchen\, 220 E. Fourth Street\, Santa Ana\, CA\, 92701\, United States
END:VEVENT
END:VCALENDAR