BEGIN:VCALENDAR
VERSION:2.0
PRODID:-//Trust - ECPv6.15.20//NONSGML v1.0//EN
CALSCALE:GREGORIAN
METHOD:PUBLISH
X-WR-CALNAME:Trust
X-ORIGINAL-URL:https://trustdtsa.com
X-WR-CALDESC:Events for Trust
REFRESH-INTERVAL;VALUE=DURATION:PT1H
X-Robots-Tag:noindex
X-PUBLISHED-TTL:PT1H
BEGIN:VTIMEZONE
TZID:America/Los_Angeles
BEGIN:DAYLIGHT
TZOFFSETFROM:-0800
TZOFFSETTO:-0700
TZNAME:PDT
DTSTART:20230312T100000
END:DAYLIGHT
BEGIN:STANDARD
TZOFFSETFROM:-0700
TZOFFSETTO:-0800
TZNAME:PST
DTSTART:20231105T090000
END:STANDARD
BEGIN:DAYLIGHT
TZOFFSETFROM:-0800
TZOFFSETTO:-0700
TZNAME:PDT
DTSTART:20240310T100000
END:DAYLIGHT
BEGIN:STANDARD
TZOFFSETFROM:-0700
TZOFFSETTO:-0800
TZNAME:PST
DTSTART:20241103T090000
END:STANDARD
BEGIN:DAYLIGHT
TZOFFSETFROM:-0800
TZOFFSETTO:-0700
TZNAME:PDT
DTSTART:20250309T100000
END:DAYLIGHT
BEGIN:STANDARD
TZOFFSETFROM:-0700
TZOFFSETTO:-0800
TZNAME:PST
DTSTART:20251102T090000
END:STANDARD
END:VTIMEZONE
BEGIN:VEVENT
DTSTART;TZID=America/Los_Angeles:20240608T180000
DTEND;TZID=America/Los_Angeles:20240608T223000
DTSTAMP:20260425T032517
CREATED:20240507T221912Z
LAST-MODIFIED:20240507T221912Z
UID:10000254-1717869600-1717885800@trustdtsa.com
SUMMARY:Trust Dinner Party 6:00 pm and 8:30 pm Seatings
DESCRIPTION:Chef Justin is selecting the most exciting and inspiring ingredients and putting together a dinner party for 18 of his closest friends. $250 per person\, food and wine pairings\, tax and gratuities included. \nPurchase your tickets here.
URL:https://trustdtsa.com/event/trust-dinner-party-600-pm-and-830-pm-seatings-29/
LOCATION:Trust Kitchen\, 220 E. Fourth Street\, Santa Ana\, CA\, 92701\, United States
ORGANIZER;CN="Kyle McClelland":MAILTO:Concierge@trustdtsa.com
END:VEVENT
BEGIN:VEVENT
DTSTART;TZID=America/Los_Angeles:20240607T180000
DTEND;TZID=America/Los_Angeles:20240607T223000
DTSTAMP:20260425T032517
CREATED:20240507T221611Z
LAST-MODIFIED:20240507T221611Z
UID:10000253-1717783200-1717799400@trustdtsa.com
SUMMARY:Trust Dinner Party 6:00 pm and 8:30 pm Seatings
DESCRIPTION:Chef Justin is selecting the most exciting and inspiring ingredients and putting together a dinner party for 18 of his closest friends. $250 per person\, food and wine pairings\, tax and gratuities included. \nPurchase your tickets here.
URL:https://trustdtsa.com/event/trust-dinner-party-600-pm-and-830-pm-seatings-28/
LOCATION:Trust Kitchen\, 220 E. Fourth Street\, Santa Ana\, CA\, 92701\, United States
ORGANIZER;CN="Kyle McClelland":MAILTO:Concierge@trustdtsa.com
END:VEVENT
BEGIN:VEVENT
DTSTART;TZID=America/Los_Angeles:20240606T180000
DTEND;TZID=America/Los_Angeles:20240606T223000
DTSTAMP:20260425T032517
CREATED:20240612T185004Z
LAST-MODIFIED:20240612T185004Z
UID:10000274-1717696800-1717713000@trustdtsa.com
SUMMARY:Trust Dinner Party 6:00 pm and 8:30 pm Seatings
DESCRIPTION:Chef Justin is selecting the most exciting and inspiring ingredients and putting together a dinner party for 18 of his closest friends. $250 per person\, food and wine pairings\, tax and gratuities included. \nPurchase your tickets here.
URL:https://trustdtsa.com/event/trust-dinner-party-600-pm-and-830-pm-seatings/
LOCATION:Trust Kitchen\, 220 E. Fourth Street\, Santa Ana\, CA\, 92701\, United States
ORGANIZER;CN="Kyle McClelland":MAILTO:Concierge@trustdtsa.com
END:VEVENT
BEGIN:VEVENT
DTSTART;VALUE=DATE:20240601
DTEND;VALUE=DATE:20240607
DTSTAMP:20260425T032518
CREATED:20240507T214857Z
LAST-MODIFIED:20240507T214857Z
UID:10000252-1717200000-1717718399@trustdtsa.com
SUMMARY:Closed
DESCRIPTION:
URL:https://trustdtsa.com/event/closed-3/
LOCATION:CA
END:VEVENT
END:VCALENDAR