BEGIN:VCALENDAR
VERSION:2.0
PRODID:-//Trust - ECPv6.15.20//NONSGML v1.0//EN
CALSCALE:GREGORIAN
METHOD:PUBLISH
X-ORIGINAL-URL:https://trustdtsa.com
X-WR-CALDESC:Events for Trust
REFRESH-INTERVAL;VALUE=DURATION:PT1H
X-Robots-Tag:noindex
X-PUBLISHED-TTL:PT1H
BEGIN:VTIMEZONE
TZID:America/Los_Angeles
BEGIN:DAYLIGHT
TZOFFSETFROM:-0800
TZOFFSETTO:-0700
TZNAME:PDT
DTSTART:20250309T100000
END:DAYLIGHT
BEGIN:STANDARD
TZOFFSETFROM:-0700
TZOFFSETTO:-0800
TZNAME:PST
DTSTART:20251102T090000
END:STANDARD
BEGIN:DAYLIGHT
TZOFFSETFROM:-0800
TZOFFSETTO:-0700
TZNAME:PDT
DTSTART:20260308T100000
END:DAYLIGHT
BEGIN:STANDARD
TZOFFSETFROM:-0700
TZOFFSETTO:-0800
TZNAME:PST
DTSTART:20261101T090000
END:STANDARD
BEGIN:DAYLIGHT
TZOFFSETFROM:-0800
TZOFFSETTO:-0700
TZNAME:PDT
DTSTART:20270314T100000
END:DAYLIGHT
BEGIN:STANDARD
TZOFFSETFROM:-0700
TZOFFSETTO:-0800
TZNAME:PST
DTSTART:20271107T090000
END:STANDARD
END:VTIMEZONE
BEGIN:VEVENT
DTSTART;TZID=America/Los_Angeles:20260228T180000
DTEND;TZID=America/Los_Angeles:20260228T203000
DTSTAMP:20260423T084333
CREATED:20260121T181744Z
LAST-MODIFIED:20260121T181744Z
UID:10000684-1772301600-1772310600@trustdtsa.com
SUMMARY:Trust Lite with Chef Chuy and Chef Kyle 6pm & 8:30pm
DESCRIPTION:While Chef Jason is in Spain exploring his future home base\, Chef Chuy and Chef Kyle will be taking over! They are offering Trust Lite. A menu a little lighter than the typical Trust Dinner Party (think 7-8 courses\, rather than 12-13). $125 per person includes food\, tax and gratuity. Option wine pairing add-on for $65 per person.
URL:https://trustdtsa.com/event/trust-lite-with-chef-chuy-and-chef-kyle-6pm-830pm-4/
LOCATION:Trust Kitchen\, 220 E. Fourth Street\, Santa Ana\, CA\, 92701\, United States
END:VEVENT
END:VCALENDAR