BEGIN:VCALENDAR
VERSION:2.0
PRODID:-//Trust - ECPv6.15.20//NONSGML v1.0//EN
CALSCALE:GREGORIAN
METHOD:PUBLISH
X-WR-CALNAME:Trust
X-ORIGINAL-URL:https://trustdtsa.com
X-WR-CALDESC:Events for Trust
REFRESH-INTERVAL;VALUE=DURATION:PT1H
X-Robots-Tag:noindex
X-PUBLISHED-TTL:PT1H
BEGIN:VTIMEZONE
TZID:America/Los_Angeles
BEGIN:DAYLIGHT
TZOFFSETFROM:-0800
TZOFFSETTO:-0700
TZNAME:PDT
DTSTART:20240310T100000
END:DAYLIGHT
BEGIN:STANDARD
TZOFFSETFROM:-0700
TZOFFSETTO:-0800
TZNAME:PST
DTSTART:20241103T090000
END:STANDARD
BEGIN:DAYLIGHT
TZOFFSETFROM:-0800
TZOFFSETTO:-0700
TZNAME:PDT
DTSTART:20250309T100000
END:DAYLIGHT
BEGIN:STANDARD
TZOFFSETFROM:-0700
TZOFFSETTO:-0800
TZNAME:PST
DTSTART:20251102T090000
END:STANDARD
BEGIN:DAYLIGHT
TZOFFSETFROM:-0800
TZOFFSETTO:-0700
TZNAME:PDT
DTSTART:20260308T100000
END:DAYLIGHT
BEGIN:STANDARD
TZOFFSETFROM:-0700
TZOFFSETTO:-0800
TZNAME:PST
DTSTART:20261101T090000
END:STANDARD
END:VTIMEZONE
BEGIN:VEVENT
DTSTART;TZID=America/Los_Angeles:20251010T190000
DTEND;TZID=America/Los_Angeles:20251010T213000
DTSTAMP:20260423T165930
CREATED:20250827T192608Z
LAST-MODIFIED:20250827T192608Z
UID:10000598-1760122800-1760131800@trustdtsa.com
SUMMARY:Cheat Codes 6pm & 8:30pm
DESCRIPTION:Unlock the secrets of world-class cuisine with Cheat Codes\, an 18-seat dinner experience led by Chef Kyle McClelland. This exclusive menu recreates iconic dishes from Michelin restaurants that Chef has been inspired by or enjoyed personally. Join the Trust Team for a night of culinary homage\, innovation\, and unforgettable flavors. $250 per person includes all food\, wine pairing\, taxes and gratuity. \nPurchase your tickets here. 
URL:https://trustdtsa.com/event/cheat-codes-6pm-830pm/
LOCATION:Trust Kitchen\, 220 E. Fourth Street\, Santa Ana\, CA\, 92701\, United States
ORGANIZER;CN="Kyle McClelland":MAILTO:Concierge@trustdtsa.com
END:VEVENT
END:VCALENDAR