BEGIN:VCALENDAR
VERSION:2.0
PRODID:-//Trust - ECPv6.15.20//NONSGML v1.0//EN
CALSCALE:GREGORIAN
METHOD:PUBLISH
X-ORIGINAL-URL:https://trustdtsa.com
X-WR-CALDESC:Events for Trust
REFRESH-INTERVAL;VALUE=DURATION:PT1H
X-Robots-Tag:noindex
X-PUBLISHED-TTL:PT1H
BEGIN:VTIMEZONE
TZID:America/Los_Angeles
BEGIN:DAYLIGHT
TZOFFSETFROM:-0800
TZOFFSETTO:-0700
TZNAME:PDT
DTSTART:20230312T100000
END:DAYLIGHT
BEGIN:STANDARD
TZOFFSETFROM:-0700
TZOFFSETTO:-0800
TZNAME:PST
DTSTART:20231105T090000
END:STANDARD
BEGIN:DAYLIGHT
TZOFFSETFROM:-0800
TZOFFSETTO:-0700
TZNAME:PDT
DTSTART:20240310T100000
END:DAYLIGHT
BEGIN:STANDARD
TZOFFSETFROM:-0700
TZOFFSETTO:-0800
TZNAME:PST
DTSTART:20241103T090000
END:STANDARD
BEGIN:DAYLIGHT
TZOFFSETFROM:-0800
TZOFFSETTO:-0700
TZNAME:PDT
DTSTART:20250309T100000
END:DAYLIGHT
BEGIN:STANDARD
TZOFFSETFROM:-0700
TZOFFSETTO:-0800
TZNAME:PST
DTSTART:20251102T090000
END:STANDARD
END:VTIMEZONE
BEGIN:VEVENT
DTSTART;TZID=America/Los_Angeles:20241112T180000
DTEND;TZID=America/Los_Angeles:20241112T223000
DTSTAMP:20260424T152039
CREATED:20241018T213155Z
LAST-MODIFIED:20241018T213155Z
UID:10000359-1731434400-1731450600@trustdtsa.com
SUMMARY:Introduction to Caviar 6pm & 8:30pm Seatings
DESCRIPTION:Chef Kyle spent part of his formative years at Caviar Russe in New York.  There he came to understand and appreciate the potential and beauty of caviar.  He has chosen to use his first night as the executive chef of the Trust Kitchen to share with you the many facets of this delicacy.  $225 per person\, food and wine pairings\, tax and gratuities included. \nPurchase your tickets here. \n  \n 
URL:https://trustdtsa.com/event/introduction-to-caviar-6pm-830pm-seatings/
LOCATION:Trust Kitchen\, 220 E. Fourth Street\, Santa Ana\, CA\, 92701\, United States
END:VEVENT
END:VCALENDAR